BEGIN:VCALENDAR
VERSION:2.0
PRODID:-//TouchPoint Stansted - ECPv6.15.20//NONSGML v1.0//EN
CALSCALE:GREGORIAN
METHOD:PUBLISH
X-ORIGINAL-URL:https://www.thetouchpoint.org
X-WR-CALDESC:Events for TouchPoint Stansted
REFRESH-INTERVAL;VALUE=DURATION:PT1H
X-Robots-Tag:noindex
X-PUBLISHED-TTL:PT1H
BEGIN:VTIMEZONE
TZID:Europe/London
BEGIN:DAYLIGHT
TZOFFSETFROM:+0000
TZOFFSETTO:+0100
TZNAME:BST
DTSTART:20220327T010000
END:DAYLIGHT
BEGIN:STANDARD
TZOFFSETFROM:+0100
TZOFFSETTO:+0000
TZNAME:GMT
DTSTART:20221030T010000
END:STANDARD
BEGIN:DAYLIGHT
TZOFFSETFROM:+0000
TZOFFSETTO:+0100
TZNAME:BST
DTSTART:20230326T010000
END:DAYLIGHT
BEGIN:STANDARD
TZOFFSETFROM:+0100
TZOFFSETTO:+0000
TZNAME:GMT
DTSTART:20231029T010000
END:STANDARD
BEGIN:DAYLIGHT
TZOFFSETFROM:+0000
TZOFFSETTO:+0100
TZNAME:BST
DTSTART:20240331T010000
END:DAYLIGHT
BEGIN:STANDARD
TZOFFSETFROM:+0100
TZOFFSETTO:+0000
TZNAME:GMT
DTSTART:20241027T010000
END:STANDARD
END:VTIMEZONE
BEGIN:VEVENT
DTSTART;TZID=Europe/London:20230824T100000
DTEND;TZID=Europe/London:20230824T110000
DTSTAMP:20260421T115940
CREATED:20230602T104535Z
LAST-MODIFIED:20250407T093544Z
UID:10000792-1692871200-1692874800@www.thetouchpoint.org
SUMMARY:Takeley Community Food Share
DESCRIPTION:Our wonderful volunteers will be setting up our stalls at the Takeley Old School Community Hub on Dunmow Road from 10am to 11am. We will have lots of great fresh produce to share. Absolutely everyone is welcome\, it is for everyone: we just want to make sure everything finds a new home! \nEvery item is free\, the only thing you need to bring is a bag. \nFind us at the Old School Community Hub\, Dunmow Road\, CM22 6OJ – not far from the Four Ashes pub at the crossroads. \nIf you have any queries or would like to find out how to get involved\, please email us on info@thetouchpoint.org\, or call 07572 114882.
URL:https://www.thetouchpoint.org/event/takeley-community-food-share/2023-08-24/
LOCATION:Takeley Old School Community Hub\, Dunmow Road\, Takeley\, Essex\, CM22 6OJ\, United Kingdom
CATEGORIES:Events
ATTACH;FMTTYPE=image/png:https://www.thetouchpoint.org/app/uploads/2023/06/THURSDAY-Takeley-new.png
ORGANIZER;CN="TouchPoint Stansted":MAILTO:info@thetouchpoint.org
END:VEVENT
BEGIN:VEVENT
DTSTART;TZID=Europe/London:20230824T091500
DTEND;TZID=Europe/London:20230824T100000
DTSTAMP:20260421T115940
CREATED:20230717T125024Z
LAST-MODIFIED:20231117T133437Z
UID:10001098-1692868500-1692871200@www.thetouchpoint.org
SUMMARY:She's Ready Takeley: Thursday run and bootcamp
DESCRIPTION:Join the She’s Ready Takeley group for a weekly free run and bootcamp session. The session begins at 9.15am for 45 mins. Followed by tea\, coffee and cake (and the Touchpoint Foodshare!) \nMeet at the Takeley Old School Community Hub\, Dummow Road\, Takeley\, CM22 6OJ. \nTo find out more\, join their Facebook group here or email info@thetouchpoint.org.
URL:https://www.thetouchpoint.org/event/shes-ready-takeley-thursday-run-and-bootcamp/2023-08-24/
LOCATION:Takeley Old School Community Hub\, Dunmow Road\, Takeley\, Essex\, CM22 6OJ\, United Kingdom
END:VEVENT
BEGIN:VEVENT
DTSTART;TZID=Europe/London:20230817T100000
DTEND;TZID=Europe/London:20230817T110000
DTSTAMP:20260421T115940
CREATED:20230602T104535Z
LAST-MODIFIED:20250407T093544Z
UID:10000791-1692266400-1692270000@www.thetouchpoint.org
SUMMARY:Takeley Community Food Share
DESCRIPTION:Our wonderful volunteers will be setting up our stalls at the Takeley Old School Community Hub on Dunmow Road from 10am to 11am. We will have lots of great fresh produce to share. Absolutely everyone is welcome\, it is for everyone: we just want to make sure everything finds a new home! \nEvery item is free\, the only thing you need to bring is a bag. \nFind us at the Old School Community Hub\, Dunmow Road\, CM22 6OJ – not far from the Four Ashes pub at the crossroads. \nIf you have any queries or would like to find out how to get involved\, please email us on info@thetouchpoint.org\, or call 07572 114882.
URL:https://www.thetouchpoint.org/event/takeley-community-food-share/2023-08-17/
LOCATION:Takeley Old School Community Hub\, Dunmow Road\, Takeley\, Essex\, CM22 6OJ\, United Kingdom
CATEGORIES:Events
ATTACH;FMTTYPE=image/png:https://www.thetouchpoint.org/app/uploads/2023/06/THURSDAY-Takeley-new.png
ORGANIZER;CN="TouchPoint Stansted":MAILTO:info@thetouchpoint.org
END:VEVENT
BEGIN:VEVENT
DTSTART;TZID=Europe/London:20230817T091500
DTEND;TZID=Europe/London:20230817T100000
DTSTAMP:20260421T115940
CREATED:20230717T125024Z
LAST-MODIFIED:20231117T133437Z
UID:10001097-1692263700-1692266400@www.thetouchpoint.org
SUMMARY:She's Ready Takeley: Thursday run and bootcamp
DESCRIPTION:Join the She’s Ready Takeley group for a weekly free run and bootcamp session. The session begins at 9.15am for 45 mins. Followed by tea\, coffee and cake (and the Touchpoint Foodshare!) \nMeet at the Takeley Old School Community Hub\, Dummow Road\, Takeley\, CM22 6OJ. \nTo find out more\, join their Facebook group here or email info@thetouchpoint.org.
URL:https://www.thetouchpoint.org/event/shes-ready-takeley-thursday-run-and-bootcamp/2023-08-17/
LOCATION:Takeley Old School Community Hub\, Dunmow Road\, Takeley\, Essex\, CM22 6OJ\, United Kingdom
END:VEVENT
BEGIN:VEVENT
DTSTART;TZID=Europe/London:20230810T100000
DTEND;TZID=Europe/London:20230810T110000
DTSTAMP:20260421T115940
CREATED:20230602T104535Z
LAST-MODIFIED:20250407T093544Z
UID:10000790-1691661600-1691665200@www.thetouchpoint.org
SUMMARY:Takeley Community Food Share
DESCRIPTION:Our wonderful volunteers will be setting up our stalls at the Takeley Old School Community Hub on Dunmow Road from 10am to 11am. We will have lots of great fresh produce to share. Absolutely everyone is welcome\, it is for everyone: we just want to make sure everything finds a new home! \nEvery item is free\, the only thing you need to bring is a bag. \nFind us at the Old School Community Hub\, Dunmow Road\, CM22 6OJ – not far from the Four Ashes pub at the crossroads. \nIf you have any queries or would like to find out how to get involved\, please email us on info@thetouchpoint.org\, or call 07572 114882.
URL:https://www.thetouchpoint.org/event/takeley-community-food-share/2023-08-10/
LOCATION:Takeley Old School Community Hub\, Dunmow Road\, Takeley\, Essex\, CM22 6OJ\, United Kingdom
CATEGORIES:Events
ATTACH;FMTTYPE=image/png:https://www.thetouchpoint.org/app/uploads/2023/06/THURSDAY-Takeley-new.png
ORGANIZER;CN="TouchPoint Stansted":MAILTO:info@thetouchpoint.org
END:VEVENT
BEGIN:VEVENT
DTSTART;TZID=Europe/London:20230810T091500
DTEND;TZID=Europe/London:20230810T100000
DTSTAMP:20260421T115940
CREATED:20230717T125024Z
LAST-MODIFIED:20231117T133437Z
UID:10001096-1691658900-1691661600@www.thetouchpoint.org
SUMMARY:She's Ready Takeley: Thursday run and bootcamp
DESCRIPTION:Join the She’s Ready Takeley group for a weekly free run and bootcamp session. The session begins at 9.15am for 45 mins. Followed by tea\, coffee and cake (and the Touchpoint Foodshare!) \nMeet at the Takeley Old School Community Hub\, Dummow Road\, Takeley\, CM22 6OJ. \nTo find out more\, join their Facebook group here or email info@thetouchpoint.org.
URL:https://www.thetouchpoint.org/event/shes-ready-takeley-thursday-run-and-bootcamp/2023-08-10/
LOCATION:Takeley Old School Community Hub\, Dunmow Road\, Takeley\, Essex\, CM22 6OJ\, United Kingdom
END:VEVENT
BEGIN:VEVENT
DTSTART;TZID=Europe/London:20230803T100000
DTEND;TZID=Europe/London:20230803T110000
DTSTAMP:20260421T115940
CREATED:20230602T104535Z
LAST-MODIFIED:20250407T093544Z
UID:10000789-1691056800-1691060400@www.thetouchpoint.org
SUMMARY:Takeley Community Food Share
DESCRIPTION:Our wonderful volunteers will be setting up our stalls at the Takeley Old School Community Hub on Dunmow Road from 10am to 11am. We will have lots of great fresh produce to share. Absolutely everyone is welcome\, it is for everyone: we just want to make sure everything finds a new home! \nEvery item is free\, the only thing you need to bring is a bag. \nFind us at the Old School Community Hub\, Dunmow Road\, CM22 6OJ – not far from the Four Ashes pub at the crossroads. \nIf you have any queries or would like to find out how to get involved\, please email us on info@thetouchpoint.org\, or call 07572 114882.
URL:https://www.thetouchpoint.org/event/takeley-community-food-share/2023-08-03/
LOCATION:Takeley Old School Community Hub\, Dunmow Road\, Takeley\, Essex\, CM22 6OJ\, United Kingdom
CATEGORIES:Events
ATTACH;FMTTYPE=image/png:https://www.thetouchpoint.org/app/uploads/2023/06/THURSDAY-Takeley-new.png
ORGANIZER;CN="TouchPoint Stansted":MAILTO:info@thetouchpoint.org
END:VEVENT
BEGIN:VEVENT
DTSTART;TZID=Europe/London:20230803T091500
DTEND;TZID=Europe/London:20230803T100000
DTSTAMP:20260421T115940
CREATED:20230717T125024Z
LAST-MODIFIED:20231117T133437Z
UID:10001095-1691054100-1691056800@www.thetouchpoint.org
SUMMARY:She's Ready Takeley: Thursday run and bootcamp
DESCRIPTION:Join the She’s Ready Takeley group for a weekly free run and bootcamp session. The session begins at 9.15am for 45 mins. Followed by tea\, coffee and cake (and the Touchpoint Foodshare!) \nMeet at the Takeley Old School Community Hub\, Dummow Road\, Takeley\, CM22 6OJ. \nTo find out more\, join their Facebook group here or email info@thetouchpoint.org.
URL:https://www.thetouchpoint.org/event/shes-ready-takeley-thursday-run-and-bootcamp/2023-08-03/
LOCATION:Takeley Old School Community Hub\, Dunmow Road\, Takeley\, Essex\, CM22 6OJ\, United Kingdom
END:VEVENT
BEGIN:VEVENT
DTSTART;TZID=Europe/London:20230727T100000
DTEND;TZID=Europe/London:20230727T110000
DTSTAMP:20260421T115940
CREATED:20230602T104535Z
LAST-MODIFIED:20250407T093544Z
UID:10000788-1690452000-1690455600@www.thetouchpoint.org
SUMMARY:Takeley Community Food Share
DESCRIPTION:Our wonderful volunteers will be setting up our stalls at the Takeley Old School Community Hub on Dunmow Road from 10am to 11am. We will have lots of great fresh produce to share. Absolutely everyone is welcome\, it is for everyone: we just want to make sure everything finds a new home! \nEvery item is free\, the only thing you need to bring is a bag. \nFind us at the Old School Community Hub\, Dunmow Road\, CM22 6OJ – not far from the Four Ashes pub at the crossroads. \nIf you have any queries or would like to find out how to get involved\, please email us on info@thetouchpoint.org\, or call 07572 114882.
URL:https://www.thetouchpoint.org/event/takeley-community-food-share/2023-07-27/
LOCATION:Takeley Old School Community Hub\, Dunmow Road\, Takeley\, Essex\, CM22 6OJ\, United Kingdom
CATEGORIES:Events
ATTACH;FMTTYPE=image/png:https://www.thetouchpoint.org/app/uploads/2023/06/THURSDAY-Takeley-new.png
ORGANIZER;CN="TouchPoint Stansted":MAILTO:info@thetouchpoint.org
END:VEVENT
BEGIN:VEVENT
DTSTART;TZID=Europe/London:20230727T091500
DTEND;TZID=Europe/London:20230727T100000
DTSTAMP:20260421T115940
CREATED:20230717T125024Z
LAST-MODIFIED:20231117T133437Z
UID:10001094-1690449300-1690452000@www.thetouchpoint.org
SUMMARY:She's Ready Takeley: Thursday run and bootcamp
DESCRIPTION:Join the She’s Ready Takeley group for a weekly free run and bootcamp session. The session begins at 9.15am for 45 mins. Followed by tea\, coffee and cake (and the Touchpoint Foodshare!) \nMeet at the Takeley Old School Community Hub\, Dummow Road\, Takeley\, CM22 6OJ. \nTo find out more\, join their Facebook group here or email info@thetouchpoint.org.
URL:https://www.thetouchpoint.org/event/shes-ready-takeley-thursday-run-and-bootcamp/2023-07-27/
LOCATION:Takeley Old School Community Hub\, Dunmow Road\, Takeley\, Essex\, CM22 6OJ\, United Kingdom
END:VEVENT
BEGIN:VEVENT
DTSTART;TZID=Europe/London:20230720T100000
DTEND;TZID=Europe/London:20230720T110000
DTSTAMP:20260421T115940
CREATED:20230602T104535Z
LAST-MODIFIED:20250407T093544Z
UID:10000787-1689847200-1689850800@www.thetouchpoint.org
SUMMARY:Takeley Community Food Share
DESCRIPTION:Our wonderful volunteers will be setting up our stalls at the Takeley Old School Community Hub on Dunmow Road from 10am to 11am. We will have lots of great fresh produce to share. Absolutely everyone is welcome\, it is for everyone: we just want to make sure everything finds a new home! \nEvery item is free\, the only thing you need to bring is a bag. \nFind us at the Old School Community Hub\, Dunmow Road\, CM22 6OJ – not far from the Four Ashes pub at the crossroads. \nIf you have any queries or would like to find out how to get involved\, please email us on info@thetouchpoint.org\, or call 07572 114882.
URL:https://www.thetouchpoint.org/event/takeley-community-food-share/2023-07-20/
LOCATION:Takeley Old School Community Hub\, Dunmow Road\, Takeley\, Essex\, CM22 6OJ\, United Kingdom
CATEGORIES:Events
ATTACH;FMTTYPE=image/png:https://www.thetouchpoint.org/app/uploads/2023/06/THURSDAY-Takeley-new.png
ORGANIZER;CN="TouchPoint Stansted":MAILTO:info@thetouchpoint.org
END:VEVENT
BEGIN:VEVENT
DTSTART;TZID=Europe/London:20230720T091500
DTEND;TZID=Europe/London:20230720T100000
DTSTAMP:20260421T115940
CREATED:20230717T125024Z
LAST-MODIFIED:20231117T133437Z
UID:10001093-1689844500-1689847200@www.thetouchpoint.org
SUMMARY:She's Ready Takeley: Thursday run and bootcamp
DESCRIPTION:Join the She’s Ready Takeley group for a weekly free run and bootcamp session. The session begins at 9.15am for 45 mins. Followed by tea\, coffee and cake (and the Touchpoint Foodshare!) \nMeet at the Takeley Old School Community Hub\, Dummow Road\, Takeley\, CM22 6OJ. \nTo find out more\, join their Facebook group here or email info@thetouchpoint.org.
URL:https://www.thetouchpoint.org/event/shes-ready-takeley-thursday-run-and-bootcamp/2023-07-20/
LOCATION:Takeley Old School Community Hub\, Dunmow Road\, Takeley\, Essex\, CM22 6OJ\, United Kingdom
END:VEVENT
BEGIN:VEVENT
DTSTART;TZID=Europe/London:20230713T100000
DTEND;TZID=Europe/London:20230713T110000
DTSTAMP:20260421T115940
CREATED:20230602T104535Z
LAST-MODIFIED:20250407T093544Z
UID:10000786-1689242400-1689246000@www.thetouchpoint.org
SUMMARY:Takeley Community Food Share
DESCRIPTION:Our wonderful volunteers will be setting up our stalls at the Takeley Old School Community Hub on Dunmow Road from 10am to 11am. We will have lots of great fresh produce to share. Absolutely everyone is welcome\, it is for everyone: we just want to make sure everything finds a new home! \nEvery item is free\, the only thing you need to bring is a bag. \nFind us at the Old School Community Hub\, Dunmow Road\, CM22 6OJ – not far from the Four Ashes pub at the crossroads. \nIf you have any queries or would like to find out how to get involved\, please email us on info@thetouchpoint.org\, or call 07572 114882.
URL:https://www.thetouchpoint.org/event/takeley-community-food-share/2023-07-13/
LOCATION:Takeley Old School Community Hub\, Dunmow Road\, Takeley\, Essex\, CM22 6OJ\, United Kingdom
CATEGORIES:Events
ATTACH;FMTTYPE=image/png:https://www.thetouchpoint.org/app/uploads/2023/06/THURSDAY-Takeley-new.png
ORGANIZER;CN="TouchPoint Stansted":MAILTO:info@thetouchpoint.org
END:VEVENT
BEGIN:VEVENT
DTSTART;TZID=Europe/London:20230706T100000
DTEND;TZID=Europe/London:20230706T110000
DTSTAMP:20260421T115940
CREATED:20230602T104535Z
LAST-MODIFIED:20250407T093544Z
UID:10000785-1688637600-1688641200@www.thetouchpoint.org
SUMMARY:Takeley Community Food Share
DESCRIPTION:Our wonderful volunteers will be setting up our stalls at the Takeley Old School Community Hub on Dunmow Road from 10am to 11am. We will have lots of great fresh produce to share. Absolutely everyone is welcome\, it is for everyone: we just want to make sure everything finds a new home! \nEvery item is free\, the only thing you need to bring is a bag. \nFind us at the Old School Community Hub\, Dunmow Road\, CM22 6OJ – not far from the Four Ashes pub at the crossroads. \nIf you have any queries or would like to find out how to get involved\, please email us on info@thetouchpoint.org\, or call 07572 114882.
URL:https://www.thetouchpoint.org/event/takeley-community-food-share/2023-07-06/
LOCATION:Takeley Old School Community Hub\, Dunmow Road\, Takeley\, Essex\, CM22 6OJ\, United Kingdom
CATEGORIES:Events
ATTACH;FMTTYPE=image/png:https://www.thetouchpoint.org/app/uploads/2023/06/THURSDAY-Takeley-new.png
ORGANIZER;CN="TouchPoint Stansted":MAILTO:info@thetouchpoint.org
END:VEVENT
BEGIN:VEVENT
DTSTART;TZID=Europe/London:20230629T100000
DTEND;TZID=Europe/London:20230629T110000
DTSTAMP:20260421T115940
CREATED:20230602T104535Z
LAST-MODIFIED:20250407T093544Z
UID:10000784-1688032800-1688036400@www.thetouchpoint.org
SUMMARY:Takeley Community Food Share
DESCRIPTION:Our wonderful volunteers will be setting up our stalls at the Takeley Old School Community Hub on Dunmow Road from 10am to 11am. We will have lots of great fresh produce to share. Absolutely everyone is welcome\, it is for everyone: we just want to make sure everything finds a new home! \nEvery item is free\, the only thing you need to bring is a bag. \nFind us at the Old School Community Hub\, Dunmow Road\, CM22 6OJ – not far from the Four Ashes pub at the crossroads. \nIf you have any queries or would like to find out how to get involved\, please email us on info@thetouchpoint.org\, or call 07572 114882.
URL:https://www.thetouchpoint.org/event/takeley-community-food-share/2023-06-29/
LOCATION:Takeley Old School Community Hub\, Dunmow Road\, Takeley\, Essex\, CM22 6OJ\, United Kingdom
CATEGORIES:Events
ATTACH;FMTTYPE=image/png:https://www.thetouchpoint.org/app/uploads/2023/06/THURSDAY-Takeley-new.png
ORGANIZER;CN="TouchPoint Stansted":MAILTO:info@thetouchpoint.org
END:VEVENT
BEGIN:VEVENT
DTSTART;TZID=Europe/London:20230622T100000
DTEND;TZID=Europe/London:20230622T110000
DTSTAMP:20260421T115940
CREATED:20230602T104535Z
LAST-MODIFIED:20250407T093544Z
UID:10000783-1687428000-1687431600@www.thetouchpoint.org
SUMMARY:Takeley Community Food Share
DESCRIPTION:Our wonderful volunteers will be setting up our stalls at the Takeley Old School Community Hub on Dunmow Road from 10am to 11am. We will have lots of great fresh produce to share. Absolutely everyone is welcome\, it is for everyone: we just want to make sure everything finds a new home! \nEvery item is free\, the only thing you need to bring is a bag. \nFind us at the Old School Community Hub\, Dunmow Road\, CM22 6OJ – not far from the Four Ashes pub at the crossroads. \nIf you have any queries or would like to find out how to get involved\, please email us on info@thetouchpoint.org\, or call 07572 114882.
URL:https://www.thetouchpoint.org/event/takeley-community-food-share/2023-06-22/
LOCATION:Takeley Old School Community Hub\, Dunmow Road\, Takeley\, Essex\, CM22 6OJ\, United Kingdom
CATEGORIES:Events
ATTACH;FMTTYPE=image/png:https://www.thetouchpoint.org/app/uploads/2023/06/THURSDAY-Takeley-new.png
ORGANIZER;CN="TouchPoint Stansted":MAILTO:info@thetouchpoint.org
END:VEVENT
BEGIN:VEVENT
DTSTART;TZID=Europe/London:20230615T100000
DTEND;TZID=Europe/London:20230615T110000
DTSTAMP:20260421T115940
CREATED:20230602T104535Z
LAST-MODIFIED:20250407T093544Z
UID:10000782-1686823200-1686826800@www.thetouchpoint.org
SUMMARY:Takeley Community Food Share
DESCRIPTION:Our wonderful volunteers will be setting up our stalls at the Takeley Old School Community Hub on Dunmow Road from 10am to 11am. We will have lots of great fresh produce to share. Absolutely everyone is welcome\, it is for everyone: we just want to make sure everything finds a new home! \nEvery item is free\, the only thing you need to bring is a bag. \nFind us at the Old School Community Hub\, Dunmow Road\, CM22 6OJ – not far from the Four Ashes pub at the crossroads. \nIf you have any queries or would like to find out how to get involved\, please email us on info@thetouchpoint.org\, or call 07572 114882.
URL:https://www.thetouchpoint.org/event/takeley-community-food-share/2023-06-15/
LOCATION:Takeley Old School Community Hub\, Dunmow Road\, Takeley\, Essex\, CM22 6OJ\, United Kingdom
CATEGORIES:Events
ATTACH;FMTTYPE=image/png:https://www.thetouchpoint.org/app/uploads/2023/06/THURSDAY-Takeley-new.png
ORGANIZER;CN="TouchPoint Stansted":MAILTO:info@thetouchpoint.org
END:VEVENT
BEGIN:VEVENT
DTSTART;TZID=Europe/London:20230608T100000
DTEND;TZID=Europe/London:20230608T110000
DTSTAMP:20260421T115940
CREATED:20230602T104535Z
LAST-MODIFIED:20250407T093544Z
UID:10000781-1686218400-1686222000@www.thetouchpoint.org
SUMMARY:Takeley Community Food Share
DESCRIPTION:Our wonderful volunteers will be setting up our stalls at the Takeley Old School Community Hub on Dunmow Road from 10am to 11am. We will have lots of great fresh produce to share. Absolutely everyone is welcome\, it is for everyone: we just want to make sure everything finds a new home! \nEvery item is free\, the only thing you need to bring is a bag. \nFind us at the Old School Community Hub\, Dunmow Road\, CM22 6OJ – not far from the Four Ashes pub at the crossroads. \nIf you have any queries or would like to find out how to get involved\, please email us on info@thetouchpoint.org\, or call 07572 114882.
URL:https://www.thetouchpoint.org/event/takeley-community-food-share/2023-06-08/
LOCATION:Takeley Old School Community Hub\, Dunmow Road\, Takeley\, Essex\, CM22 6OJ\, United Kingdom
CATEGORIES:Events
ATTACH;FMTTYPE=image/png:https://www.thetouchpoint.org/app/uploads/2023/06/THURSDAY-Takeley-new.png
ORGANIZER;CN="TouchPoint Stansted":MAILTO:info@thetouchpoint.org
END:VEVENT
BEGIN:VEVENT
DTSTART;TZID=Europe/London:20230525T100000
DTEND;TZID=Europe/London:20230525T110000
DTSTAMP:20260421T115940
CREATED:20230523T084014Z
LAST-MODIFIED:20230523T084014Z
UID:10000774-1685008800-1685012400@www.thetouchpoint.org
SUMMARY:Takeley Pop-up Community Food Share
DESCRIPTION:We’re excited to be bringing the TouchPoint Community Food Share to Takeley for the first time for a pop-up session on Thursday 25th May! \nOur wonderful volunteers will be setting up our stalls at the Takeley Old School Community Hub on Dunmow Road from 10am to 11am. We will have lots of great fresh produce to share. Absolutely everyone is welcome\, it is for everyone: we just want to make sure everything finds a new home! \nEvery item is free\, the only thing you need to bring is a bag. \nFind us at the Old School Community Hub\, Dunmow Road\, CM22 6OJ – not far from the Four Ashes pub at the crossroads. \nIf you have any queries or would like to find out how to get involved\, please email us on info@thetouchpoint.org\, or call 07572 114882.
URL:https://www.thetouchpoint.org/event/takeley-pop-up-community-food-share/
LOCATION:Takeley Old School Community Hub\, Dunmow Road\, Takeley\, Essex\, CM22 6OJ\, United Kingdom
ATTACH;FMTTYPE=image/png:https://www.thetouchpoint.org/app/uploads/2023/05/TAKELEY-POP-UP-2.png
ORGANIZER;CN="TouchPoint Stansted":MAILTO:info@thetouchpoint.org
END:VEVENT
END:VCALENDAR