BEGIN:VCALENDAR
VERSION:2.0
PRODID:-//TouchPoint Stansted - ECPv6.15.20//NONSGML v1.0//EN
CALSCALE:GREGORIAN
METHOD:PUBLISH
X-ORIGINAL-URL:https://www.thetouchpoint.org
X-WR-CALDESC:Events for TouchPoint Stansted
REFRESH-INTERVAL;VALUE=DURATION:PT1H
X-Robots-Tag:noindex
X-PUBLISHED-TTL:PT1H
BEGIN:VTIMEZONE
TZID:Europe/London
BEGIN:DAYLIGHT
TZOFFSETFROM:+0000
TZOFFSETTO:+0100
TZNAME:BST
DTSTART:20220327T010000
END:DAYLIGHT
BEGIN:STANDARD
TZOFFSETFROM:+0100
TZOFFSETTO:+0000
TZNAME:GMT
DTSTART:20221030T010000
END:STANDARD
BEGIN:DAYLIGHT
TZOFFSETFROM:+0000
TZOFFSETTO:+0100
TZNAME:BST
DTSTART:20230326T010000
END:DAYLIGHT
BEGIN:STANDARD
TZOFFSETFROM:+0100
TZOFFSETTO:+0000
TZNAME:GMT
DTSTART:20231029T010000
END:STANDARD
BEGIN:DAYLIGHT
TZOFFSETFROM:+0000
TZOFFSETTO:+0100
TZNAME:BST
DTSTART:20240331T010000
END:DAYLIGHT
BEGIN:STANDARD
TZOFFSETFROM:+0100
TZOFFSETTO:+0000
TZNAME:GMT
DTSTART:20241027T010000
END:STANDARD
END:VTIMEZONE
BEGIN:VEVENT
DTSTART;TZID=Europe/London:20231123T091500
DTEND;TZID=Europe/London:20231123T100000
DTSTAMP:20260419T211515
CREATED:20230717T125024Z
LAST-MODIFIED:20231117T133437Z
UID:10001111-1700730900-1700733600@www.thetouchpoint.org
SUMMARY:She's Ready Takeley: Thursday run and bootcamp
DESCRIPTION:Join the She’s Ready Takeley group for a weekly free run and bootcamp session. The session begins at 9.15am for 45 mins. Followed by tea\, coffee and cake (and the Touchpoint Foodshare!) \nMeet at the Takeley Old School Community Hub\, Dummow Road\, Takeley\, CM22 6OJ. \nTo find out more\, join their Facebook group here or email info@thetouchpoint.org.
URL:https://www.thetouchpoint.org/event/shes-ready-takeley-thursday-run-and-bootcamp/2023-11-23/
LOCATION:Takeley Old School Community Hub\, Dunmow Road\, Takeley\, Essex\, CM22 6OJ\, United Kingdom
END:VEVENT
BEGIN:VEVENT
DTSTART;TZID=Europe/London:20231116T091500
DTEND;TZID=Europe/London:20231116T100000
DTSTAMP:20260419T211515
CREATED:20230717T125024Z
LAST-MODIFIED:20231117T133437Z
UID:10001110-1700126100-1700128800@www.thetouchpoint.org
SUMMARY:She's Ready Takeley: Thursday run and bootcamp
DESCRIPTION:Join the She’s Ready Takeley group for a weekly free run and bootcamp session. The session begins at 9.15am for 45 mins. Followed by tea\, coffee and cake (and the Touchpoint Foodshare!) \nMeet at the Takeley Old School Community Hub\, Dummow Road\, Takeley\, CM22 6OJ. \nTo find out more\, join their Facebook group here or email info@thetouchpoint.org.
URL:https://www.thetouchpoint.org/event/shes-ready-takeley-thursday-run-and-bootcamp/2023-11-16/
LOCATION:Takeley Old School Community Hub\, Dunmow Road\, Takeley\, Essex\, CM22 6OJ\, United Kingdom
END:VEVENT
BEGIN:VEVENT
DTSTART;TZID=Europe/London:20231109T091500
DTEND;TZID=Europe/London:20231109T100000
DTSTAMP:20260419T211515
CREATED:20230717T125024Z
LAST-MODIFIED:20231117T133437Z
UID:10001109-1699521300-1699524000@www.thetouchpoint.org
SUMMARY:She's Ready Takeley: Thursday run and bootcamp
DESCRIPTION:Join the She’s Ready Takeley group for a weekly free run and bootcamp session. The session begins at 9.15am for 45 mins. Followed by tea\, coffee and cake (and the Touchpoint Foodshare!) \nMeet at the Takeley Old School Community Hub\, Dummow Road\, Takeley\, CM22 6OJ. \nTo find out more\, join their Facebook group here or email info@thetouchpoint.org.
URL:https://www.thetouchpoint.org/event/shes-ready-takeley-thursday-run-and-bootcamp/2023-11-09/
LOCATION:Takeley Old School Community Hub\, Dunmow Road\, Takeley\, Essex\, CM22 6OJ\, United Kingdom
END:VEVENT
BEGIN:VEVENT
DTSTART;TZID=Europe/London:20231102T091500
DTEND;TZID=Europe/London:20231102T100000
DTSTAMP:20260419T211515
CREATED:20230717T125024Z
LAST-MODIFIED:20231117T133437Z
UID:10001108-1698916500-1698919200@www.thetouchpoint.org
SUMMARY:She's Ready Takeley: Thursday run and bootcamp
DESCRIPTION:Join the She’s Ready Takeley group for a weekly free run and bootcamp session. The session begins at 9.15am for 45 mins. Followed by tea\, coffee and cake (and the Touchpoint Foodshare!) \nMeet at the Takeley Old School Community Hub\, Dummow Road\, Takeley\, CM22 6OJ. \nTo find out more\, join their Facebook group here or email info@thetouchpoint.org.
URL:https://www.thetouchpoint.org/event/shes-ready-takeley-thursday-run-and-bootcamp/2023-11-02/
LOCATION:Takeley Old School Community Hub\, Dunmow Road\, Takeley\, Essex\, CM22 6OJ\, United Kingdom
END:VEVENT
BEGIN:VEVENT
DTSTART;TZID=Europe/London:20231026T091500
DTEND;TZID=Europe/London:20231026T100000
DTSTAMP:20260419T211515
CREATED:20230717T125024Z
LAST-MODIFIED:20231117T133437Z
UID:10001107-1698311700-1698314400@www.thetouchpoint.org
SUMMARY:She's Ready Takeley: Thursday run and bootcamp
DESCRIPTION:Join the She’s Ready Takeley group for a weekly free run and bootcamp session. The session begins at 9.15am for 45 mins. Followed by tea\, coffee and cake (and the Touchpoint Foodshare!) \nMeet at the Takeley Old School Community Hub\, Dummow Road\, Takeley\, CM22 6OJ. \nTo find out more\, join their Facebook group here or email info@thetouchpoint.org.
URL:https://www.thetouchpoint.org/event/shes-ready-takeley-thursday-run-and-bootcamp/2023-10-26/
LOCATION:Takeley Old School Community Hub\, Dunmow Road\, Takeley\, Essex\, CM22 6OJ\, United Kingdom
END:VEVENT
BEGIN:VEVENT
DTSTART;TZID=Europe/London:20231019T091500
DTEND;TZID=Europe/London:20231019T100000
DTSTAMP:20260419T211515
CREATED:20230717T125024Z
LAST-MODIFIED:20231117T133437Z
UID:10001106-1697706900-1697709600@www.thetouchpoint.org
SUMMARY:She's Ready Takeley: Thursday run and bootcamp
DESCRIPTION:Join the She’s Ready Takeley group for a weekly free run and bootcamp session. The session begins at 9.15am for 45 mins. Followed by tea\, coffee and cake (and the Touchpoint Foodshare!) \nMeet at the Takeley Old School Community Hub\, Dummow Road\, Takeley\, CM22 6OJ. \nTo find out more\, join their Facebook group here or email info@thetouchpoint.org.
URL:https://www.thetouchpoint.org/event/shes-ready-takeley-thursday-run-and-bootcamp/2023-10-19/
LOCATION:Takeley Old School Community Hub\, Dunmow Road\, Takeley\, Essex\, CM22 6OJ\, United Kingdom
END:VEVENT
BEGIN:VEVENT
DTSTART;TZID=Europe/London:20231012T091500
DTEND;TZID=Europe/London:20231012T100000
DTSTAMP:20260419T211515
CREATED:20230717T125024Z
LAST-MODIFIED:20231117T133437Z
UID:10001105-1697102100-1697104800@www.thetouchpoint.org
SUMMARY:She's Ready Takeley: Thursday run and bootcamp
DESCRIPTION:Join the She’s Ready Takeley group for a weekly free run and bootcamp session. The session begins at 9.15am for 45 mins. Followed by tea\, coffee and cake (and the Touchpoint Foodshare!) \nMeet at the Takeley Old School Community Hub\, Dummow Road\, Takeley\, CM22 6OJ. \nTo find out more\, join their Facebook group here or email info@thetouchpoint.org.
URL:https://www.thetouchpoint.org/event/shes-ready-takeley-thursday-run-and-bootcamp/2023-10-12/
LOCATION:Takeley Old School Community Hub\, Dunmow Road\, Takeley\, Essex\, CM22 6OJ\, United Kingdom
END:VEVENT
BEGIN:VEVENT
DTSTART;TZID=Europe/London:20231005T091500
DTEND;TZID=Europe/London:20231005T100000
DTSTAMP:20260419T211515
CREATED:20230717T125024Z
LAST-MODIFIED:20231117T133437Z
UID:10001104-1696497300-1696500000@www.thetouchpoint.org
SUMMARY:She's Ready Takeley: Thursday run and bootcamp
DESCRIPTION:Join the She’s Ready Takeley group for a weekly free run and bootcamp session. The session begins at 9.15am for 45 mins. Followed by tea\, coffee and cake (and the Touchpoint Foodshare!) \nMeet at the Takeley Old School Community Hub\, Dummow Road\, Takeley\, CM22 6OJ. \nTo find out more\, join their Facebook group here or email info@thetouchpoint.org.
URL:https://www.thetouchpoint.org/event/shes-ready-takeley-thursday-run-and-bootcamp/2023-10-05/
LOCATION:Takeley Old School Community Hub\, Dunmow Road\, Takeley\, Essex\, CM22 6OJ\, United Kingdom
END:VEVENT
BEGIN:VEVENT
DTSTART;TZID=Europe/London:20230928T091500
DTEND;TZID=Europe/London:20230928T100000
DTSTAMP:20260419T211515
CREATED:20230717T125024Z
LAST-MODIFIED:20231117T133437Z
UID:10001103-1695892500-1695895200@www.thetouchpoint.org
SUMMARY:She's Ready Takeley: Thursday run and bootcamp
DESCRIPTION:Join the She’s Ready Takeley group for a weekly free run and bootcamp session. The session begins at 9.15am for 45 mins. Followed by tea\, coffee and cake (and the Touchpoint Foodshare!) \nMeet at the Takeley Old School Community Hub\, Dummow Road\, Takeley\, CM22 6OJ. \nTo find out more\, join their Facebook group here or email info@thetouchpoint.org.
URL:https://www.thetouchpoint.org/event/shes-ready-takeley-thursday-run-and-bootcamp/2023-09-28/
LOCATION:Takeley Old School Community Hub\, Dunmow Road\, Takeley\, Essex\, CM22 6OJ\, United Kingdom
END:VEVENT
BEGIN:VEVENT
DTSTART;TZID=Europe/London:20230921T091500
DTEND;TZID=Europe/London:20230921T100000
DTSTAMP:20260419T211515
CREATED:20230717T125024Z
LAST-MODIFIED:20231117T133437Z
UID:10001102-1695287700-1695290400@www.thetouchpoint.org
SUMMARY:She's Ready Takeley: Thursday run and bootcamp
DESCRIPTION:Join the She’s Ready Takeley group for a weekly free run and bootcamp session. The session begins at 9.15am for 45 mins. Followed by tea\, coffee and cake (and the Touchpoint Foodshare!) \nMeet at the Takeley Old School Community Hub\, Dummow Road\, Takeley\, CM22 6OJ. \nTo find out more\, join their Facebook group here or email info@thetouchpoint.org.
URL:https://www.thetouchpoint.org/event/shes-ready-takeley-thursday-run-and-bootcamp/2023-09-21/
LOCATION:Takeley Old School Community Hub\, Dunmow Road\, Takeley\, Essex\, CM22 6OJ\, United Kingdom
END:VEVENT
BEGIN:VEVENT
DTSTART;TZID=Europe/London:20230914T091500
DTEND;TZID=Europe/London:20230914T100000
DTSTAMP:20260419T211515
CREATED:20230717T125024Z
LAST-MODIFIED:20231117T133437Z
UID:10001101-1694682900-1694685600@www.thetouchpoint.org
SUMMARY:She's Ready Takeley: Thursday run and bootcamp
DESCRIPTION:Join the She’s Ready Takeley group for a weekly free run and bootcamp session. The session begins at 9.15am for 45 mins. Followed by tea\, coffee and cake (and the Touchpoint Foodshare!) \nMeet at the Takeley Old School Community Hub\, Dummow Road\, Takeley\, CM22 6OJ. \nTo find out more\, join their Facebook group here or email info@thetouchpoint.org.
URL:https://www.thetouchpoint.org/event/shes-ready-takeley-thursday-run-and-bootcamp/2023-09-14/
LOCATION:Takeley Old School Community Hub\, Dunmow Road\, Takeley\, Essex\, CM22 6OJ\, United Kingdom
END:VEVENT
BEGIN:VEVENT
DTSTART;TZID=Europe/London:20230907T091500
DTEND;TZID=Europe/London:20230907T100000
DTSTAMP:20260419T211515
CREATED:20230717T125024Z
LAST-MODIFIED:20231117T133437Z
UID:10001100-1694078100-1694080800@www.thetouchpoint.org
SUMMARY:She's Ready Takeley: Thursday run and bootcamp
DESCRIPTION:Join the She’s Ready Takeley group for a weekly free run and bootcamp session. The session begins at 9.15am for 45 mins. Followed by tea\, coffee and cake (and the Touchpoint Foodshare!) \nMeet at the Takeley Old School Community Hub\, Dummow Road\, Takeley\, CM22 6OJ. \nTo find out more\, join their Facebook group here or email info@thetouchpoint.org.
URL:https://www.thetouchpoint.org/event/shes-ready-takeley-thursday-run-and-bootcamp/2023-09-07/
LOCATION:Takeley Old School Community Hub\, Dunmow Road\, Takeley\, Essex\, CM22 6OJ\, United Kingdom
END:VEVENT
BEGIN:VEVENT
DTSTART;TZID=Europe/London:20230831T091500
DTEND;TZID=Europe/London:20230831T100000
DTSTAMP:20260419T211515
CREATED:20230717T125024Z
LAST-MODIFIED:20231117T133437Z
UID:10001099-1693473300-1693476000@www.thetouchpoint.org
SUMMARY:She's Ready Takeley: Thursday run and bootcamp
DESCRIPTION:Join the She’s Ready Takeley group for a weekly free run and bootcamp session. The session begins at 9.15am for 45 mins. Followed by tea\, coffee and cake (and the Touchpoint Foodshare!) \nMeet at the Takeley Old School Community Hub\, Dummow Road\, Takeley\, CM22 6OJ. \nTo find out more\, join their Facebook group here or email info@thetouchpoint.org.
URL:https://www.thetouchpoint.org/event/shes-ready-takeley-thursday-run-and-bootcamp/2023-08-31/
LOCATION:Takeley Old School Community Hub\, Dunmow Road\, Takeley\, Essex\, CM22 6OJ\, United Kingdom
END:VEVENT
BEGIN:VEVENT
DTSTART;TZID=Europe/London:20230824T091500
DTEND;TZID=Europe/London:20230824T100000
DTSTAMP:20260419T211515
CREATED:20230717T125024Z
LAST-MODIFIED:20231117T133437Z
UID:10001098-1692868500-1692871200@www.thetouchpoint.org
SUMMARY:She's Ready Takeley: Thursday run and bootcamp
DESCRIPTION:Join the She’s Ready Takeley group for a weekly free run and bootcamp session. The session begins at 9.15am for 45 mins. Followed by tea\, coffee and cake (and the Touchpoint Foodshare!) \nMeet at the Takeley Old School Community Hub\, Dummow Road\, Takeley\, CM22 6OJ. \nTo find out more\, join their Facebook group here or email info@thetouchpoint.org.
URL:https://www.thetouchpoint.org/event/shes-ready-takeley-thursday-run-and-bootcamp/2023-08-24/
LOCATION:Takeley Old School Community Hub\, Dunmow Road\, Takeley\, Essex\, CM22 6OJ\, United Kingdom
END:VEVENT
BEGIN:VEVENT
DTSTART;TZID=Europe/London:20230817T091500
DTEND;TZID=Europe/London:20230817T100000
DTSTAMP:20260419T211515
CREATED:20230717T125024Z
LAST-MODIFIED:20231117T133437Z
UID:10001097-1692263700-1692266400@www.thetouchpoint.org
SUMMARY:She's Ready Takeley: Thursday run and bootcamp
DESCRIPTION:Join the She’s Ready Takeley group for a weekly free run and bootcamp session. The session begins at 9.15am for 45 mins. Followed by tea\, coffee and cake (and the Touchpoint Foodshare!) \nMeet at the Takeley Old School Community Hub\, Dummow Road\, Takeley\, CM22 6OJ. \nTo find out more\, join their Facebook group here or email info@thetouchpoint.org.
URL:https://www.thetouchpoint.org/event/shes-ready-takeley-thursday-run-and-bootcamp/2023-08-17/
LOCATION:Takeley Old School Community Hub\, Dunmow Road\, Takeley\, Essex\, CM22 6OJ\, United Kingdom
END:VEVENT
BEGIN:VEVENT
DTSTART;TZID=Europe/London:20230810T091500
DTEND;TZID=Europe/London:20230810T100000
DTSTAMP:20260419T211515
CREATED:20230717T125024Z
LAST-MODIFIED:20231117T133437Z
UID:10001096-1691658900-1691661600@www.thetouchpoint.org
SUMMARY:She's Ready Takeley: Thursday run and bootcamp
DESCRIPTION:Join the She’s Ready Takeley group for a weekly free run and bootcamp session. The session begins at 9.15am for 45 mins. Followed by tea\, coffee and cake (and the Touchpoint Foodshare!) \nMeet at the Takeley Old School Community Hub\, Dummow Road\, Takeley\, CM22 6OJ. \nTo find out more\, join their Facebook group here or email info@thetouchpoint.org.
URL:https://www.thetouchpoint.org/event/shes-ready-takeley-thursday-run-and-bootcamp/2023-08-10/
LOCATION:Takeley Old School Community Hub\, Dunmow Road\, Takeley\, Essex\, CM22 6OJ\, United Kingdom
END:VEVENT
BEGIN:VEVENT
DTSTART;TZID=Europe/London:20230803T091500
DTEND;TZID=Europe/London:20230803T100000
DTSTAMP:20260419T211515
CREATED:20230717T125024Z
LAST-MODIFIED:20231117T133437Z
UID:10001095-1691054100-1691056800@www.thetouchpoint.org
SUMMARY:She's Ready Takeley: Thursday run and bootcamp
DESCRIPTION:Join the She’s Ready Takeley group for a weekly free run and bootcamp session. The session begins at 9.15am for 45 mins. Followed by tea\, coffee and cake (and the Touchpoint Foodshare!) \nMeet at the Takeley Old School Community Hub\, Dummow Road\, Takeley\, CM22 6OJ. \nTo find out more\, join their Facebook group here or email info@thetouchpoint.org.
URL:https://www.thetouchpoint.org/event/shes-ready-takeley-thursday-run-and-bootcamp/2023-08-03/
LOCATION:Takeley Old School Community Hub\, Dunmow Road\, Takeley\, Essex\, CM22 6OJ\, United Kingdom
END:VEVENT
BEGIN:VEVENT
DTSTART;TZID=Europe/London:20230727T091500
DTEND;TZID=Europe/London:20230727T100000
DTSTAMP:20260419T211515
CREATED:20230717T125024Z
LAST-MODIFIED:20231117T133437Z
UID:10001094-1690449300-1690452000@www.thetouchpoint.org
SUMMARY:She's Ready Takeley: Thursday run and bootcamp
DESCRIPTION:Join the She’s Ready Takeley group for a weekly free run and bootcamp session. The session begins at 9.15am for 45 mins. Followed by tea\, coffee and cake (and the Touchpoint Foodshare!) \nMeet at the Takeley Old School Community Hub\, Dummow Road\, Takeley\, CM22 6OJ. \nTo find out more\, join their Facebook group here or email info@thetouchpoint.org.
URL:https://www.thetouchpoint.org/event/shes-ready-takeley-thursday-run-and-bootcamp/2023-07-27/
LOCATION:Takeley Old School Community Hub\, Dunmow Road\, Takeley\, Essex\, CM22 6OJ\, United Kingdom
END:VEVENT
BEGIN:VEVENT
DTSTART;TZID=Europe/London:20230720T091500
DTEND;TZID=Europe/London:20230720T100000
DTSTAMP:20260419T211515
CREATED:20230717T125024Z
LAST-MODIFIED:20231117T133437Z
UID:10001093-1689844500-1689847200@www.thetouchpoint.org
SUMMARY:She's Ready Takeley: Thursday run and bootcamp
DESCRIPTION:Join the She’s Ready Takeley group for a weekly free run and bootcamp session. The session begins at 9.15am for 45 mins. Followed by tea\, coffee and cake (and the Touchpoint Foodshare!) \nMeet at the Takeley Old School Community Hub\, Dummow Road\, Takeley\, CM22 6OJ. \nTo find out more\, join their Facebook group here or email info@thetouchpoint.org.
URL:https://www.thetouchpoint.org/event/shes-ready-takeley-thursday-run-and-bootcamp/2023-07-20/
LOCATION:Takeley Old School Community Hub\, Dunmow Road\, Takeley\, Essex\, CM22 6OJ\, United Kingdom
END:VEVENT
END:VCALENDAR