BEGIN:VCALENDAR
VERSION:2.0
PRODID:-//TouchPoint Stansted - ECPv6.15.20//NONSGML v1.0//EN
CALSCALE:GREGORIAN
METHOD:PUBLISH
X-WR-CALNAME:TouchPoint Stansted
X-ORIGINAL-URL:https://www.thetouchpoint.org
X-WR-CALDESC:Events for TouchPoint Stansted
REFRESH-INTERVAL;VALUE=DURATION:PT1H
X-Robots-Tag:noindex
X-PUBLISHED-TTL:PT1H
BEGIN:VTIMEZONE
TZID:Europe/London
BEGIN:DAYLIGHT
TZOFFSETFROM:+0000
TZOFFSETTO:+0100
TZNAME:BST
DTSTART:20220327T010000
END:DAYLIGHT
BEGIN:STANDARD
TZOFFSETFROM:+0100
TZOFFSETTO:+0000
TZNAME:GMT
DTSTART:20221030T010000
END:STANDARD
BEGIN:DAYLIGHT
TZOFFSETFROM:+0000
TZOFFSETTO:+0100
TZNAME:BST
DTSTART:20230326T010000
END:DAYLIGHT
BEGIN:STANDARD
TZOFFSETFROM:+0100
TZOFFSETTO:+0000
TZNAME:GMT
DTSTART:20231029T010000
END:STANDARD
BEGIN:DAYLIGHT
TZOFFSETFROM:+0000
TZOFFSETTO:+0100
TZNAME:BST
DTSTART:20240331T010000
END:DAYLIGHT
BEGIN:STANDARD
TZOFFSETFROM:+0100
TZOFFSETTO:+0000
TZNAME:GMT
DTSTART:20241027T010000
END:STANDARD
BEGIN:DAYLIGHT
TZOFFSETFROM:+0000
TZOFFSETTO:+0100
TZNAME:BST
DTSTART:20250330T010000
END:DAYLIGHT
BEGIN:STANDARD
TZOFFSETFROM:+0100
TZOFFSETTO:+0000
TZNAME:GMT
DTSTART:20251026T010000
END:STANDARD
END:VTIMEZONE
BEGIN:VEVENT
DTSTART;TZID=Europe/London:20240418T091500
DTEND;TZID=Europe/London:20240418T100000
DTSTAMP:20260419T193856
CREATED:20231203T090222Z
LAST-MODIFIED:20250407T093750Z
UID:10004477-1713431700-1713434400@www.thetouchpoint.org
SUMMARY:She's Ready Takeley: Thursday yoga and bootcamp
DESCRIPTION:Join the She’s Ready Takeley group for a weekly free yoga and bootcamp session. The session begins at 9.15am for 45 mins. Followed by tea\, coffee and cake (and the Touchpoint Foodshare!). Yoga takes place inside the Old School Community Hub – please bring a mat if you are able to. \nMeet at the Takeley Old School Community Hub\, Dummow Road\, Takeley\, CM22 6OJ. \nTo find out more\, join their Facebook group here or email info@thetouchpoint.org.
URL:https://www.thetouchpoint.org/event/shes-ready-takeley-thursday/2024-04-18/
LOCATION:Takeley Old School Community Hub\, Dunmow Road\, Takeley\, Essex\, CM22 6OJ\, United Kingdom
CATEGORIES:Events
END:VEVENT
BEGIN:VEVENT
DTSTART;TZID=Europe/London:20240411T091500
DTEND;TZID=Europe/London:20240411T100000
DTSTAMP:20260419T193856
CREATED:20231203T090222Z
LAST-MODIFIED:20250407T093750Z
UID:10004476-1712826900-1712829600@www.thetouchpoint.org
SUMMARY:She's Ready Takeley: Thursday yoga and bootcamp
DESCRIPTION:Join the She’s Ready Takeley group for a weekly free yoga and bootcamp session. The session begins at 9.15am for 45 mins. Followed by tea\, coffee and cake (and the Touchpoint Foodshare!). Yoga takes place inside the Old School Community Hub – please bring a mat if you are able to. \nMeet at the Takeley Old School Community Hub\, Dummow Road\, Takeley\, CM22 6OJ. \nTo find out more\, join their Facebook group here or email info@thetouchpoint.org.
URL:https://www.thetouchpoint.org/event/shes-ready-takeley-thursday/2024-04-11/
LOCATION:Takeley Old School Community Hub\, Dunmow Road\, Takeley\, Essex\, CM22 6OJ\, United Kingdom
CATEGORIES:Events
END:VEVENT
BEGIN:VEVENT
DTSTART;TZID=Europe/London:20240404T091500
DTEND;TZID=Europe/London:20240404T100000
DTSTAMP:20260419T193856
CREATED:20231203T090222Z
LAST-MODIFIED:20250407T093750Z
UID:10004475-1712222100-1712224800@www.thetouchpoint.org
SUMMARY:She's Ready Takeley: Thursday yoga and bootcamp
DESCRIPTION:Join the She’s Ready Takeley group for a weekly free yoga and bootcamp session. The session begins at 9.15am for 45 mins. Followed by tea\, coffee and cake (and the Touchpoint Foodshare!). Yoga takes place inside the Old School Community Hub – please bring a mat if you are able to. \nMeet at the Takeley Old School Community Hub\, Dummow Road\, Takeley\, CM22 6OJ. \nTo find out more\, join their Facebook group here or email info@thetouchpoint.org.
URL:https://www.thetouchpoint.org/event/shes-ready-takeley-thursday/2024-04-04/
LOCATION:Takeley Old School Community Hub\, Dunmow Road\, Takeley\, Essex\, CM22 6OJ\, United Kingdom
CATEGORIES:Events
END:VEVENT
BEGIN:VEVENT
DTSTART;TZID=Europe/London:20240328T091500
DTEND;TZID=Europe/London:20240328T100000
DTSTAMP:20260419T193856
CREATED:20231203T090222Z
LAST-MODIFIED:20250407T093750Z
UID:10004474-1711617300-1711620000@www.thetouchpoint.org
SUMMARY:She's Ready Takeley: Thursday yoga and bootcamp
DESCRIPTION:Join the She’s Ready Takeley group for a weekly free yoga and bootcamp session. The session begins at 9.15am for 45 mins. Followed by tea\, coffee and cake (and the Touchpoint Foodshare!). Yoga takes place inside the Old School Community Hub – please bring a mat if you are able to. \nMeet at the Takeley Old School Community Hub\, Dummow Road\, Takeley\, CM22 6OJ. \nTo find out more\, join their Facebook group here or email info@thetouchpoint.org.
URL:https://www.thetouchpoint.org/event/shes-ready-takeley-thursday/2024-03-28/
LOCATION:Takeley Old School Community Hub\, Dunmow Road\, Takeley\, Essex\, CM22 6OJ\, United Kingdom
CATEGORIES:Events
END:VEVENT
BEGIN:VEVENT
DTSTART;TZID=Europe/London:20240321T091500
DTEND;TZID=Europe/London:20240321T100000
DTSTAMP:20260419T193856
CREATED:20231203T090222Z
LAST-MODIFIED:20250407T093750Z
UID:10004473-1711012500-1711015200@www.thetouchpoint.org
SUMMARY:She's Ready Takeley: Thursday yoga and bootcamp
DESCRIPTION:Join the She’s Ready Takeley group for a weekly free yoga and bootcamp session. The session begins at 9.15am for 45 mins. Followed by tea\, coffee and cake (and the Touchpoint Foodshare!). Yoga takes place inside the Old School Community Hub – please bring a mat if you are able to. \nMeet at the Takeley Old School Community Hub\, Dummow Road\, Takeley\, CM22 6OJ. \nTo find out more\, join their Facebook group here or email info@thetouchpoint.org.
URL:https://www.thetouchpoint.org/event/shes-ready-takeley-thursday/2024-03-21/
LOCATION:Takeley Old School Community Hub\, Dunmow Road\, Takeley\, Essex\, CM22 6OJ\, United Kingdom
CATEGORIES:Events
END:VEVENT
BEGIN:VEVENT
DTSTART;TZID=Europe/London:20240314T091500
DTEND;TZID=Europe/London:20240314T100000
DTSTAMP:20260419T193856
CREATED:20231203T090222Z
LAST-MODIFIED:20250407T093750Z
UID:10004472-1710407700-1710410400@www.thetouchpoint.org
SUMMARY:She's Ready Takeley: Thursday yoga and bootcamp
DESCRIPTION:Join the She’s Ready Takeley group for a weekly free yoga and bootcamp session. The session begins at 9.15am for 45 mins. Followed by tea\, coffee and cake (and the Touchpoint Foodshare!). Yoga takes place inside the Old School Community Hub – please bring a mat if you are able to. \nMeet at the Takeley Old School Community Hub\, Dummow Road\, Takeley\, CM22 6OJ. \nTo find out more\, join their Facebook group here or email info@thetouchpoint.org.
URL:https://www.thetouchpoint.org/event/shes-ready-takeley-thursday/2024-03-14/
LOCATION:Takeley Old School Community Hub\, Dunmow Road\, Takeley\, Essex\, CM22 6OJ\, United Kingdom
CATEGORIES:Events
END:VEVENT
BEGIN:VEVENT
DTSTART;TZID=Europe/London:20240307T091500
DTEND;TZID=Europe/London:20240307T100000
DTSTAMP:20260419T193856
CREATED:20231203T090222Z
LAST-MODIFIED:20250407T093750Z
UID:10004471-1709802900-1709805600@www.thetouchpoint.org
SUMMARY:She's Ready Takeley: Thursday yoga and bootcamp
DESCRIPTION:Join the She’s Ready Takeley group for a weekly free yoga and bootcamp session. The session begins at 9.15am for 45 mins. Followed by tea\, coffee and cake (and the Touchpoint Foodshare!). Yoga takes place inside the Old School Community Hub – please bring a mat if you are able to. \nMeet at the Takeley Old School Community Hub\, Dummow Road\, Takeley\, CM22 6OJ. \nTo find out more\, join their Facebook group here or email info@thetouchpoint.org.
URL:https://www.thetouchpoint.org/event/shes-ready-takeley-thursday/2024-03-07/
LOCATION:Takeley Old School Community Hub\, Dunmow Road\, Takeley\, Essex\, CM22 6OJ\, United Kingdom
CATEGORIES:Events
END:VEVENT
BEGIN:VEVENT
DTSTART;TZID=Europe/London:20240229T091500
DTEND;TZID=Europe/London:20240229T100000
DTSTAMP:20260419T193856
CREATED:20231203T090222Z
LAST-MODIFIED:20250407T093750Z
UID:10004470-1709198100-1709200800@www.thetouchpoint.org
SUMMARY:She's Ready Takeley: Thursday yoga and bootcamp
DESCRIPTION:Join the She’s Ready Takeley group for a weekly free yoga and bootcamp session. The session begins at 9.15am for 45 mins. Followed by tea\, coffee and cake (and the Touchpoint Foodshare!). Yoga takes place inside the Old School Community Hub – please bring a mat if you are able to. \nMeet at the Takeley Old School Community Hub\, Dummow Road\, Takeley\, CM22 6OJ. \nTo find out more\, join their Facebook group here or email info@thetouchpoint.org.
URL:https://www.thetouchpoint.org/event/shes-ready-takeley-thursday/2024-02-29/
LOCATION:Takeley Old School Community Hub\, Dunmow Road\, Takeley\, Essex\, CM22 6OJ\, United Kingdom
CATEGORIES:Events
END:VEVENT
BEGIN:VEVENT
DTSTART;TZID=Europe/London:20240222T091500
DTEND;TZID=Europe/London:20240222T100000
DTSTAMP:20260419T193856
CREATED:20231203T090222Z
LAST-MODIFIED:20250407T093750Z
UID:10004469-1708593300-1708596000@www.thetouchpoint.org
SUMMARY:She's Ready Takeley: Thursday yoga and bootcamp
DESCRIPTION:Join the She’s Ready Takeley group for a weekly free yoga and bootcamp session. The session begins at 9.15am for 45 mins. Followed by tea\, coffee and cake (and the Touchpoint Foodshare!). Yoga takes place inside the Old School Community Hub – please bring a mat if you are able to. \nMeet at the Takeley Old School Community Hub\, Dummow Road\, Takeley\, CM22 6OJ. \nTo find out more\, join their Facebook group here or email info@thetouchpoint.org.
URL:https://www.thetouchpoint.org/event/shes-ready-takeley-thursday/2024-02-22/
LOCATION:Takeley Old School Community Hub\, Dunmow Road\, Takeley\, Essex\, CM22 6OJ\, United Kingdom
CATEGORIES:Events
END:VEVENT
BEGIN:VEVENT
DTSTART;TZID=Europe/London:20240215T091500
DTEND;TZID=Europe/London:20240215T100000
DTSTAMP:20260419T193856
CREATED:20231203T090222Z
LAST-MODIFIED:20250407T093750Z
UID:10004468-1707988500-1707991200@www.thetouchpoint.org
SUMMARY:She's Ready Takeley: Thursday yoga and bootcamp
DESCRIPTION:Join the She’s Ready Takeley group for a weekly free yoga and bootcamp session. The session begins at 9.15am for 45 mins. Followed by tea\, coffee and cake (and the Touchpoint Foodshare!). Yoga takes place inside the Old School Community Hub – please bring a mat if you are able to. \nMeet at the Takeley Old School Community Hub\, Dummow Road\, Takeley\, CM22 6OJ. \nTo find out more\, join their Facebook group here or email info@thetouchpoint.org.
URL:https://www.thetouchpoint.org/event/shes-ready-takeley-thursday/2024-02-15/
LOCATION:Takeley Old School Community Hub\, Dunmow Road\, Takeley\, Essex\, CM22 6OJ\, United Kingdom
CATEGORIES:Events
END:VEVENT
BEGIN:VEVENT
DTSTART;TZID=Europe/London:20240208T091500
DTEND;TZID=Europe/London:20240208T100000
DTSTAMP:20260419T193856
CREATED:20231203T090222Z
LAST-MODIFIED:20250407T093750Z
UID:10004467-1707383700-1707386400@www.thetouchpoint.org
SUMMARY:She's Ready Takeley: Thursday yoga and bootcamp
DESCRIPTION:Join the She’s Ready Takeley group for a weekly free yoga and bootcamp session. The session begins at 9.15am for 45 mins. Followed by tea\, coffee and cake (and the Touchpoint Foodshare!). Yoga takes place inside the Old School Community Hub – please bring a mat if you are able to. \nMeet at the Takeley Old School Community Hub\, Dummow Road\, Takeley\, CM22 6OJ. \nTo find out more\, join their Facebook group here or email info@thetouchpoint.org.
URL:https://www.thetouchpoint.org/event/shes-ready-takeley-thursday/2024-02-08/
LOCATION:Takeley Old School Community Hub\, Dunmow Road\, Takeley\, Essex\, CM22 6OJ\, United Kingdom
CATEGORIES:Events
END:VEVENT
BEGIN:VEVENT
DTSTART;TZID=Europe/London:20240201T091500
DTEND;TZID=Europe/London:20240201T100000
DTSTAMP:20260419T193856
CREATED:20231203T090222Z
LAST-MODIFIED:20250407T093750Z
UID:10004466-1706778900-1706781600@www.thetouchpoint.org
SUMMARY:She's Ready Takeley: Thursday yoga and bootcamp
DESCRIPTION:Join the She’s Ready Takeley group for a weekly free yoga and bootcamp session. The session begins at 9.15am for 45 mins. Followed by tea\, coffee and cake (and the Touchpoint Foodshare!). Yoga takes place inside the Old School Community Hub – please bring a mat if you are able to. \nMeet at the Takeley Old School Community Hub\, Dummow Road\, Takeley\, CM22 6OJ. \nTo find out more\, join their Facebook group here or email info@thetouchpoint.org.
URL:https://www.thetouchpoint.org/event/shes-ready-takeley-thursday/2024-02-01/
LOCATION:Takeley Old School Community Hub\, Dunmow Road\, Takeley\, Essex\, CM22 6OJ\, United Kingdom
CATEGORIES:Events
END:VEVENT
BEGIN:VEVENT
DTSTART;TZID=Europe/London:20240125T091500
DTEND;TZID=Europe/London:20240125T100000
DTSTAMP:20260419T193856
CREATED:20231203T090222Z
LAST-MODIFIED:20250407T093750Z
UID:10004465-1706174100-1706176800@www.thetouchpoint.org
SUMMARY:She's Ready Takeley: Thursday yoga and bootcamp
DESCRIPTION:Join the She’s Ready Takeley group for a weekly free yoga and bootcamp session. The session begins at 9.15am for 45 mins. Followed by tea\, coffee and cake (and the Touchpoint Foodshare!). Yoga takes place inside the Old School Community Hub – please bring a mat if you are able to. \nMeet at the Takeley Old School Community Hub\, Dummow Road\, Takeley\, CM22 6OJ. \nTo find out more\, join their Facebook group here or email info@thetouchpoint.org.
URL:https://www.thetouchpoint.org/event/shes-ready-takeley-thursday/2024-01-25/
LOCATION:Takeley Old School Community Hub\, Dunmow Road\, Takeley\, Essex\, CM22 6OJ\, United Kingdom
CATEGORIES:Events
END:VEVENT
BEGIN:VEVENT
DTSTART;TZID=Europe/London:20240118T091500
DTEND;TZID=Europe/London:20240118T100000
DTSTAMP:20260419T193856
CREATED:20231203T090222Z
LAST-MODIFIED:20250407T093750Z
UID:10004464-1705569300-1705572000@www.thetouchpoint.org
SUMMARY:She's Ready Takeley: Thursday yoga and bootcamp
DESCRIPTION:Join the She’s Ready Takeley group for a weekly free yoga and bootcamp session. The session begins at 9.15am for 45 mins. Followed by tea\, coffee and cake (and the Touchpoint Foodshare!). Yoga takes place inside the Old School Community Hub – please bring a mat if you are able to. \nMeet at the Takeley Old School Community Hub\, Dummow Road\, Takeley\, CM22 6OJ. \nTo find out more\, join their Facebook group here or email info@thetouchpoint.org.
URL:https://www.thetouchpoint.org/event/shes-ready-takeley-thursday/2024-01-18/
LOCATION:Takeley Old School Community Hub\, Dunmow Road\, Takeley\, Essex\, CM22 6OJ\, United Kingdom
CATEGORIES:Events
END:VEVENT
BEGIN:VEVENT
DTSTART;TZID=Europe/London:20240111T091500
DTEND;TZID=Europe/London:20240111T100000
DTSTAMP:20260419T193856
CREATED:20231203T090222Z
LAST-MODIFIED:20250407T093750Z
UID:10004463-1704964500-1704967200@www.thetouchpoint.org
SUMMARY:She's Ready Takeley: Thursday yoga and bootcamp
DESCRIPTION:Join the She’s Ready Takeley group for a weekly free yoga and bootcamp session. The session begins at 9.15am for 45 mins. Followed by tea\, coffee and cake (and the Touchpoint Foodshare!). Yoga takes place inside the Old School Community Hub – please bring a mat if you are able to. \nMeet at the Takeley Old School Community Hub\, Dummow Road\, Takeley\, CM22 6OJ. \nTo find out more\, join their Facebook group here or email info@thetouchpoint.org.
URL:https://www.thetouchpoint.org/event/shes-ready-takeley-thursday/2024-01-11/
LOCATION:Takeley Old School Community Hub\, Dunmow Road\, Takeley\, Essex\, CM22 6OJ\, United Kingdom
CATEGORIES:Events
END:VEVENT
BEGIN:VEVENT
DTSTART;TZID=Europe/London:20240104T091500
DTEND;TZID=Europe/London:20240104T100000
DTSTAMP:20260419T193856
CREATED:20231203T090222Z
LAST-MODIFIED:20250407T093750Z
UID:10004462-1704359700-1704362400@www.thetouchpoint.org
SUMMARY:She's Ready Takeley: Thursday yoga and bootcamp
DESCRIPTION:Join the She’s Ready Takeley group for a weekly free yoga and bootcamp session. The session begins at 9.15am for 45 mins. Followed by tea\, coffee and cake (and the Touchpoint Foodshare!). Yoga takes place inside the Old School Community Hub – please bring a mat if you are able to. \nMeet at the Takeley Old School Community Hub\, Dummow Road\, Takeley\, CM22 6OJ. \nTo find out more\, join their Facebook group here or email info@thetouchpoint.org.
URL:https://www.thetouchpoint.org/event/shes-ready-takeley-thursday/2024-01-04/
LOCATION:Takeley Old School Community Hub\, Dunmow Road\, Takeley\, Essex\, CM22 6OJ\, United Kingdom
CATEGORIES:Events
END:VEVENT
BEGIN:VEVENT
DTSTART;TZID=Europe/London:20231221T091500
DTEND;TZID=Europe/London:20231221T100000
DTSTAMP:20260419T193856
CREATED:20231203T090222Z
LAST-MODIFIED:20250407T093750Z
UID:10004200-1703150100-1703152800@www.thetouchpoint.org
SUMMARY:She's Ready Takeley: Thursday yoga and bootcamp
DESCRIPTION:Join the She’s Ready Takeley group for a weekly free yoga and bootcamp session. The session begins at 9.15am for 45 mins. Followed by tea\, coffee and cake (and the Touchpoint Foodshare!). Yoga takes place inside the Old School Community Hub – please bring a mat if you are able to. \nMeet at the Takeley Old School Community Hub\, Dummow Road\, Takeley\, CM22 6OJ. \nTo find out more\, join their Facebook group here or email info@thetouchpoint.org.
URL:https://www.thetouchpoint.org/event/shes-ready-takeley-thursday/2023-12-21/
LOCATION:Takeley Old School Community Hub\, Dunmow Road\, Takeley\, Essex\, CM22 6OJ\, United Kingdom
CATEGORIES:Events
END:VEVENT
BEGIN:VEVENT
DTSTART;TZID=Europe/London:20231214T091500
DTEND;TZID=Europe/London:20231214T100000
DTSTAMP:20260419T193856
CREATED:20231203T090222Z
LAST-MODIFIED:20250407T093750Z
UID:10004199-1702545300-1702548000@www.thetouchpoint.org
SUMMARY:She's Ready Takeley: Thursday yoga and bootcamp
DESCRIPTION:Join the She’s Ready Takeley group for a weekly free yoga and bootcamp session. The session begins at 9.15am for 45 mins. Followed by tea\, coffee and cake (and the Touchpoint Foodshare!). Yoga takes place inside the Old School Community Hub – please bring a mat if you are able to. \nMeet at the Takeley Old School Community Hub\, Dummow Road\, Takeley\, CM22 6OJ. \nTo find out more\, join their Facebook group here or email info@thetouchpoint.org.
URL:https://www.thetouchpoint.org/event/shes-ready-takeley-thursday/2023-12-14/
LOCATION:Takeley Old School Community Hub\, Dunmow Road\, Takeley\, Essex\, CM22 6OJ\, United Kingdom
CATEGORIES:Events
END:VEVENT
BEGIN:VEVENT
DTSTART;TZID=Europe/London:20231207T091500
DTEND;TZID=Europe/London:20231207T100000
DTSTAMP:20260419T193856
CREATED:20231203T090222Z
LAST-MODIFIED:20250407T093750Z
UID:10004198-1701940500-1701943200@www.thetouchpoint.org
SUMMARY:She's Ready Takeley: Thursday yoga and bootcamp
DESCRIPTION:Join the She’s Ready Takeley group for a weekly free yoga and bootcamp session. The session begins at 9.15am for 45 mins. Followed by tea\, coffee and cake (and the Touchpoint Foodshare!). Yoga takes place inside the Old School Community Hub – please bring a mat if you are able to. \nMeet at the Takeley Old School Community Hub\, Dummow Road\, Takeley\, CM22 6OJ. \nTo find out more\, join their Facebook group here or email info@thetouchpoint.org.
URL:https://www.thetouchpoint.org/event/shes-ready-takeley-thursday/2023-12-07/
LOCATION:Takeley Old School Community Hub\, Dunmow Road\, Takeley\, Essex\, CM22 6OJ\, United Kingdom
CATEGORIES:Events
END:VEVENT
BEGIN:VEVENT
DTSTART;TZID=Europe/London:20231130T091500
DTEND;TZID=Europe/London:20231130T100000
DTSTAMP:20260419T193856
CREATED:20230717T125024Z
LAST-MODIFIED:20231117T133437Z
UID:10001112-1701335700-1701338400@www.thetouchpoint.org
SUMMARY:She's Ready Takeley: Thursday run and bootcamp
DESCRIPTION:Join the She’s Ready Takeley group for a weekly free run and bootcamp session. The session begins at 9.15am for 45 mins. Followed by tea\, coffee and cake (and the Touchpoint Foodshare!) \nMeet at the Takeley Old School Community Hub\, Dummow Road\, Takeley\, CM22 6OJ. \nTo find out more\, join their Facebook group here or email info@thetouchpoint.org.
URL:https://www.thetouchpoint.org/event/shes-ready-takeley-thursday-run-and-bootcamp/2023-11-30/
LOCATION:Takeley Old School Community Hub\, Dunmow Road\, Takeley\, Essex\, CM22 6OJ\, United Kingdom
END:VEVENT
BEGIN:VEVENT
DTSTART;TZID=Europe/London:20231123T091500
DTEND;TZID=Europe/London:20231123T100000
DTSTAMP:20260419T193856
CREATED:20230717T125024Z
LAST-MODIFIED:20231117T133437Z
UID:10001111-1700730900-1700733600@www.thetouchpoint.org
SUMMARY:She's Ready Takeley: Thursday run and bootcamp
DESCRIPTION:Join the She’s Ready Takeley group for a weekly free run and bootcamp session. The session begins at 9.15am for 45 mins. Followed by tea\, coffee and cake (and the Touchpoint Foodshare!) \nMeet at the Takeley Old School Community Hub\, Dummow Road\, Takeley\, CM22 6OJ. \nTo find out more\, join their Facebook group here or email info@thetouchpoint.org.
URL:https://www.thetouchpoint.org/event/shes-ready-takeley-thursday-run-and-bootcamp/2023-11-23/
LOCATION:Takeley Old School Community Hub\, Dunmow Road\, Takeley\, Essex\, CM22 6OJ\, United Kingdom
END:VEVENT
BEGIN:VEVENT
DTSTART;TZID=Europe/London:20231116T091500
DTEND;TZID=Europe/London:20231116T100000
DTSTAMP:20260419T193856
CREATED:20230717T125024Z
LAST-MODIFIED:20231117T133437Z
UID:10001110-1700126100-1700128800@www.thetouchpoint.org
SUMMARY:She's Ready Takeley: Thursday run and bootcamp
DESCRIPTION:Join the She’s Ready Takeley group for a weekly free run and bootcamp session. The session begins at 9.15am for 45 mins. Followed by tea\, coffee and cake (and the Touchpoint Foodshare!) \nMeet at the Takeley Old School Community Hub\, Dummow Road\, Takeley\, CM22 6OJ. \nTo find out more\, join their Facebook group here or email info@thetouchpoint.org.
URL:https://www.thetouchpoint.org/event/shes-ready-takeley-thursday-run-and-bootcamp/2023-11-16/
LOCATION:Takeley Old School Community Hub\, Dunmow Road\, Takeley\, Essex\, CM22 6OJ\, United Kingdom
END:VEVENT
BEGIN:VEVENT
DTSTART;TZID=Europe/London:20231109T091500
DTEND;TZID=Europe/London:20231109T100000
DTSTAMP:20260419T193856
CREATED:20230717T125024Z
LAST-MODIFIED:20231117T133437Z
UID:10001109-1699521300-1699524000@www.thetouchpoint.org
SUMMARY:She's Ready Takeley: Thursday run and bootcamp
DESCRIPTION:Join the She’s Ready Takeley group for a weekly free run and bootcamp session. The session begins at 9.15am for 45 mins. Followed by tea\, coffee and cake (and the Touchpoint Foodshare!) \nMeet at the Takeley Old School Community Hub\, Dummow Road\, Takeley\, CM22 6OJ. \nTo find out more\, join their Facebook group here or email info@thetouchpoint.org.
URL:https://www.thetouchpoint.org/event/shes-ready-takeley-thursday-run-and-bootcamp/2023-11-09/
LOCATION:Takeley Old School Community Hub\, Dunmow Road\, Takeley\, Essex\, CM22 6OJ\, United Kingdom
END:VEVENT
BEGIN:VEVENT
DTSTART;TZID=Europe/London:20231102T091500
DTEND;TZID=Europe/London:20231102T100000
DTSTAMP:20260419T193856
CREATED:20230717T125024Z
LAST-MODIFIED:20231117T133437Z
UID:10001108-1698916500-1698919200@www.thetouchpoint.org
SUMMARY:She's Ready Takeley: Thursday run and bootcamp
DESCRIPTION:Join the She’s Ready Takeley group for a weekly free run and bootcamp session. The session begins at 9.15am for 45 mins. Followed by tea\, coffee and cake (and the Touchpoint Foodshare!) \nMeet at the Takeley Old School Community Hub\, Dummow Road\, Takeley\, CM22 6OJ. \nTo find out more\, join their Facebook group here or email info@thetouchpoint.org.
URL:https://www.thetouchpoint.org/event/shes-ready-takeley-thursday-run-and-bootcamp/2023-11-02/
LOCATION:Takeley Old School Community Hub\, Dunmow Road\, Takeley\, Essex\, CM22 6OJ\, United Kingdom
END:VEVENT
BEGIN:VEVENT
DTSTART;TZID=Europe/London:20231026T091500
DTEND;TZID=Europe/London:20231026T100000
DTSTAMP:20260419T193856
CREATED:20230717T125024Z
LAST-MODIFIED:20231117T133437Z
UID:10001107-1698311700-1698314400@www.thetouchpoint.org
SUMMARY:She's Ready Takeley: Thursday run and bootcamp
DESCRIPTION:Join the She’s Ready Takeley group for a weekly free run and bootcamp session. The session begins at 9.15am for 45 mins. Followed by tea\, coffee and cake (and the Touchpoint Foodshare!) \nMeet at the Takeley Old School Community Hub\, Dummow Road\, Takeley\, CM22 6OJ. \nTo find out more\, join their Facebook group here or email info@thetouchpoint.org.
URL:https://www.thetouchpoint.org/event/shes-ready-takeley-thursday-run-and-bootcamp/2023-10-26/
LOCATION:Takeley Old School Community Hub\, Dunmow Road\, Takeley\, Essex\, CM22 6OJ\, United Kingdom
END:VEVENT
BEGIN:VEVENT
DTSTART;TZID=Europe/London:20231019T091500
DTEND;TZID=Europe/London:20231019T100000
DTSTAMP:20260419T193856
CREATED:20230717T125024Z
LAST-MODIFIED:20231117T133437Z
UID:10001106-1697706900-1697709600@www.thetouchpoint.org
SUMMARY:She's Ready Takeley: Thursday run and bootcamp
DESCRIPTION:Join the She’s Ready Takeley group for a weekly free run and bootcamp session. The session begins at 9.15am for 45 mins. Followed by tea\, coffee and cake (and the Touchpoint Foodshare!) \nMeet at the Takeley Old School Community Hub\, Dummow Road\, Takeley\, CM22 6OJ. \nTo find out more\, join their Facebook group here or email info@thetouchpoint.org.
URL:https://www.thetouchpoint.org/event/shes-ready-takeley-thursday-run-and-bootcamp/2023-10-19/
LOCATION:Takeley Old School Community Hub\, Dunmow Road\, Takeley\, Essex\, CM22 6OJ\, United Kingdom
END:VEVENT
BEGIN:VEVENT
DTSTART;TZID=Europe/London:20231012T091500
DTEND;TZID=Europe/London:20231012T100000
DTSTAMP:20260419T193856
CREATED:20230717T125024Z
LAST-MODIFIED:20231117T133437Z
UID:10001105-1697102100-1697104800@www.thetouchpoint.org
SUMMARY:She's Ready Takeley: Thursday run and bootcamp
DESCRIPTION:Join the She’s Ready Takeley group for a weekly free run and bootcamp session. The session begins at 9.15am for 45 mins. Followed by tea\, coffee and cake (and the Touchpoint Foodshare!) \nMeet at the Takeley Old School Community Hub\, Dummow Road\, Takeley\, CM22 6OJ. \nTo find out more\, join their Facebook group here or email info@thetouchpoint.org.
URL:https://www.thetouchpoint.org/event/shes-ready-takeley-thursday-run-and-bootcamp/2023-10-12/
LOCATION:Takeley Old School Community Hub\, Dunmow Road\, Takeley\, Essex\, CM22 6OJ\, United Kingdom
END:VEVENT
BEGIN:VEVENT
DTSTART;TZID=Europe/London:20231005T091500
DTEND;TZID=Europe/London:20231005T100000
DTSTAMP:20260419T193856
CREATED:20230717T125024Z
LAST-MODIFIED:20231117T133437Z
UID:10001104-1696497300-1696500000@www.thetouchpoint.org
SUMMARY:She's Ready Takeley: Thursday run and bootcamp
DESCRIPTION:Join the She’s Ready Takeley group for a weekly free run and bootcamp session. The session begins at 9.15am for 45 mins. Followed by tea\, coffee and cake (and the Touchpoint Foodshare!) \nMeet at the Takeley Old School Community Hub\, Dummow Road\, Takeley\, CM22 6OJ. \nTo find out more\, join their Facebook group here or email info@thetouchpoint.org.
URL:https://www.thetouchpoint.org/event/shes-ready-takeley-thursday-run-and-bootcamp/2023-10-05/
LOCATION:Takeley Old School Community Hub\, Dunmow Road\, Takeley\, Essex\, CM22 6OJ\, United Kingdom
END:VEVENT
BEGIN:VEVENT
DTSTART;TZID=Europe/London:20230928T091500
DTEND;TZID=Europe/London:20230928T100000
DTSTAMP:20260419T193856
CREATED:20230717T125024Z
LAST-MODIFIED:20231117T133437Z
UID:10001103-1695892500-1695895200@www.thetouchpoint.org
SUMMARY:She's Ready Takeley: Thursday run and bootcamp
DESCRIPTION:Join the She’s Ready Takeley group for a weekly free run and bootcamp session. The session begins at 9.15am for 45 mins. Followed by tea\, coffee and cake (and the Touchpoint Foodshare!) \nMeet at the Takeley Old School Community Hub\, Dummow Road\, Takeley\, CM22 6OJ. \nTo find out more\, join their Facebook group here or email info@thetouchpoint.org.
URL:https://www.thetouchpoint.org/event/shes-ready-takeley-thursday-run-and-bootcamp/2023-09-28/
LOCATION:Takeley Old School Community Hub\, Dunmow Road\, Takeley\, Essex\, CM22 6OJ\, United Kingdom
END:VEVENT
BEGIN:VEVENT
DTSTART;TZID=Europe/London:20230921T091500
DTEND;TZID=Europe/London:20230921T100000
DTSTAMP:20260419T193856
CREATED:20230717T125024Z
LAST-MODIFIED:20231117T133437Z
UID:10001102-1695287700-1695290400@www.thetouchpoint.org
SUMMARY:She's Ready Takeley: Thursday run and bootcamp
DESCRIPTION:Join the She’s Ready Takeley group for a weekly free run and bootcamp session. The session begins at 9.15am for 45 mins. Followed by tea\, coffee and cake (and the Touchpoint Foodshare!) \nMeet at the Takeley Old School Community Hub\, Dummow Road\, Takeley\, CM22 6OJ. \nTo find out more\, join their Facebook group here or email info@thetouchpoint.org.
URL:https://www.thetouchpoint.org/event/shes-ready-takeley-thursday-run-and-bootcamp/2023-09-21/
LOCATION:Takeley Old School Community Hub\, Dunmow Road\, Takeley\, Essex\, CM22 6OJ\, United Kingdom
END:VEVENT
END:VCALENDAR