BEGIN:VCALENDAR
VERSION:2.0
PRODID:-//TouchPoint Stansted - ECPv6.15.20//NONSGML v1.0//EN
CALSCALE:GREGORIAN
METHOD:PUBLISH
X-ORIGINAL-URL:https://www.thetouchpoint.org
X-WR-CALDESC:Events for TouchPoint Stansted
REFRESH-INTERVAL;VALUE=DURATION:PT1H
X-Robots-Tag:noindex
X-PUBLISHED-TTL:PT1H
BEGIN:VTIMEZONE
TZID:Europe/London
BEGIN:DAYLIGHT
TZOFFSETFROM:+0000
TZOFFSETTO:+0100
TZNAME:BST
DTSTART:20220327T010000
END:DAYLIGHT
BEGIN:STANDARD
TZOFFSETFROM:+0100
TZOFFSETTO:+0000
TZNAME:GMT
DTSTART:20221030T010000
END:STANDARD
BEGIN:DAYLIGHT
TZOFFSETFROM:+0000
TZOFFSETTO:+0100
TZNAME:BST
DTSTART:20230326T010000
END:DAYLIGHT
BEGIN:STANDARD
TZOFFSETFROM:+0100
TZOFFSETTO:+0000
TZNAME:GMT
DTSTART:20231029T010000
END:STANDARD
BEGIN:DAYLIGHT
TZOFFSETFROM:+0000
TZOFFSETTO:+0100
TZNAME:BST
DTSTART:20240331T010000
END:DAYLIGHT
BEGIN:STANDARD
TZOFFSETFROM:+0100
TZOFFSETTO:+0000
TZNAME:GMT
DTSTART:20241027T010000
END:STANDARD
END:VTIMEZONE
BEGIN:VEVENT
DTSTART;TZID=Europe/London:20231020T091500
DTEND;TZID=Europe/London:20231020T100000
DTSTAMP:20260421T063107
CREATED:20230717T124504Z
LAST-MODIFIED:20230906T090815Z
UID:10001043-1697793300-1697796000@www.thetouchpoint.org
SUMMARY:She's Ready Stansted: Friday run and bootcamp
DESCRIPTION:Join the She’s Ready Stansted group for a free run and bootcamp session every Friday morning! Meet at Crafton Green at 9.15am for 45 minutes of activity followed by free tea or coffee and cake (optional!). Suitable for all abilities and children are welcome to join you. \nFind out more by joining their Facebook Group here or email info@thetouchpoint.org.
URL:https://www.thetouchpoint.org/event/shes-ready-stansted-friday-run-and-bootcamp/2023-10-20/
LOCATION:TouchPoint Community Building at Crafton Green\, 72 Chapel Hill\, Stansted Mountfitchet\, Essex\, CM24 8AQ\, United Kingdom
ATTACH;FMTTYPE=image/png:https://www.thetouchpoint.org/app/uploads/2023/07/shes-ready-stansted-1.png
END:VEVENT
BEGIN:VEVENT
DTSTART;TZID=Europe/London:20231016T183000
DTEND;TZID=Europe/London:20231016T193000
DTSTAMP:20260421T063107
CREATED:20230925T092610Z
LAST-MODIFIED:20230925T095253Z
UID:10000979-1697481000-1697484600@www.thetouchpoint.org
SUMMARY:She's Ready Stansted: Monday running club
DESCRIPTION:Join the She’s Ready Stansted group for their free running club. Every Monday evening\, 6.00pm and 6.30pm. The first session is for beginners\, or interval style\, the second session is a 5km led route around the village. \nMeet on the Recreation Ground in Stansted. For more information\, please join their Facebook group here or email info@thetouchpoint.org.
URL:https://www.thetouchpoint.org/event/shes-ready-stansted-monday-running-club-2/2023-10-16/
ATTACH;FMTTYPE=image/png:https://www.thetouchpoint.org/app/uploads/2023/07/shes-ready-stansted-1.png
END:VEVENT
BEGIN:VEVENT
DTSTART;TZID=Europe/London:20231013T091500
DTEND;TZID=Europe/London:20231013T100000
DTSTAMP:20260421T063107
CREATED:20230717T124504Z
LAST-MODIFIED:20230906T090815Z
UID:10001042-1697188500-1697191200@www.thetouchpoint.org
SUMMARY:She's Ready Stansted: Friday run and bootcamp
DESCRIPTION:Join the She’s Ready Stansted group for a free run and bootcamp session every Friday morning! Meet at Crafton Green at 9.15am for 45 minutes of activity followed by free tea or coffee and cake (optional!). Suitable for all abilities and children are welcome to join you. \nFind out more by joining their Facebook Group here or email info@thetouchpoint.org.
URL:https://www.thetouchpoint.org/event/shes-ready-stansted-friday-run-and-bootcamp/2023-10-13/
LOCATION:TouchPoint Community Building at Crafton Green\, 72 Chapel Hill\, Stansted Mountfitchet\, Essex\, CM24 8AQ\, United Kingdom
ATTACH;FMTTYPE=image/png:https://www.thetouchpoint.org/app/uploads/2023/07/shes-ready-stansted-1.png
END:VEVENT
BEGIN:VEVENT
DTSTART;TZID=Europe/London:20231009T183000
DTEND;TZID=Europe/London:20231009T193000
DTSTAMP:20260421T063107
CREATED:20230925T092610Z
LAST-MODIFIED:20230925T095253Z
UID:10000978-1696876200-1696879800@www.thetouchpoint.org
SUMMARY:She's Ready Stansted: Monday running club
DESCRIPTION:Join the She’s Ready Stansted group for their free running club. Every Monday evening\, 6.00pm and 6.30pm. The first session is for beginners\, or interval style\, the second session is a 5km led route around the village. \nMeet on the Recreation Ground in Stansted. For more information\, please join their Facebook group here or email info@thetouchpoint.org.
URL:https://www.thetouchpoint.org/event/shes-ready-stansted-monday-running-club-2/2023-10-09/
ATTACH;FMTTYPE=image/png:https://www.thetouchpoint.org/app/uploads/2023/07/shes-ready-stansted-1.png
END:VEVENT
BEGIN:VEVENT
DTSTART;TZID=Europe/London:20231006T091500
DTEND;TZID=Europe/London:20231006T100000
DTSTAMP:20260421T063107
CREATED:20230717T124504Z
LAST-MODIFIED:20230906T090815Z
UID:10001041-1696583700-1696586400@www.thetouchpoint.org
SUMMARY:She's Ready Stansted: Friday run and bootcamp
DESCRIPTION:Join the She’s Ready Stansted group for a free run and bootcamp session every Friday morning! Meet at Crafton Green at 9.15am for 45 minutes of activity followed by free tea or coffee and cake (optional!). Suitable for all abilities and children are welcome to join you. \nFind out more by joining their Facebook Group here or email info@thetouchpoint.org.
URL:https://www.thetouchpoint.org/event/shes-ready-stansted-friday-run-and-bootcamp/2023-10-06/
LOCATION:TouchPoint Community Building at Crafton Green\, 72 Chapel Hill\, Stansted Mountfitchet\, Essex\, CM24 8AQ\, United Kingdom
ATTACH;FMTTYPE=image/png:https://www.thetouchpoint.org/app/uploads/2023/07/shes-ready-stansted-1.png
END:VEVENT
BEGIN:VEVENT
DTSTART;TZID=Europe/London:20231002T183000
DTEND;TZID=Europe/London:20231002T193000
DTSTAMP:20260421T063107
CREATED:20230925T092610Z
LAST-MODIFIED:20230925T095253Z
UID:10000977-1696271400-1696275000@www.thetouchpoint.org
SUMMARY:She's Ready Stansted: Monday running club
DESCRIPTION:Join the She’s Ready Stansted group for their free running club. Every Monday evening\, 6.00pm and 6.30pm. The first session is for beginners\, or interval style\, the second session is a 5km led route around the village. \nMeet on the Recreation Ground in Stansted. For more information\, please join their Facebook group here or email info@thetouchpoint.org.
URL:https://www.thetouchpoint.org/event/shes-ready-stansted-monday-running-club-2/2023-10-02/
ATTACH;FMTTYPE=image/png:https://www.thetouchpoint.org/app/uploads/2023/07/shes-ready-stansted-1.png
END:VEVENT
BEGIN:VEVENT
DTSTART;TZID=Europe/London:20230929T091500
DTEND;TZID=Europe/London:20230929T100000
DTSTAMP:20260421T063107
CREATED:20230717T124504Z
LAST-MODIFIED:20230906T090815Z
UID:10001040-1695978900-1695981600@www.thetouchpoint.org
SUMMARY:She's Ready Stansted: Friday run and bootcamp
DESCRIPTION:Join the She’s Ready Stansted group for a free run and bootcamp session every Friday morning! Meet at Crafton Green at 9.15am for 45 minutes of activity followed by free tea or coffee and cake (optional!). Suitable for all abilities and children are welcome to join you. \nFind out more by joining their Facebook Group here or email info@thetouchpoint.org.
URL:https://www.thetouchpoint.org/event/shes-ready-stansted-friday-run-and-bootcamp/2023-09-29/
LOCATION:TouchPoint Community Building at Crafton Green\, 72 Chapel Hill\, Stansted Mountfitchet\, Essex\, CM24 8AQ\, United Kingdom
ATTACH;FMTTYPE=image/png:https://www.thetouchpoint.org/app/uploads/2023/07/shes-ready-stansted-1.png
END:VEVENT
BEGIN:VEVENT
DTSTART;TZID=Europe/London:20230925T183000
DTEND;TZID=Europe/London:20230925T193000
DTSTAMP:20260421T063107
CREATED:20230925T092610Z
LAST-MODIFIED:20230925T095253Z
UID:10000976-1695666600-1695670200@www.thetouchpoint.org
SUMMARY:She's Ready Stansted: Monday running club
DESCRIPTION:Join the She’s Ready Stansted group for their free running club. Every Monday evening\, 6.00pm and 6.30pm. The first session is for beginners\, or interval style\, the second session is a 5km led route around the village. \nMeet on the Recreation Ground in Stansted. For more information\, please join their Facebook group here or email info@thetouchpoint.org.
URL:https://www.thetouchpoint.org/event/shes-ready-stansted-monday-running-club-2/2023-09-25/
ATTACH;FMTTYPE=image/png:https://www.thetouchpoint.org/app/uploads/2023/07/shes-ready-stansted-1.png
END:VEVENT
BEGIN:VEVENT
DTSTART;TZID=Europe/London:20230922T091500
DTEND;TZID=Europe/London:20230922T100000
DTSTAMP:20260421T063107
CREATED:20230717T124504Z
LAST-MODIFIED:20230906T090815Z
UID:10001039-1695374100-1695376800@www.thetouchpoint.org
SUMMARY:She's Ready Stansted: Friday run and bootcamp
DESCRIPTION:Join the She’s Ready Stansted group for a free run and bootcamp session every Friday morning! Meet at Crafton Green at 9.15am for 45 minutes of activity followed by free tea or coffee and cake (optional!). Suitable for all abilities and children are welcome to join you. \nFind out more by joining their Facebook Group here or email info@thetouchpoint.org.
URL:https://www.thetouchpoint.org/event/shes-ready-stansted-friday-run-and-bootcamp/2023-09-22/
LOCATION:TouchPoint Community Building at Crafton Green\, 72 Chapel Hill\, Stansted Mountfitchet\, Essex\, CM24 8AQ\, United Kingdom
ATTACH;FMTTYPE=image/png:https://www.thetouchpoint.org/app/uploads/2023/07/shes-ready-stansted-1.png
END:VEVENT
BEGIN:VEVENT
DTSTART;TZID=Europe/London:20230918T183000
DTEND;TZID=Europe/London:20230918T193000
DTSTAMP:20260421T063107
CREATED:20230717T124019Z
LAST-MODIFIED:20230906T090948Z
UID:10000975-1695061800-1695065400@www.thetouchpoint.org
SUMMARY:She's Ready Stansted: Monday running club
DESCRIPTION:Join the She’s Ready Stansted group for their free running club. Every Monday evening\, 6.30pm and 7pm. The first session is for beginners\, or interval style\, the second session is a 5km led route around the village. \nMeet on the Recreation Ground in Stansted. For more information\, please join their Facebook group here or email info@thetouchpoint.org.
URL:https://www.thetouchpoint.org/event/shes-ready-stansted-monday-running-club/2023-09-18/
ATTACH;FMTTYPE=image/png:https://www.thetouchpoint.org/app/uploads/2023/07/shes-ready-stansted-1.png
END:VEVENT
BEGIN:VEVENT
DTSTART;TZID=Europe/London:20230915T091500
DTEND;TZID=Europe/London:20230915T100000
DTSTAMP:20260421T063107
CREATED:20230717T124504Z
LAST-MODIFIED:20230906T090815Z
UID:10001038-1694769300-1694772000@www.thetouchpoint.org
SUMMARY:She's Ready Stansted: Friday run and bootcamp
DESCRIPTION:Join the She’s Ready Stansted group for a free run and bootcamp session every Friday morning! Meet at Crafton Green at 9.15am for 45 minutes of activity followed by free tea or coffee and cake (optional!). Suitable for all abilities and children are welcome to join you. \nFind out more by joining their Facebook Group here or email info@thetouchpoint.org.
URL:https://www.thetouchpoint.org/event/shes-ready-stansted-friday-run-and-bootcamp/2023-09-15/
LOCATION:TouchPoint Community Building at Crafton Green\, 72 Chapel Hill\, Stansted Mountfitchet\, Essex\, CM24 8AQ\, United Kingdom
ATTACH;FMTTYPE=image/png:https://www.thetouchpoint.org/app/uploads/2023/07/shes-ready-stansted-1.png
END:VEVENT
BEGIN:VEVENT
DTSTART;TZID=Europe/London:20230911T183000
DTEND;TZID=Europe/London:20230911T193000
DTSTAMP:20260421T063107
CREATED:20230717T124019Z
LAST-MODIFIED:20230906T090948Z
UID:10000974-1694457000-1694460600@www.thetouchpoint.org
SUMMARY:She's Ready Stansted: Monday running club
DESCRIPTION:Join the She’s Ready Stansted group for their free running club. Every Monday evening\, 6.30pm and 7pm. The first session is for beginners\, or interval style\, the second session is a 5km led route around the village. \nMeet on the Recreation Ground in Stansted. For more information\, please join their Facebook group here or email info@thetouchpoint.org.
URL:https://www.thetouchpoint.org/event/shes-ready-stansted-monday-running-club/2023-09-11/
ATTACH;FMTTYPE=image/png:https://www.thetouchpoint.org/app/uploads/2023/07/shes-ready-stansted-1.png
END:VEVENT
BEGIN:VEVENT
DTSTART;TZID=Europe/London:20230908T091500
DTEND;TZID=Europe/London:20230908T100000
DTSTAMP:20260421T063107
CREATED:20230717T124504Z
LAST-MODIFIED:20230906T090815Z
UID:10001037-1694164500-1694167200@www.thetouchpoint.org
SUMMARY:She's Ready Stansted: Friday run and bootcamp
DESCRIPTION:Join the She’s Ready Stansted group for a free run and bootcamp session every Friday morning! Meet at Crafton Green at 9.15am for 45 minutes of activity followed by free tea or coffee and cake (optional!). Suitable for all abilities and children are welcome to join you. \nFind out more by joining their Facebook Group here or email info@thetouchpoint.org.
URL:https://www.thetouchpoint.org/event/shes-ready-stansted-friday-run-and-bootcamp/2023-09-08/
LOCATION:TouchPoint Community Building at Crafton Green\, 72 Chapel Hill\, Stansted Mountfitchet\, Essex\, CM24 8AQ\, United Kingdom
ATTACH;FMTTYPE=image/png:https://www.thetouchpoint.org/app/uploads/2023/07/shes-ready-stansted-1.png
END:VEVENT
BEGIN:VEVENT
DTSTART;TZID=Europe/London:20230904T183000
DTEND;TZID=Europe/London:20230904T193000
DTSTAMP:20260421T063107
CREATED:20230717T124019Z
LAST-MODIFIED:20230906T090948Z
UID:10000973-1693852200-1693855800@www.thetouchpoint.org
SUMMARY:She's Ready Stansted: Monday running club
DESCRIPTION:Join the She’s Ready Stansted group for their free running club. Every Monday evening\, 6.30pm and 7pm. The first session is for beginners\, or interval style\, the second session is a 5km led route around the village. \nMeet on the Recreation Ground in Stansted. For more information\, please join their Facebook group here or email info@thetouchpoint.org.
URL:https://www.thetouchpoint.org/event/shes-ready-stansted-monday-running-club/2023-09-04/
ATTACH;FMTTYPE=image/png:https://www.thetouchpoint.org/app/uploads/2023/07/shes-ready-stansted-1.png
END:VEVENT
BEGIN:VEVENT
DTSTART;TZID=Europe/London:20230901T091500
DTEND;TZID=Europe/London:20230901T100000
DTSTAMP:20260421T063107
CREATED:20230717T124504Z
LAST-MODIFIED:20230906T090815Z
UID:10001036-1693559700-1693562400@www.thetouchpoint.org
SUMMARY:She's Ready Stansted: Friday run and bootcamp
DESCRIPTION:Join the She’s Ready Stansted group for a free run and bootcamp session every Friday morning! Meet at Crafton Green at 9.15am for 45 minutes of activity followed by free tea or coffee and cake (optional!). Suitable for all abilities and children are welcome to join you. \nFind out more by joining their Facebook Group here or email info@thetouchpoint.org.
URL:https://www.thetouchpoint.org/event/shes-ready-stansted-friday-run-and-bootcamp/2023-09-01/
LOCATION:TouchPoint Community Building at Crafton Green\, 72 Chapel Hill\, Stansted Mountfitchet\, Essex\, CM24 8AQ\, United Kingdom
ATTACH;FMTTYPE=image/png:https://www.thetouchpoint.org/app/uploads/2023/07/shes-ready-stansted-1.png
END:VEVENT
BEGIN:VEVENT
DTSTART;TZID=Europe/London:20230828T183000
DTEND;TZID=Europe/London:20230828T193000
DTSTAMP:20260421T063107
CREATED:20230717T124019Z
LAST-MODIFIED:20230906T090948Z
UID:10000972-1693247400-1693251000@www.thetouchpoint.org
SUMMARY:She's Ready Stansted: Monday running club
DESCRIPTION:Join the She’s Ready Stansted group for their free running club. Every Monday evening\, 6.30pm and 7pm. The first session is for beginners\, or interval style\, the second session is a 5km led route around the village. \nMeet on the Recreation Ground in Stansted. For more information\, please join their Facebook group here or email info@thetouchpoint.org.
URL:https://www.thetouchpoint.org/event/shes-ready-stansted-monday-running-club/2023-08-28/
ATTACH;FMTTYPE=image/png:https://www.thetouchpoint.org/app/uploads/2023/07/shes-ready-stansted-1.png
END:VEVENT
BEGIN:VEVENT
DTSTART;TZID=Europe/London:20230825T091500
DTEND;TZID=Europe/London:20230825T100000
DTSTAMP:20260421T063107
CREATED:20230717T124504Z
LAST-MODIFIED:20230906T090815Z
UID:10001035-1692954900-1692957600@www.thetouchpoint.org
SUMMARY:She's Ready Stansted: Friday run and bootcamp
DESCRIPTION:Join the She’s Ready Stansted group for a free run and bootcamp session every Friday morning! Meet at Crafton Green at 9.15am for 45 minutes of activity followed by free tea or coffee and cake (optional!). Suitable for all abilities and children are welcome to join you. \nFind out more by joining their Facebook Group here or email info@thetouchpoint.org.
URL:https://www.thetouchpoint.org/event/shes-ready-stansted-friday-run-and-bootcamp/2023-08-25/
LOCATION:TouchPoint Community Building at Crafton Green\, 72 Chapel Hill\, Stansted Mountfitchet\, Essex\, CM24 8AQ\, United Kingdom
ATTACH;FMTTYPE=image/png:https://www.thetouchpoint.org/app/uploads/2023/07/shes-ready-stansted-1.png
END:VEVENT
BEGIN:VEVENT
DTSTART;TZID=Europe/London:20230821T183000
DTEND;TZID=Europe/London:20230821T193000
DTSTAMP:20260421T063107
CREATED:20230717T124019Z
LAST-MODIFIED:20230906T090948Z
UID:10000971-1692642600-1692646200@www.thetouchpoint.org
SUMMARY:She's Ready Stansted: Monday running club
DESCRIPTION:Join the She’s Ready Stansted group for their free running club. Every Monday evening\, 6.30pm and 7pm. The first session is for beginners\, or interval style\, the second session is a 5km led route around the village. \nMeet on the Recreation Ground in Stansted. For more information\, please join their Facebook group here or email info@thetouchpoint.org.
URL:https://www.thetouchpoint.org/event/shes-ready-stansted-monday-running-club/2023-08-21/
ATTACH;FMTTYPE=image/png:https://www.thetouchpoint.org/app/uploads/2023/07/shes-ready-stansted-1.png
END:VEVENT
BEGIN:VEVENT
DTSTART;TZID=Europe/London:20230818T091500
DTEND;TZID=Europe/London:20230818T100000
DTSTAMP:20260421T063107
CREATED:20230717T124504Z
LAST-MODIFIED:20230906T090815Z
UID:10001034-1692350100-1692352800@www.thetouchpoint.org
SUMMARY:She's Ready Stansted: Friday run and bootcamp
DESCRIPTION:Join the She’s Ready Stansted group for a free run and bootcamp session every Friday morning! Meet at Crafton Green at 9.15am for 45 minutes of activity followed by free tea or coffee and cake (optional!). Suitable for all abilities and children are welcome to join you. \nFind out more by joining their Facebook Group here or email info@thetouchpoint.org.
URL:https://www.thetouchpoint.org/event/shes-ready-stansted-friday-run-and-bootcamp/2023-08-18/
LOCATION:TouchPoint Community Building at Crafton Green\, 72 Chapel Hill\, Stansted Mountfitchet\, Essex\, CM24 8AQ\, United Kingdom
ATTACH;FMTTYPE=image/png:https://www.thetouchpoint.org/app/uploads/2023/07/shes-ready-stansted-1.png
END:VEVENT
BEGIN:VEVENT
DTSTART;TZID=Europe/London:20230814T183000
DTEND;TZID=Europe/London:20230814T193000
DTSTAMP:20260421T063107
CREATED:20230717T124019Z
LAST-MODIFIED:20230906T090948Z
UID:10000970-1692037800-1692041400@www.thetouchpoint.org
SUMMARY:She's Ready Stansted: Monday running club
DESCRIPTION:Join the She’s Ready Stansted group for their free running club. Every Monday evening\, 6.30pm and 7pm. The first session is for beginners\, or interval style\, the second session is a 5km led route around the village. \nMeet on the Recreation Ground in Stansted. For more information\, please join their Facebook group here or email info@thetouchpoint.org.
URL:https://www.thetouchpoint.org/event/shes-ready-stansted-monday-running-club/2023-08-14/
ATTACH;FMTTYPE=image/png:https://www.thetouchpoint.org/app/uploads/2023/07/shes-ready-stansted-1.png
END:VEVENT
BEGIN:VEVENT
DTSTART;TZID=Europe/London:20230811T091500
DTEND;TZID=Europe/London:20230811T100000
DTSTAMP:20260421T063107
CREATED:20230717T124504Z
LAST-MODIFIED:20230906T090815Z
UID:10001033-1691745300-1691748000@www.thetouchpoint.org
SUMMARY:She's Ready Stansted: Friday run and bootcamp
DESCRIPTION:Join the She’s Ready Stansted group for a free run and bootcamp session every Friday morning! Meet at Crafton Green at 9.15am for 45 minutes of activity followed by free tea or coffee and cake (optional!). Suitable for all abilities and children are welcome to join you. \nFind out more by joining their Facebook Group here or email info@thetouchpoint.org.
URL:https://www.thetouchpoint.org/event/shes-ready-stansted-friday-run-and-bootcamp/2023-08-11/
LOCATION:TouchPoint Community Building at Crafton Green\, 72 Chapel Hill\, Stansted Mountfitchet\, Essex\, CM24 8AQ\, United Kingdom
ATTACH;FMTTYPE=image/png:https://www.thetouchpoint.org/app/uploads/2023/07/shes-ready-stansted-1.png
END:VEVENT
BEGIN:VEVENT
DTSTART;TZID=Europe/London:20230807T183000
DTEND;TZID=Europe/London:20230807T193000
DTSTAMP:20260421T063107
CREATED:20230717T124019Z
LAST-MODIFIED:20230906T090948Z
UID:10000969-1691433000-1691436600@www.thetouchpoint.org
SUMMARY:She's Ready Stansted: Monday running club
DESCRIPTION:Join the She’s Ready Stansted group for their free running club. Every Monday evening\, 6.30pm and 7pm. The first session is for beginners\, or interval style\, the second session is a 5km led route around the village. \nMeet on the Recreation Ground in Stansted. For more information\, please join their Facebook group here or email info@thetouchpoint.org.
URL:https://www.thetouchpoint.org/event/shes-ready-stansted-monday-running-club/2023-08-07/
ATTACH;FMTTYPE=image/png:https://www.thetouchpoint.org/app/uploads/2023/07/shes-ready-stansted-1.png
END:VEVENT
BEGIN:VEVENT
DTSTART;TZID=Europe/London:20230804T091500
DTEND;TZID=Europe/London:20230804T100000
DTSTAMP:20260421T063107
CREATED:20230717T124504Z
LAST-MODIFIED:20230906T090815Z
UID:10001032-1691140500-1691143200@www.thetouchpoint.org
SUMMARY:She's Ready Stansted: Friday run and bootcamp
DESCRIPTION:Join the She’s Ready Stansted group for a free run and bootcamp session every Friday morning! Meet at Crafton Green at 9.15am for 45 minutes of activity followed by free tea or coffee and cake (optional!). Suitable for all abilities and children are welcome to join you. \nFind out more by joining their Facebook Group here or email info@thetouchpoint.org.
URL:https://www.thetouchpoint.org/event/shes-ready-stansted-friday-run-and-bootcamp/2023-08-04/
LOCATION:TouchPoint Community Building at Crafton Green\, 72 Chapel Hill\, Stansted Mountfitchet\, Essex\, CM24 8AQ\, United Kingdom
ATTACH;FMTTYPE=image/png:https://www.thetouchpoint.org/app/uploads/2023/07/shes-ready-stansted-1.png
END:VEVENT
BEGIN:VEVENT
DTSTART;TZID=Europe/London:20230731T183000
DTEND;TZID=Europe/London:20230731T193000
DTSTAMP:20260421T063107
CREATED:20230717T124019Z
LAST-MODIFIED:20230906T090948Z
UID:10000968-1690828200-1690831800@www.thetouchpoint.org
SUMMARY:She's Ready Stansted: Monday running club
DESCRIPTION:Join the She’s Ready Stansted group for their free running club. Every Monday evening\, 6.30pm and 7pm. The first session is for beginners\, or interval style\, the second session is a 5km led route around the village. \nMeet on the Recreation Ground in Stansted. For more information\, please join their Facebook group here or email info@thetouchpoint.org.
URL:https://www.thetouchpoint.org/event/shes-ready-stansted-monday-running-club/2023-07-31/
ATTACH;FMTTYPE=image/png:https://www.thetouchpoint.org/app/uploads/2023/07/shes-ready-stansted-1.png
END:VEVENT
BEGIN:VEVENT
DTSTART;TZID=Europe/London:20230728T091500
DTEND;TZID=Europe/London:20230728T100000
DTSTAMP:20260421T063107
CREATED:20230717T124504Z
LAST-MODIFIED:20230906T090815Z
UID:10001031-1690535700-1690538400@www.thetouchpoint.org
SUMMARY:She's Ready Stansted: Friday run and bootcamp
DESCRIPTION:Join the She’s Ready Stansted group for a free run and bootcamp session every Friday morning! Meet at Crafton Green at 9.15am for 45 minutes of activity followed by free tea or coffee and cake (optional!). Suitable for all abilities and children are welcome to join you. \nFind out more by joining their Facebook Group here or email info@thetouchpoint.org.
URL:https://www.thetouchpoint.org/event/shes-ready-stansted-friday-run-and-bootcamp/2023-07-28/
LOCATION:TouchPoint Community Building at Crafton Green\, 72 Chapel Hill\, Stansted Mountfitchet\, Essex\, CM24 8AQ\, United Kingdom
ATTACH;FMTTYPE=image/png:https://www.thetouchpoint.org/app/uploads/2023/07/shes-ready-stansted-1.png
END:VEVENT
BEGIN:VEVENT
DTSTART;TZID=Europe/London:20230724T183000
DTEND;TZID=Europe/London:20230724T193000
DTSTAMP:20260421T063107
CREATED:20230717T124019Z
LAST-MODIFIED:20230906T090948Z
UID:10000967-1690223400-1690227000@www.thetouchpoint.org
SUMMARY:She's Ready Stansted: Monday running club
DESCRIPTION:Join the She’s Ready Stansted group for their free running club. Every Monday evening\, 6.30pm and 7pm. The first session is for beginners\, or interval style\, the second session is a 5km led route around the village. \nMeet on the Recreation Ground in Stansted. For more information\, please join their Facebook group here or email info@thetouchpoint.org.
URL:https://www.thetouchpoint.org/event/shes-ready-stansted-monday-running-club/2023-07-24/
ATTACH;FMTTYPE=image/png:https://www.thetouchpoint.org/app/uploads/2023/07/shes-ready-stansted-1.png
END:VEVENT
BEGIN:VEVENT
DTSTART;TZID=Europe/London:20230721T091500
DTEND;TZID=Europe/London:20230721T100000
DTSTAMP:20260421T063107
CREATED:20230717T124504Z
LAST-MODIFIED:20230906T090815Z
UID:10001030-1689930900-1689933600@www.thetouchpoint.org
SUMMARY:She's Ready Stansted: Friday run and bootcamp
DESCRIPTION:Join the She’s Ready Stansted group for a free run and bootcamp session every Friday morning! Meet at Crafton Green at 9.15am for 45 minutes of activity followed by free tea or coffee and cake (optional!). Suitable for all abilities and children are welcome to join you. \nFind out more by joining their Facebook Group here or email info@thetouchpoint.org.
URL:https://www.thetouchpoint.org/event/shes-ready-stansted-friday-run-and-bootcamp/2023-07-21/
LOCATION:TouchPoint Community Building at Crafton Green\, 72 Chapel Hill\, Stansted Mountfitchet\, Essex\, CM24 8AQ\, United Kingdom
ATTACH;FMTTYPE=image/png:https://www.thetouchpoint.org/app/uploads/2023/07/shes-ready-stansted-1.png
END:VEVENT
BEGIN:VEVENT
DTSTART;TZID=Europe/London:20230717T183000
DTEND;TZID=Europe/London:20230717T193000
DTSTAMP:20260421T063107
CREATED:20230717T124019Z
LAST-MODIFIED:20230906T090948Z
UID:10000966-1689618600-1689622200@www.thetouchpoint.org
SUMMARY:She's Ready Stansted: Monday running club
DESCRIPTION:Join the She’s Ready Stansted group for their free running club. Every Monday evening\, 6.30pm and 7pm. The first session is for beginners\, or interval style\, the second session is a 5km led route around the village. \nMeet on the Recreation Ground in Stansted. For more information\, please join their Facebook group here or email info@thetouchpoint.org.
URL:https://www.thetouchpoint.org/event/shes-ready-stansted-monday-running-club/2023-07-17/
ATTACH;FMTTYPE=image/png:https://www.thetouchpoint.org/app/uploads/2023/07/shes-ready-stansted-1.png
END:VEVENT
END:VCALENDAR