BEGIN:VCALENDAR
VERSION:2.0
PRODID:-//TouchPoint Stansted - ECPv6.15.20//NONSGML v1.0//EN
CALSCALE:GREGORIAN
METHOD:PUBLISH
X-ORIGINAL-URL:https://www.thetouchpoint.org
X-WR-CALDESC:Events for TouchPoint Stansted
REFRESH-INTERVAL;VALUE=DURATION:PT1H
X-Robots-Tag:noindex
X-PUBLISHED-TTL:PT1H
BEGIN:VTIMEZONE
TZID:Europe/London
BEGIN:DAYLIGHT
TZOFFSETFROM:+0000
TZOFFSETTO:+0100
TZNAME:BST
DTSTART:20290325T010000
END:DAYLIGHT
BEGIN:STANDARD
TZOFFSETFROM:+0100
TZOFFSETTO:+0000
TZNAME:GMT
DTSTART:20291028T010000
END:STANDARD
BEGIN:DAYLIGHT
TZOFFSETFROM:+0000
TZOFFSETTO:+0100
TZNAME:BST
DTSTART:20300331T010000
END:DAYLIGHT
BEGIN:STANDARD
TZOFFSETFROM:+0100
TZOFFSETTO:+0000
TZNAME:GMT
DTSTART:20301027T010000
END:STANDARD
BEGIN:DAYLIGHT
TZOFFSETFROM:+0000
TZOFFSETTO:+0100
TZNAME:BST
DTSTART:20310330T010000
END:DAYLIGHT
BEGIN:STANDARD
TZOFFSETFROM:+0100
TZOFFSETTO:+0000
TZNAME:GMT
DTSTART:20311026T010000
END:STANDARD
BEGIN:DAYLIGHT
TZOFFSETFROM:+0000
TZOFFSETTO:+0100
TZNAME:BST
DTSTART:20320328T010000
END:DAYLIGHT
BEGIN:STANDARD
TZOFFSETFROM:+0100
TZOFFSETTO:+0000
TZNAME:GMT
DTSTART:20321031T010000
END:STANDARD
END:VTIMEZONE
BEGIN:VEVENT
DTSTART;TZID=Europe/London:20301129T100000
DTEND;TZID=Europe/London:20301129T110000
DTSTAMP:20260422T054716
CREATED:20240313T091350Z
LAST-MODIFIED:20260327T161259Z
UID:10050329-1922176800-1922180400@www.thetouchpoint.org
SUMMARY:Friday Walking Group
DESCRIPTION:Where? TouchPoint: meet outside the library at Crafton Green\nWhen? 10:00am every Friday \nWalking is a fantastic way to keep active and meet new people and has been shown to have both physical and mental health benefits.\nThe pace will be gentle\, and we’ll tailor the route according to the abilities of the group\, to ensure it is accessible to all. When conditions allow we will venture into our beautiful local countryside. No need to book\, just come along in a comfy pair of shoes and dressed for the weather! \nWell behaved dogs welcome.
URL:https://www.thetouchpoint.org/event/friday-walking-group-030223-2-2/2030-11-29/
LOCATION:TouchPoint Community Building at Crafton Green\, 72 Chapel Hill\, Stansted Mountfitchet\, Essex\, CM24 8AQ\, United Kingdom
CATEGORIES:Events
ATTACH;FMTTYPE=image/jpeg:https://www.thetouchpoint.org/app/uploads/2021/06/Stansted_warmemorial.jpg
ORGANIZER;CN="TouchPoint Stansted":MAILTO:info@thetouchpoint.org
END:VEVENT
BEGIN:VEVENT
DTSTART;TZID=Europe/London:20301206T100000
DTEND;TZID=Europe/London:20301206T110000
DTSTAMP:20260422T054716
CREATED:20240313T091350Z
LAST-MODIFIED:20260327T161259Z
UID:10050330-1922781600-1922785200@www.thetouchpoint.org
SUMMARY:Friday Walking Group
DESCRIPTION:Where? TouchPoint: meet outside the library at Crafton Green\nWhen? 10:00am every Friday \nWalking is a fantastic way to keep active and meet new people and has been shown to have both physical and mental health benefits.\nThe pace will be gentle\, and we’ll tailor the route according to the abilities of the group\, to ensure it is accessible to all. When conditions allow we will venture into our beautiful local countryside. No need to book\, just come along in a comfy pair of shoes and dressed for the weather! \nWell behaved dogs welcome.
URL:https://www.thetouchpoint.org/event/friday-walking-group-030223-2-2/2030-12-06/
LOCATION:TouchPoint Community Building at Crafton Green\, 72 Chapel Hill\, Stansted Mountfitchet\, Essex\, CM24 8AQ\, United Kingdom
CATEGORIES:Events
ATTACH;FMTTYPE=image/jpeg:https://www.thetouchpoint.org/app/uploads/2021/06/Stansted_warmemorial.jpg
ORGANIZER;CN="TouchPoint Stansted":MAILTO:info@thetouchpoint.org
END:VEVENT
BEGIN:VEVENT
DTSTART;TZID=Europe/London:20301213T100000
DTEND;TZID=Europe/London:20301213T110000
DTSTAMP:20260422T054716
CREATED:20240313T091350Z
LAST-MODIFIED:20260327T161259Z
UID:10050331-1923386400-1923390000@www.thetouchpoint.org
SUMMARY:Friday Walking Group
DESCRIPTION:Where? TouchPoint: meet outside the library at Crafton Green\nWhen? 10:00am every Friday \nWalking is a fantastic way to keep active and meet new people and has been shown to have both physical and mental health benefits.\nThe pace will be gentle\, and we’ll tailor the route according to the abilities of the group\, to ensure it is accessible to all. When conditions allow we will venture into our beautiful local countryside. No need to book\, just come along in a comfy pair of shoes and dressed for the weather! \nWell behaved dogs welcome.
URL:https://www.thetouchpoint.org/event/friday-walking-group-030223-2-2/2030-12-13/
LOCATION:TouchPoint Community Building at Crafton Green\, 72 Chapel Hill\, Stansted Mountfitchet\, Essex\, CM24 8AQ\, United Kingdom
CATEGORIES:Events
ATTACH;FMTTYPE=image/jpeg:https://www.thetouchpoint.org/app/uploads/2021/06/Stansted_warmemorial.jpg
ORGANIZER;CN="TouchPoint Stansted":MAILTO:info@thetouchpoint.org
END:VEVENT
BEGIN:VEVENT
DTSTART;TZID=Europe/London:20301220T100000
DTEND;TZID=Europe/London:20301220T110000
DTSTAMP:20260422T054716
CREATED:20240313T091350Z
LAST-MODIFIED:20260327T161259Z
UID:10051922-1923991200-1923994800@www.thetouchpoint.org
SUMMARY:Friday Walking Group
DESCRIPTION:Where? TouchPoint: meet outside the library at Crafton Green\nWhen? 10:00am every Friday \nWalking is a fantastic way to keep active and meet new people and has been shown to have both physical and mental health benefits.\nThe pace will be gentle\, and we’ll tailor the route according to the abilities of the group\, to ensure it is accessible to all. When conditions allow we will venture into our beautiful local countryside. No need to book\, just come along in a comfy pair of shoes and dressed for the weather! \nWell behaved dogs welcome.
URL:https://www.thetouchpoint.org/event/friday-walking-group-030223-2-2/2030-12-20/
LOCATION:TouchPoint Community Building at Crafton Green\, 72 Chapel Hill\, Stansted Mountfitchet\, Essex\, CM24 8AQ\, United Kingdom
CATEGORIES:Events
ATTACH;FMTTYPE=image/jpeg:https://www.thetouchpoint.org/app/uploads/2021/06/Stansted_warmemorial.jpg
ORGANIZER;CN="TouchPoint Stansted":MAILTO:info@thetouchpoint.org
END:VEVENT
BEGIN:VEVENT
DTSTART;TZID=Europe/London:20301227T100000
DTEND;TZID=Europe/London:20301227T110000
DTSTAMP:20260422T054716
CREATED:20240313T091350Z
LAST-MODIFIED:20260327T161259Z
UID:10051923-1924596000-1924599600@www.thetouchpoint.org
SUMMARY:Friday Walking Group
DESCRIPTION:Where? TouchPoint: meet outside the library at Crafton Green\nWhen? 10:00am every Friday \nWalking is a fantastic way to keep active and meet new people and has been shown to have both physical and mental health benefits.\nThe pace will be gentle\, and we’ll tailor the route according to the abilities of the group\, to ensure it is accessible to all. When conditions allow we will venture into our beautiful local countryside. No need to book\, just come along in a comfy pair of shoes and dressed for the weather! \nWell behaved dogs welcome.
URL:https://www.thetouchpoint.org/event/friday-walking-group-030223-2-2/2030-12-27/
LOCATION:TouchPoint Community Building at Crafton Green\, 72 Chapel Hill\, Stansted Mountfitchet\, Essex\, CM24 8AQ\, United Kingdom
CATEGORIES:Events
ATTACH;FMTTYPE=image/jpeg:https://www.thetouchpoint.org/app/uploads/2021/06/Stansted_warmemorial.jpg
ORGANIZER;CN="TouchPoint Stansted":MAILTO:info@thetouchpoint.org
END:VEVENT
BEGIN:VEVENT
DTSTART;TZID=Europe/London:20310103T100000
DTEND;TZID=Europe/London:20310103T110000
DTSTAMP:20260422T054716
CREATED:20240313T091350Z
LAST-MODIFIED:20260327T161259Z
UID:10051924-1925200800-1925204400@www.thetouchpoint.org
SUMMARY:Friday Walking Group
DESCRIPTION:Where? TouchPoint: meet outside the library at Crafton Green\nWhen? 10:00am every Friday \nWalking is a fantastic way to keep active and meet new people and has been shown to have both physical and mental health benefits.\nThe pace will be gentle\, and we’ll tailor the route according to the abilities of the group\, to ensure it is accessible to all. When conditions allow we will venture into our beautiful local countryside. No need to book\, just come along in a comfy pair of shoes and dressed for the weather! \nWell behaved dogs welcome.
URL:https://www.thetouchpoint.org/event/friday-walking-group-030223-2-2/2031-01-03/
LOCATION:TouchPoint Community Building at Crafton Green\, 72 Chapel Hill\, Stansted Mountfitchet\, Essex\, CM24 8AQ\, United Kingdom
CATEGORIES:Events
ATTACH;FMTTYPE=image/jpeg:https://www.thetouchpoint.org/app/uploads/2021/06/Stansted_warmemorial.jpg
ORGANIZER;CN="TouchPoint Stansted":MAILTO:info@thetouchpoint.org
END:VEVENT
BEGIN:VEVENT
DTSTART;TZID=Europe/London:20310110T100000
DTEND;TZID=Europe/London:20310110T110000
DTSTAMP:20260422T054716
CREATED:20240313T091350Z
LAST-MODIFIED:20260327T161259Z
UID:10051925-1925805600-1925809200@www.thetouchpoint.org
SUMMARY:Friday Walking Group
DESCRIPTION:Where? TouchPoint: meet outside the library at Crafton Green\nWhen? 10:00am every Friday \nWalking is a fantastic way to keep active and meet new people and has been shown to have both physical and mental health benefits.\nThe pace will be gentle\, and we’ll tailor the route according to the abilities of the group\, to ensure it is accessible to all. When conditions allow we will venture into our beautiful local countryside. No need to book\, just come along in a comfy pair of shoes and dressed for the weather! \nWell behaved dogs welcome.
URL:https://www.thetouchpoint.org/event/friday-walking-group-030223-2-2/2031-01-10/
LOCATION:TouchPoint Community Building at Crafton Green\, 72 Chapel Hill\, Stansted Mountfitchet\, Essex\, CM24 8AQ\, United Kingdom
CATEGORIES:Events
ATTACH;FMTTYPE=image/jpeg:https://www.thetouchpoint.org/app/uploads/2021/06/Stansted_warmemorial.jpg
ORGANIZER;CN="TouchPoint Stansted":MAILTO:info@thetouchpoint.org
END:VEVENT
BEGIN:VEVENT
DTSTART;TZID=Europe/London:20310117T100000
DTEND;TZID=Europe/London:20310117T110000
DTSTAMP:20260422T054716
CREATED:20240313T091350Z
LAST-MODIFIED:20260327T161259Z
UID:10051926-1926410400-1926414000@www.thetouchpoint.org
SUMMARY:Friday Walking Group
DESCRIPTION:Where? TouchPoint: meet outside the library at Crafton Green\nWhen? 10:00am every Friday \nWalking is a fantastic way to keep active and meet new people and has been shown to have both physical and mental health benefits.\nThe pace will be gentle\, and we’ll tailor the route according to the abilities of the group\, to ensure it is accessible to all. When conditions allow we will venture into our beautiful local countryside. No need to book\, just come along in a comfy pair of shoes and dressed for the weather! \nWell behaved dogs welcome.
URL:https://www.thetouchpoint.org/event/friday-walking-group-030223-2-2/2031-01-17/
LOCATION:TouchPoint Community Building at Crafton Green\, 72 Chapel Hill\, Stansted Mountfitchet\, Essex\, CM24 8AQ\, United Kingdom
CATEGORIES:Events
ATTACH;FMTTYPE=image/jpeg:https://www.thetouchpoint.org/app/uploads/2021/06/Stansted_warmemorial.jpg
ORGANIZER;CN="TouchPoint Stansted":MAILTO:info@thetouchpoint.org
END:VEVENT
BEGIN:VEVENT
DTSTART;TZID=Europe/London:20310124T100000
DTEND;TZID=Europe/London:20310124T110000
DTSTAMP:20260422T054716
CREATED:20240313T091350Z
LAST-MODIFIED:20260327T161259Z
UID:10051927-1927015200-1927018800@www.thetouchpoint.org
SUMMARY:Friday Walking Group
DESCRIPTION:Where? TouchPoint: meet outside the library at Crafton Green\nWhen? 10:00am every Friday \nWalking is a fantastic way to keep active and meet new people and has been shown to have both physical and mental health benefits.\nThe pace will be gentle\, and we’ll tailor the route according to the abilities of the group\, to ensure it is accessible to all. When conditions allow we will venture into our beautiful local countryside. No need to book\, just come along in a comfy pair of shoes and dressed for the weather! \nWell behaved dogs welcome.
URL:https://www.thetouchpoint.org/event/friday-walking-group-030223-2-2/2031-01-24/
LOCATION:TouchPoint Community Building at Crafton Green\, 72 Chapel Hill\, Stansted Mountfitchet\, Essex\, CM24 8AQ\, United Kingdom
CATEGORIES:Events
ATTACH;FMTTYPE=image/jpeg:https://www.thetouchpoint.org/app/uploads/2021/06/Stansted_warmemorial.jpg
ORGANIZER;CN="TouchPoint Stansted":MAILTO:info@thetouchpoint.org
END:VEVENT
BEGIN:VEVENT
DTSTART;TZID=Europe/London:20310131T100000
DTEND;TZID=Europe/London:20310131T110000
DTSTAMP:20260422T054716
CREATED:20240313T091350Z
LAST-MODIFIED:20260327T161259Z
UID:10051928-1927620000-1927623600@www.thetouchpoint.org
SUMMARY:Friday Walking Group
DESCRIPTION:Where? TouchPoint: meet outside the library at Crafton Green\nWhen? 10:00am every Friday \nWalking is a fantastic way to keep active and meet new people and has been shown to have both physical and mental health benefits.\nThe pace will be gentle\, and we’ll tailor the route according to the abilities of the group\, to ensure it is accessible to all. When conditions allow we will venture into our beautiful local countryside. No need to book\, just come along in a comfy pair of shoes and dressed for the weather! \nWell behaved dogs welcome.
URL:https://www.thetouchpoint.org/event/friday-walking-group-030223-2-2/2031-01-31/
LOCATION:TouchPoint Community Building at Crafton Green\, 72 Chapel Hill\, Stansted Mountfitchet\, Essex\, CM24 8AQ\, United Kingdom
CATEGORIES:Events
ATTACH;FMTTYPE=image/jpeg:https://www.thetouchpoint.org/app/uploads/2021/06/Stansted_warmemorial.jpg
ORGANIZER;CN="TouchPoint Stansted":MAILTO:info@thetouchpoint.org
END:VEVENT
BEGIN:VEVENT
DTSTART;TZID=Europe/London:20310207T100000
DTEND;TZID=Europe/London:20310207T110000
DTSTAMP:20260422T054716
CREATED:20240313T091350Z
LAST-MODIFIED:20260327T161259Z
UID:10051929-1928224800-1928228400@www.thetouchpoint.org
SUMMARY:Friday Walking Group
DESCRIPTION:Where? TouchPoint: meet outside the library at Crafton Green\nWhen? 10:00am every Friday \nWalking is a fantastic way to keep active and meet new people and has been shown to have both physical and mental health benefits.\nThe pace will be gentle\, and we’ll tailor the route according to the abilities of the group\, to ensure it is accessible to all. When conditions allow we will venture into our beautiful local countryside. No need to book\, just come along in a comfy pair of shoes and dressed for the weather! \nWell behaved dogs welcome.
URL:https://www.thetouchpoint.org/event/friday-walking-group-030223-2-2/2031-02-07/
LOCATION:TouchPoint Community Building at Crafton Green\, 72 Chapel Hill\, Stansted Mountfitchet\, Essex\, CM24 8AQ\, United Kingdom
CATEGORIES:Events
ATTACH;FMTTYPE=image/jpeg:https://www.thetouchpoint.org/app/uploads/2021/06/Stansted_warmemorial.jpg
ORGANIZER;CN="TouchPoint Stansted":MAILTO:info@thetouchpoint.org
END:VEVENT
BEGIN:VEVENT
DTSTART;TZID=Europe/London:20310214T100000
DTEND;TZID=Europe/London:20310214T110000
DTSTAMP:20260422T054716
CREATED:20240313T091350Z
LAST-MODIFIED:20260327T161259Z
UID:10051930-1928829600-1928833200@www.thetouchpoint.org
SUMMARY:Friday Walking Group
DESCRIPTION:Where? TouchPoint: meet outside the library at Crafton Green\nWhen? 10:00am every Friday \nWalking is a fantastic way to keep active and meet new people and has been shown to have both physical and mental health benefits.\nThe pace will be gentle\, and we’ll tailor the route according to the abilities of the group\, to ensure it is accessible to all. When conditions allow we will venture into our beautiful local countryside. No need to book\, just come along in a comfy pair of shoes and dressed for the weather! \nWell behaved dogs welcome.
URL:https://www.thetouchpoint.org/event/friday-walking-group-030223-2-2/2031-02-14/
LOCATION:TouchPoint Community Building at Crafton Green\, 72 Chapel Hill\, Stansted Mountfitchet\, Essex\, CM24 8AQ\, United Kingdom
CATEGORIES:Events
ATTACH;FMTTYPE=image/jpeg:https://www.thetouchpoint.org/app/uploads/2021/06/Stansted_warmemorial.jpg
ORGANIZER;CN="TouchPoint Stansted":MAILTO:info@thetouchpoint.org
END:VEVENT
BEGIN:VEVENT
DTSTART;TZID=Europe/London:20310221T100000
DTEND;TZID=Europe/London:20310221T110000
DTSTAMP:20260422T054716
CREATED:20240313T091350Z
LAST-MODIFIED:20260327T161259Z
UID:10051931-1929434400-1929438000@www.thetouchpoint.org
SUMMARY:Friday Walking Group
DESCRIPTION:Where? TouchPoint: meet outside the library at Crafton Green\nWhen? 10:00am every Friday \nWalking is a fantastic way to keep active and meet new people and has been shown to have both physical and mental health benefits.\nThe pace will be gentle\, and we’ll tailor the route according to the abilities of the group\, to ensure it is accessible to all. When conditions allow we will venture into our beautiful local countryside. No need to book\, just come along in a comfy pair of shoes and dressed for the weather! \nWell behaved dogs welcome.
URL:https://www.thetouchpoint.org/event/friday-walking-group-030223-2-2/2031-02-21/
LOCATION:TouchPoint Community Building at Crafton Green\, 72 Chapel Hill\, Stansted Mountfitchet\, Essex\, CM24 8AQ\, United Kingdom
CATEGORIES:Events
ATTACH;FMTTYPE=image/jpeg:https://www.thetouchpoint.org/app/uploads/2021/06/Stansted_warmemorial.jpg
ORGANIZER;CN="TouchPoint Stansted":MAILTO:info@thetouchpoint.org
END:VEVENT
BEGIN:VEVENT
DTSTART;TZID=Europe/London:20310228T100000
DTEND;TZID=Europe/London:20310228T110000
DTSTAMP:20260422T054716
CREATED:20240313T091350Z
LAST-MODIFIED:20260327T161259Z
UID:10051932-1930039200-1930042800@www.thetouchpoint.org
SUMMARY:Friday Walking Group
DESCRIPTION:Where? TouchPoint: meet outside the library at Crafton Green\nWhen? 10:00am every Friday \nWalking is a fantastic way to keep active and meet new people and has been shown to have both physical and mental health benefits.\nThe pace will be gentle\, and we’ll tailor the route according to the abilities of the group\, to ensure it is accessible to all. When conditions allow we will venture into our beautiful local countryside. No need to book\, just come along in a comfy pair of shoes and dressed for the weather! \nWell behaved dogs welcome.
URL:https://www.thetouchpoint.org/event/friday-walking-group-030223-2-2/2031-02-28/
LOCATION:TouchPoint Community Building at Crafton Green\, 72 Chapel Hill\, Stansted Mountfitchet\, Essex\, CM24 8AQ\, United Kingdom
CATEGORIES:Events
ATTACH;FMTTYPE=image/jpeg:https://www.thetouchpoint.org/app/uploads/2021/06/Stansted_warmemorial.jpg
ORGANIZER;CN="TouchPoint Stansted":MAILTO:info@thetouchpoint.org
END:VEVENT
BEGIN:VEVENT
DTSTART;TZID=Europe/London:20310307T100000
DTEND;TZID=Europe/London:20310307T110000
DTSTAMP:20260422T054716
CREATED:20240313T091350Z
LAST-MODIFIED:20260327T161259Z
UID:10051933-1930644000-1930647600@www.thetouchpoint.org
SUMMARY:Friday Walking Group
DESCRIPTION:Where? TouchPoint: meet outside the library at Crafton Green\nWhen? 10:00am every Friday \nWalking is a fantastic way to keep active and meet new people and has been shown to have both physical and mental health benefits.\nThe pace will be gentle\, and we’ll tailor the route according to the abilities of the group\, to ensure it is accessible to all. When conditions allow we will venture into our beautiful local countryside. No need to book\, just come along in a comfy pair of shoes and dressed for the weather! \nWell behaved dogs welcome.
URL:https://www.thetouchpoint.org/event/friday-walking-group-030223-2-2/2031-03-07/
LOCATION:TouchPoint Community Building at Crafton Green\, 72 Chapel Hill\, Stansted Mountfitchet\, Essex\, CM24 8AQ\, United Kingdom
CATEGORIES:Events
ATTACH;FMTTYPE=image/jpeg:https://www.thetouchpoint.org/app/uploads/2021/06/Stansted_warmemorial.jpg
ORGANIZER;CN="TouchPoint Stansted":MAILTO:info@thetouchpoint.org
END:VEVENT
BEGIN:VEVENT
DTSTART;TZID=Europe/London:20310314T100000
DTEND;TZID=Europe/London:20310314T110000
DTSTAMP:20260422T054716
CREATED:20240313T091350Z
LAST-MODIFIED:20260327T161259Z
UID:10051934-1931248800-1931252400@www.thetouchpoint.org
SUMMARY:Friday Walking Group
DESCRIPTION:Where? TouchPoint: meet outside the library at Crafton Green\nWhen? 10:00am every Friday \nWalking is a fantastic way to keep active and meet new people and has been shown to have both physical and mental health benefits.\nThe pace will be gentle\, and we’ll tailor the route according to the abilities of the group\, to ensure it is accessible to all. When conditions allow we will venture into our beautiful local countryside. No need to book\, just come along in a comfy pair of shoes and dressed for the weather! \nWell behaved dogs welcome.
URL:https://www.thetouchpoint.org/event/friday-walking-group-030223-2-2/2031-03-14/
LOCATION:TouchPoint Community Building at Crafton Green\, 72 Chapel Hill\, Stansted Mountfitchet\, Essex\, CM24 8AQ\, United Kingdom
CATEGORIES:Events
ATTACH;FMTTYPE=image/jpeg:https://www.thetouchpoint.org/app/uploads/2021/06/Stansted_warmemorial.jpg
ORGANIZER;CN="TouchPoint Stansted":MAILTO:info@thetouchpoint.org
END:VEVENT
BEGIN:VEVENT
DTSTART;TZID=Europe/London:20310321T100000
DTEND;TZID=Europe/London:20310321T110000
DTSTAMP:20260422T054716
CREATED:20240313T091350Z
LAST-MODIFIED:20260327T161259Z
UID:10051935-1931853600-1931857200@www.thetouchpoint.org
SUMMARY:Friday Walking Group
DESCRIPTION:Where? TouchPoint: meet outside the library at Crafton Green\nWhen? 10:00am every Friday \nWalking is a fantastic way to keep active and meet new people and has been shown to have both physical and mental health benefits.\nThe pace will be gentle\, and we’ll tailor the route according to the abilities of the group\, to ensure it is accessible to all. When conditions allow we will venture into our beautiful local countryside. No need to book\, just come along in a comfy pair of shoes and dressed for the weather! \nWell behaved dogs welcome.
URL:https://www.thetouchpoint.org/event/friday-walking-group-030223-2-2/2031-03-21/
LOCATION:TouchPoint Community Building at Crafton Green\, 72 Chapel Hill\, Stansted Mountfitchet\, Essex\, CM24 8AQ\, United Kingdom
CATEGORIES:Events
ATTACH;FMTTYPE=image/jpeg:https://www.thetouchpoint.org/app/uploads/2021/06/Stansted_warmemorial.jpg
ORGANIZER;CN="TouchPoint Stansted":MAILTO:info@thetouchpoint.org
END:VEVENT
END:VCALENDAR