BEGIN:VCALENDAR
VERSION:2.0
PRODID:-//TouchPoint Stansted - ECPv6.15.20//NONSGML v1.0//EN
CALSCALE:GREGORIAN
METHOD:PUBLISH
X-WR-CALNAME:TouchPoint Stansted
X-ORIGINAL-URL:https://www.thetouchpoint.org
X-WR-CALDESC:Events for TouchPoint Stansted
REFRESH-INTERVAL;VALUE=DURATION:PT1H
X-Robots-Tag:noindex
X-PUBLISHED-TTL:PT1H
BEGIN:VTIMEZONE
TZID:Europe/London
BEGIN:DAYLIGHT
TZOFFSETFROM:+0000
TZOFFSETTO:+0100
TZNAME:BST
DTSTART:20220327T010000
END:DAYLIGHT
BEGIN:STANDARD
TZOFFSETFROM:+0100
TZOFFSETTO:+0000
TZNAME:GMT
DTSTART:20221030T010000
END:STANDARD
BEGIN:DAYLIGHT
TZOFFSETFROM:+0000
TZOFFSETTO:+0100
TZNAME:BST
DTSTART:20230326T010000
END:DAYLIGHT
BEGIN:STANDARD
TZOFFSETFROM:+0100
TZOFFSETTO:+0000
TZNAME:GMT
DTSTART:20231029T010000
END:STANDARD
BEGIN:DAYLIGHT
TZOFFSETFROM:+0000
TZOFFSETTO:+0100
TZNAME:BST
DTSTART:20240331T010000
END:DAYLIGHT
BEGIN:STANDARD
TZOFFSETFROM:+0100
TZOFFSETTO:+0000
TZNAME:GMT
DTSTART:20241027T010000
END:STANDARD
END:VTIMEZONE
BEGIN:VEVENT
DTSTART;TZID=Europe/London:20230901T083000
DTEND;TZID=Europe/London:20230901T120000
DTSTAMP:20260422T075648
CREATED:20230208T161429Z
LAST-MODIFIED:20230713T081126Z
UID:10000864-1693557000-1693569600@www.thetouchpoint.org
SUMMARY:TouchPoint Community Café: Fridays
DESCRIPTION:The TouchPoint Community Cafe is open today between 8.30am and 12pm. \nYour first tea or coffee is free\, and we have a lovely selection of homemade cakes available to buy. \nWhile you are here\, you can make use of our free wifi. And when the weather is fine\, we also have seating in our community garden. \nAnd why not enjoy a free breakfast\, served between 9am and 10.30am? \nIf you’re new to the café\, why not ask to join one of our chatty tables? These tables have people who are happy to talk and meet new people\, just let us know when you order and you can start to get to know each other!\nWe can also help you to get in touch with the Uttlesford Citizens Advice team if you need support. We have two community laptops and a private space you can use if you need to fill out forms\, apply for jobs or even to make a Zoom call to a loved one.
URL:https://www.thetouchpoint.org/event/touchpoint-community-cafe-fridays/2023-09-01/
LOCATION:TouchPoint Community Building at Crafton Green\, 72 Chapel Hill\, Stansted Mountfitchet\, Essex\, CM24 8AQ\, United Kingdom
ORGANIZER;CN="TouchPoint Stansted":MAILTO:info@thetouchpoint.org
END:VEVENT
BEGIN:VEVENT
DTSTART;TZID=Europe/London:20230908T083000
DTEND;TZID=Europe/London:20230908T120000
DTSTAMP:20260422T075648
CREATED:20230208T161429Z
LAST-MODIFIED:20230713T081126Z
UID:10000865-1694161800-1694174400@www.thetouchpoint.org
SUMMARY:TouchPoint Community Café: Fridays
DESCRIPTION:The TouchPoint Community Cafe is open today between 8.30am and 12pm. \nYour first tea or coffee is free\, and we have a lovely selection of homemade cakes available to buy. \nWhile you are here\, you can make use of our free wifi. And when the weather is fine\, we also have seating in our community garden. \nAnd why not enjoy a free breakfast\, served between 9am and 10.30am? \nIf you’re new to the café\, why not ask to join one of our chatty tables? These tables have people who are happy to talk and meet new people\, just let us know when you order and you can start to get to know each other!\nWe can also help you to get in touch with the Uttlesford Citizens Advice team if you need support. We have two community laptops and a private space you can use if you need to fill out forms\, apply for jobs or even to make a Zoom call to a loved one.
URL:https://www.thetouchpoint.org/event/touchpoint-community-cafe-fridays/2023-09-08/
LOCATION:TouchPoint Community Building at Crafton Green\, 72 Chapel Hill\, Stansted Mountfitchet\, Essex\, CM24 8AQ\, United Kingdom
ORGANIZER;CN="TouchPoint Stansted":MAILTO:info@thetouchpoint.org
END:VEVENT
BEGIN:VEVENT
DTSTART;TZID=Europe/London:20230915T083000
DTEND;TZID=Europe/London:20230915T120000
DTSTAMP:20260422T075648
CREATED:20230208T161429Z
LAST-MODIFIED:20230713T081126Z
UID:10000866-1694766600-1694779200@www.thetouchpoint.org
SUMMARY:TouchPoint Community Café: Fridays
DESCRIPTION:The TouchPoint Community Cafe is open today between 8.30am and 12pm. \nYour first tea or coffee is free\, and we have a lovely selection of homemade cakes available to buy. \nWhile you are here\, you can make use of our free wifi. And when the weather is fine\, we also have seating in our community garden. \nAnd why not enjoy a free breakfast\, served between 9am and 10.30am? \nIf you’re new to the café\, why not ask to join one of our chatty tables? These tables have people who are happy to talk and meet new people\, just let us know when you order and you can start to get to know each other!\nWe can also help you to get in touch with the Uttlesford Citizens Advice team if you need support. We have two community laptops and a private space you can use if you need to fill out forms\, apply for jobs or even to make a Zoom call to a loved one.
URL:https://www.thetouchpoint.org/event/touchpoint-community-cafe-fridays/2023-09-15/
LOCATION:TouchPoint Community Building at Crafton Green\, 72 Chapel Hill\, Stansted Mountfitchet\, Essex\, CM24 8AQ\, United Kingdom
ORGANIZER;CN="TouchPoint Stansted":MAILTO:info@thetouchpoint.org
END:VEVENT
BEGIN:VEVENT
DTSTART;TZID=Europe/London:20230922T083000
DTEND;TZID=Europe/London:20230922T120000
DTSTAMP:20260422T075648
CREATED:20230208T161429Z
LAST-MODIFIED:20230713T081126Z
UID:10000867-1695371400-1695384000@www.thetouchpoint.org
SUMMARY:TouchPoint Community Café: Fridays
DESCRIPTION:The TouchPoint Community Cafe is open today between 8.30am and 12pm. \nYour first tea or coffee is free\, and we have a lovely selection of homemade cakes available to buy. \nWhile you are here\, you can make use of our free wifi. And when the weather is fine\, we also have seating in our community garden. \nAnd why not enjoy a free breakfast\, served between 9am and 10.30am? \nIf you’re new to the café\, why not ask to join one of our chatty tables? These tables have people who are happy to talk and meet new people\, just let us know when you order and you can start to get to know each other!\nWe can also help you to get in touch with the Uttlesford Citizens Advice team if you need support. We have two community laptops and a private space you can use if you need to fill out forms\, apply for jobs or even to make a Zoom call to a loved one.
URL:https://www.thetouchpoint.org/event/touchpoint-community-cafe-fridays/2023-09-22/
LOCATION:TouchPoint Community Building at Crafton Green\, 72 Chapel Hill\, Stansted Mountfitchet\, Essex\, CM24 8AQ\, United Kingdom
ORGANIZER;CN="TouchPoint Stansted":MAILTO:info@thetouchpoint.org
END:VEVENT
BEGIN:VEVENT
DTSTART;TZID=Europe/London:20230929T083000
DTEND;TZID=Europe/London:20230929T120000
DTSTAMP:20260422T075648
CREATED:20230208T161429Z
LAST-MODIFIED:20230713T081126Z
UID:10000868-1695976200-1695988800@www.thetouchpoint.org
SUMMARY:TouchPoint Community Café: Fridays
DESCRIPTION:The TouchPoint Community Cafe is open today between 8.30am and 12pm. \nYour first tea or coffee is free\, and we have a lovely selection of homemade cakes available to buy. \nWhile you are here\, you can make use of our free wifi. And when the weather is fine\, we also have seating in our community garden. \nAnd why not enjoy a free breakfast\, served between 9am and 10.30am? \nIf you’re new to the café\, why not ask to join one of our chatty tables? These tables have people who are happy to talk and meet new people\, just let us know when you order and you can start to get to know each other!\nWe can also help you to get in touch with the Uttlesford Citizens Advice team if you need support. We have two community laptops and a private space you can use if you need to fill out forms\, apply for jobs or even to make a Zoom call to a loved one.
URL:https://www.thetouchpoint.org/event/touchpoint-community-cafe-fridays/2023-09-29/
LOCATION:TouchPoint Community Building at Crafton Green\, 72 Chapel Hill\, Stansted Mountfitchet\, Essex\, CM24 8AQ\, United Kingdom
ORGANIZER;CN="TouchPoint Stansted":MAILTO:info@thetouchpoint.org
END:VEVENT
END:VCALENDAR