BEGIN:VCALENDAR
VERSION:2.0
PRODID:-//TouchPoint Stansted - ECPv6.15.20//NONSGML v1.0//EN
CALSCALE:GREGORIAN
METHOD:PUBLISH
X-ORIGINAL-URL:https://www.thetouchpoint.org
X-WR-CALDESC:Events for TouchPoint Stansted
REFRESH-INTERVAL;VALUE=DURATION:PT1H
X-Robots-Tag:noindex
X-PUBLISHED-TTL:PT1H
BEGIN:VTIMEZONE
TZID:Europe/London
BEGIN:DAYLIGHT
TZOFFSETFROM:+0000
TZOFFSETTO:+0100
TZNAME:BST
DTSTART:20300331T010000
END:DAYLIGHT
BEGIN:STANDARD
TZOFFSETFROM:+0100
TZOFFSETTO:+0000
TZNAME:GMT
DTSTART:20301027T010000
END:STANDARD
BEGIN:DAYLIGHT
TZOFFSETFROM:+0000
TZOFFSETTO:+0100
TZNAME:BST
DTSTART:20310330T010000
END:DAYLIGHT
BEGIN:STANDARD
TZOFFSETFROM:+0100
TZOFFSETTO:+0000
TZNAME:GMT
DTSTART:20311026T010000
END:STANDARD
BEGIN:DAYLIGHT
TZOFFSETFROM:+0000
TZOFFSETTO:+0100
TZNAME:BST
DTSTART:20320328T010000
END:DAYLIGHT
BEGIN:STANDARD
TZOFFSETFROM:+0100
TZOFFSETTO:+0000
TZNAME:GMT
DTSTART:20321031T010000
END:STANDARD
END:VTIMEZONE
BEGIN:VEVENT
DTSTART;TZID=Europe/London:20310131T083000
DTEND;TZID=Europe/London:20310131T103000
DTSTAMP:20260422T100839
CREATED:20240415T132140Z
LAST-MODIFIED:20260313T160807Z
UID:10051849-1927614600-1927621800@www.thetouchpoint.org
SUMMARY:TouchPoint Free Breakfast Club
DESCRIPTION:Join us at our free Breakfast Club every Friday from 8.30am to 10.30am here at Crafton Green\, Stansted. The club includes a free breakfast – such as a bacon sandwich\, porridge\, cereal and so on – and a free tea or coffee. Breakfast is served from 9am in our warm and welcoming space run by our amazing team of volunteers. \nWe are hoping to make a difference for those who would otherwise not be able to treat themselves to a breakfast like this\, so if you are already having breakfast at one of Stansted’s fabulous local cafés\, please continue to support them! Our local businesses need our support more than ever.
URL:https://www.thetouchpoint.org/event/touchpoint-free-breakfast-club-2/2031-01-31/
LOCATION:TouchPoint Community Building at Crafton Green\, 72 Chapel Hill\, Stansted Mountfitchet\, Essex\, CM24 8AQ\, United Kingdom
CATEGORIES:Events
ATTACH;FMTTYPE=image/png:https://www.thetouchpoint.org/app/uploads/2022/10/breakfast-club-banner.png
ORGANIZER;CN="TouchPoint Stansted":MAILTO:info@thetouchpoint.org
END:VEVENT
BEGIN:VEVENT
DTSTART;TZID=Europe/London:20310131T100000
DTEND;TZID=Europe/London:20310131T120000
DTSTAMP:20260422T100839
CREATED:20240415T133637Z
LAST-MODIFIED:20260327T161155Z
UID:10051914-1927620000-1927627200@www.thetouchpoint.org
SUMMARY:TouchPoint Friday Social
DESCRIPTION:Friday Social: every Friday from 10.00am to 12.00pm. \nDo you live alone\, or are you living with or caring for someone who is older\, disabled or seriously ill? The Friday Social at The TouchPoint Cafe is a relaxed and welcoming free group where you can meet people to chat\, share stories\, enjoy good company and perhaps make new friends over a cuppa. \nAll are welcome. Your first tea or coffee is always free\, no need to book\, just come along. \nFor more information\, please call us on 07572 114882.
URL:https://www.thetouchpoint.org/event/touchpoint-friday-social-2/2031-01-31/
LOCATION:TouchPoint Community Building at Crafton Green\, 72 Chapel Hill\, Stansted Mountfitchet\, Essex\, CM24 8AQ\, United Kingdom
CATEGORIES:Events
ATTACH;FMTTYPE=image/png:https://www.thetouchpoint.org/app/uploads/2025/02/TouchPoint-Monday-Breakfast-Social-1.png
ORGANIZER;CN="TouchPoint Stansted":MAILTO:info@thetouchpoint.org
END:VEVENT
BEGIN:VEVENT
DTSTART;TZID=Europe/London:20310207T083000
DTEND;TZID=Europe/London:20310207T103000
DTSTAMP:20260422T100839
CREATED:20240415T132140Z
LAST-MODIFIED:20260313T160807Z
UID:10051850-1928219400-1928226600@www.thetouchpoint.org
SUMMARY:TouchPoint Free Breakfast Club
DESCRIPTION:Join us at our free Breakfast Club every Friday from 8.30am to 10.30am here at Crafton Green\, Stansted. The club includes a free breakfast – such as a bacon sandwich\, porridge\, cereal and so on – and a free tea or coffee. Breakfast is served from 9am in our warm and welcoming space run by our amazing team of volunteers. \nWe are hoping to make a difference for those who would otherwise not be able to treat themselves to a breakfast like this\, so if you are already having breakfast at one of Stansted’s fabulous local cafés\, please continue to support them! Our local businesses need our support more than ever.
URL:https://www.thetouchpoint.org/event/touchpoint-free-breakfast-club-2/2031-02-07/
LOCATION:TouchPoint Community Building at Crafton Green\, 72 Chapel Hill\, Stansted Mountfitchet\, Essex\, CM24 8AQ\, United Kingdom
CATEGORIES:Events
ATTACH;FMTTYPE=image/png:https://www.thetouchpoint.org/app/uploads/2022/10/breakfast-club-banner.png
ORGANIZER;CN="TouchPoint Stansted":MAILTO:info@thetouchpoint.org
END:VEVENT
BEGIN:VEVENT
DTSTART;TZID=Europe/London:20310207T100000
DTEND;TZID=Europe/London:20310207T120000
DTSTAMP:20260422T100839
CREATED:20240415T133637Z
LAST-MODIFIED:20260327T161155Z
UID:10051915-1928224800-1928232000@www.thetouchpoint.org
SUMMARY:TouchPoint Friday Social
DESCRIPTION:Friday Social: every Friday from 10.00am to 12.00pm. \nDo you live alone\, or are you living with or caring for someone who is older\, disabled or seriously ill? The Friday Social at The TouchPoint Cafe is a relaxed and welcoming free group where you can meet people to chat\, share stories\, enjoy good company and perhaps make new friends over a cuppa. \nAll are welcome. Your first tea or coffee is always free\, no need to book\, just come along. \nFor more information\, please call us on 07572 114882.
URL:https://www.thetouchpoint.org/event/touchpoint-friday-social-2/2031-02-07/
LOCATION:TouchPoint Community Building at Crafton Green\, 72 Chapel Hill\, Stansted Mountfitchet\, Essex\, CM24 8AQ\, United Kingdom
CATEGORIES:Events
ATTACH;FMTTYPE=image/png:https://www.thetouchpoint.org/app/uploads/2025/02/TouchPoint-Monday-Breakfast-Social-1.png
ORGANIZER;CN="TouchPoint Stansted":MAILTO:info@thetouchpoint.org
END:VEVENT
BEGIN:VEVENT
DTSTART;TZID=Europe/London:20310214T083000
DTEND;TZID=Europe/London:20310214T103000
DTSTAMP:20260422T100839
CREATED:20240415T132140Z
LAST-MODIFIED:20260313T160807Z
UID:10051851-1928824200-1928831400@www.thetouchpoint.org
SUMMARY:TouchPoint Free Breakfast Club
DESCRIPTION:Join us at our free Breakfast Club every Friday from 8.30am to 10.30am here at Crafton Green\, Stansted. The club includes a free breakfast – such as a bacon sandwich\, porridge\, cereal and so on – and a free tea or coffee. Breakfast is served from 9am in our warm and welcoming space run by our amazing team of volunteers. \nWe are hoping to make a difference for those who would otherwise not be able to treat themselves to a breakfast like this\, so if you are already having breakfast at one of Stansted’s fabulous local cafés\, please continue to support them! Our local businesses need our support more than ever.
URL:https://www.thetouchpoint.org/event/touchpoint-free-breakfast-club-2/2031-02-14/
LOCATION:TouchPoint Community Building at Crafton Green\, 72 Chapel Hill\, Stansted Mountfitchet\, Essex\, CM24 8AQ\, United Kingdom
CATEGORIES:Events
ATTACH;FMTTYPE=image/png:https://www.thetouchpoint.org/app/uploads/2022/10/breakfast-club-banner.png
ORGANIZER;CN="TouchPoint Stansted":MAILTO:info@thetouchpoint.org
END:VEVENT
BEGIN:VEVENT
DTSTART;TZID=Europe/London:20310214T100000
DTEND;TZID=Europe/London:20310214T120000
DTSTAMP:20260422T100839
CREATED:20240415T133637Z
LAST-MODIFIED:20260327T161155Z
UID:10051916-1928829600-1928836800@www.thetouchpoint.org
SUMMARY:TouchPoint Friday Social
DESCRIPTION:Friday Social: every Friday from 10.00am to 12.00pm. \nDo you live alone\, or are you living with or caring for someone who is older\, disabled or seriously ill? The Friday Social at The TouchPoint Cafe is a relaxed and welcoming free group where you can meet people to chat\, share stories\, enjoy good company and perhaps make new friends over a cuppa. \nAll are welcome. Your first tea or coffee is always free\, no need to book\, just come along. \nFor more information\, please call us on 07572 114882.
URL:https://www.thetouchpoint.org/event/touchpoint-friday-social-2/2031-02-14/
LOCATION:TouchPoint Community Building at Crafton Green\, 72 Chapel Hill\, Stansted Mountfitchet\, Essex\, CM24 8AQ\, United Kingdom
CATEGORIES:Events
ATTACH;FMTTYPE=image/png:https://www.thetouchpoint.org/app/uploads/2025/02/TouchPoint-Monday-Breakfast-Social-1.png
ORGANIZER;CN="TouchPoint Stansted":MAILTO:info@thetouchpoint.org
END:VEVENT
BEGIN:VEVENT
DTSTART;TZID=Europe/London:20310221T083000
DTEND;TZID=Europe/London:20310221T103000
DTSTAMP:20260422T100839
CREATED:20240415T132140Z
LAST-MODIFIED:20260313T160807Z
UID:10051852-1929429000-1929436200@www.thetouchpoint.org
SUMMARY:TouchPoint Free Breakfast Club
DESCRIPTION:Join us at our free Breakfast Club every Friday from 8.30am to 10.30am here at Crafton Green\, Stansted. The club includes a free breakfast – such as a bacon sandwich\, porridge\, cereal and so on – and a free tea or coffee. Breakfast is served from 9am in our warm and welcoming space run by our amazing team of volunteers. \nWe are hoping to make a difference for those who would otherwise not be able to treat themselves to a breakfast like this\, so if you are already having breakfast at one of Stansted’s fabulous local cafés\, please continue to support them! Our local businesses need our support more than ever.
URL:https://www.thetouchpoint.org/event/touchpoint-free-breakfast-club-2/2031-02-21/
LOCATION:TouchPoint Community Building at Crafton Green\, 72 Chapel Hill\, Stansted Mountfitchet\, Essex\, CM24 8AQ\, United Kingdom
CATEGORIES:Events
ATTACH;FMTTYPE=image/png:https://www.thetouchpoint.org/app/uploads/2022/10/breakfast-club-banner.png
ORGANIZER;CN="TouchPoint Stansted":MAILTO:info@thetouchpoint.org
END:VEVENT
BEGIN:VEVENT
DTSTART;TZID=Europe/London:20310221T100000
DTEND;TZID=Europe/London:20310221T120000
DTSTAMP:20260422T100839
CREATED:20240415T133637Z
LAST-MODIFIED:20260327T161155Z
UID:10051917-1929434400-1929441600@www.thetouchpoint.org
SUMMARY:TouchPoint Friday Social
DESCRIPTION:Friday Social: every Friday from 10.00am to 12.00pm. \nDo you live alone\, or are you living with or caring for someone who is older\, disabled or seriously ill? The Friday Social at The TouchPoint Cafe is a relaxed and welcoming free group where you can meet people to chat\, share stories\, enjoy good company and perhaps make new friends over a cuppa. \nAll are welcome. Your first tea or coffee is always free\, no need to book\, just come along. \nFor more information\, please call us on 07572 114882.
URL:https://www.thetouchpoint.org/event/touchpoint-friday-social-2/2031-02-21/
LOCATION:TouchPoint Community Building at Crafton Green\, 72 Chapel Hill\, Stansted Mountfitchet\, Essex\, CM24 8AQ\, United Kingdom
CATEGORIES:Events
ATTACH;FMTTYPE=image/png:https://www.thetouchpoint.org/app/uploads/2025/02/TouchPoint-Monday-Breakfast-Social-1.png
ORGANIZER;CN="TouchPoint Stansted":MAILTO:info@thetouchpoint.org
END:VEVENT
BEGIN:VEVENT
DTSTART;TZID=Europe/London:20310228T083000
DTEND;TZID=Europe/London:20310228T103000
DTSTAMP:20260422T100839
CREATED:20240415T132140Z
LAST-MODIFIED:20260313T160807Z
UID:10051853-1930033800-1930041000@www.thetouchpoint.org
SUMMARY:TouchPoint Free Breakfast Club
DESCRIPTION:Join us at our free Breakfast Club every Friday from 8.30am to 10.30am here at Crafton Green\, Stansted. The club includes a free breakfast – such as a bacon sandwich\, porridge\, cereal and so on – and a free tea or coffee. Breakfast is served from 9am in our warm and welcoming space run by our amazing team of volunteers. \nWe are hoping to make a difference for those who would otherwise not be able to treat themselves to a breakfast like this\, so if you are already having breakfast at one of Stansted’s fabulous local cafés\, please continue to support them! Our local businesses need our support more than ever.
URL:https://www.thetouchpoint.org/event/touchpoint-free-breakfast-club-2/2031-02-28/
LOCATION:TouchPoint Community Building at Crafton Green\, 72 Chapel Hill\, Stansted Mountfitchet\, Essex\, CM24 8AQ\, United Kingdom
CATEGORIES:Events
ATTACH;FMTTYPE=image/png:https://www.thetouchpoint.org/app/uploads/2022/10/breakfast-club-banner.png
ORGANIZER;CN="TouchPoint Stansted":MAILTO:info@thetouchpoint.org
END:VEVENT
BEGIN:VEVENT
DTSTART;TZID=Europe/London:20310228T100000
DTEND;TZID=Europe/London:20310228T120000
DTSTAMP:20260422T100839
CREATED:20240415T133637Z
LAST-MODIFIED:20260327T161155Z
UID:10051918-1930039200-1930046400@www.thetouchpoint.org
SUMMARY:TouchPoint Friday Social
DESCRIPTION:Friday Social: every Friday from 10.00am to 12.00pm. \nDo you live alone\, or are you living with or caring for someone who is older\, disabled or seriously ill? The Friday Social at The TouchPoint Cafe is a relaxed and welcoming free group where you can meet people to chat\, share stories\, enjoy good company and perhaps make new friends over a cuppa. \nAll are welcome. Your first tea or coffee is always free\, no need to book\, just come along. \nFor more information\, please call us on 07572 114882.
URL:https://www.thetouchpoint.org/event/touchpoint-friday-social-2/2031-02-28/
LOCATION:TouchPoint Community Building at Crafton Green\, 72 Chapel Hill\, Stansted Mountfitchet\, Essex\, CM24 8AQ\, United Kingdom
CATEGORIES:Events
ATTACH;FMTTYPE=image/png:https://www.thetouchpoint.org/app/uploads/2025/02/TouchPoint-Monday-Breakfast-Social-1.png
ORGANIZER;CN="TouchPoint Stansted":MAILTO:info@thetouchpoint.org
END:VEVENT
BEGIN:VEVENT
DTSTART;TZID=Europe/London:20310307T083000
DTEND;TZID=Europe/London:20310307T103000
DTSTAMP:20260422T100839
CREATED:20240415T132140Z
LAST-MODIFIED:20260313T160807Z
UID:10051854-1930638600-1930645800@www.thetouchpoint.org
SUMMARY:TouchPoint Free Breakfast Club
DESCRIPTION:Join us at our free Breakfast Club every Friday from 8.30am to 10.30am here at Crafton Green\, Stansted. The club includes a free breakfast – such as a bacon sandwich\, porridge\, cereal and so on – and a free tea or coffee. Breakfast is served from 9am in our warm and welcoming space run by our amazing team of volunteers. \nWe are hoping to make a difference for those who would otherwise not be able to treat themselves to a breakfast like this\, so if you are already having breakfast at one of Stansted’s fabulous local cafés\, please continue to support them! Our local businesses need our support more than ever.
URL:https://www.thetouchpoint.org/event/touchpoint-free-breakfast-club-2/2031-03-07/
LOCATION:TouchPoint Community Building at Crafton Green\, 72 Chapel Hill\, Stansted Mountfitchet\, Essex\, CM24 8AQ\, United Kingdom
CATEGORIES:Events
ATTACH;FMTTYPE=image/png:https://www.thetouchpoint.org/app/uploads/2022/10/breakfast-club-banner.png
ORGANIZER;CN="TouchPoint Stansted":MAILTO:info@thetouchpoint.org
END:VEVENT
BEGIN:VEVENT
DTSTART;TZID=Europe/London:20310307T100000
DTEND;TZID=Europe/London:20310307T120000
DTSTAMP:20260422T100839
CREATED:20240415T133637Z
LAST-MODIFIED:20260327T161155Z
UID:10051919-1930644000-1930651200@www.thetouchpoint.org
SUMMARY:TouchPoint Friday Social
DESCRIPTION:Friday Social: every Friday from 10.00am to 12.00pm. \nDo you live alone\, or are you living with or caring for someone who is older\, disabled or seriously ill? The Friday Social at The TouchPoint Cafe is a relaxed and welcoming free group where you can meet people to chat\, share stories\, enjoy good company and perhaps make new friends over a cuppa. \nAll are welcome. Your first tea or coffee is always free\, no need to book\, just come along. \nFor more information\, please call us on 07572 114882.
URL:https://www.thetouchpoint.org/event/touchpoint-friday-social-2/2031-03-07/
LOCATION:TouchPoint Community Building at Crafton Green\, 72 Chapel Hill\, Stansted Mountfitchet\, Essex\, CM24 8AQ\, United Kingdom
CATEGORIES:Events
ATTACH;FMTTYPE=image/png:https://www.thetouchpoint.org/app/uploads/2025/02/TouchPoint-Monday-Breakfast-Social-1.png
ORGANIZER;CN="TouchPoint Stansted":MAILTO:info@thetouchpoint.org
END:VEVENT
BEGIN:VEVENT
DTSTART;TZID=Europe/London:20310314T100000
DTEND;TZID=Europe/London:20310314T120000
DTSTAMP:20260422T100839
CREATED:20240415T133637Z
LAST-MODIFIED:20260327T161155Z
UID:10051920-1931248800-1931256000@www.thetouchpoint.org
SUMMARY:TouchPoint Friday Social
DESCRIPTION:Friday Social: every Friday from 10.00am to 12.00pm. \nDo you live alone\, or are you living with or caring for someone who is older\, disabled or seriously ill? The Friday Social at The TouchPoint Cafe is a relaxed and welcoming free group where you can meet people to chat\, share stories\, enjoy good company and perhaps make new friends over a cuppa. \nAll are welcome. Your first tea or coffee is always free\, no need to book\, just come along. \nFor more information\, please call us on 07572 114882.
URL:https://www.thetouchpoint.org/event/touchpoint-friday-social-2/2031-03-14/
LOCATION:TouchPoint Community Building at Crafton Green\, 72 Chapel Hill\, Stansted Mountfitchet\, Essex\, CM24 8AQ\, United Kingdom
CATEGORIES:Events
ATTACH;FMTTYPE=image/png:https://www.thetouchpoint.org/app/uploads/2025/02/TouchPoint-Monday-Breakfast-Social-1.png
ORGANIZER;CN="TouchPoint Stansted":MAILTO:info@thetouchpoint.org
END:VEVENT
BEGIN:VEVENT
DTSTART;TZID=Europe/London:20310321T100000
DTEND;TZID=Europe/London:20310321T120000
DTSTAMP:20260422T100839
CREATED:20240415T133637Z
LAST-MODIFIED:20260327T161155Z
UID:10051921-1931853600-1931860800@www.thetouchpoint.org
SUMMARY:TouchPoint Friday Social
DESCRIPTION:Friday Social: every Friday from 10.00am to 12.00pm. \nDo you live alone\, or are you living with or caring for someone who is older\, disabled or seriously ill? The Friday Social at The TouchPoint Cafe is a relaxed and welcoming free group where you can meet people to chat\, share stories\, enjoy good company and perhaps make new friends over a cuppa. \nAll are welcome. Your first tea or coffee is always free\, no need to book\, just come along. \nFor more information\, please call us on 07572 114882.
URL:https://www.thetouchpoint.org/event/touchpoint-friday-social-2/2031-03-21/
LOCATION:TouchPoint Community Building at Crafton Green\, 72 Chapel Hill\, Stansted Mountfitchet\, Essex\, CM24 8AQ\, United Kingdom
CATEGORIES:Events
ATTACH;FMTTYPE=image/png:https://www.thetouchpoint.org/app/uploads/2025/02/TouchPoint-Monday-Breakfast-Social-1.png
ORGANIZER;CN="TouchPoint Stansted":MAILTO:info@thetouchpoint.org
END:VEVENT
END:VCALENDAR