BEGIN:VCALENDAR
VERSION:2.0
PRODID:-//TouchPoint Stansted - ECPv6.15.20//NONSGML v1.0//EN
CALSCALE:GREGORIAN
METHOD:PUBLISH
X-WR-CALNAME:TouchPoint Stansted
X-ORIGINAL-URL:https://www.thetouchpoint.org
X-WR-CALDESC:Events for TouchPoint Stansted
REFRESH-INTERVAL;VALUE=DURATION:PT1H
X-Robots-Tag:noindex
X-PUBLISHED-TTL:PT1H
BEGIN:VTIMEZONE
TZID:Europe/London
BEGIN:DAYLIGHT
TZOFFSETFROM:+0000
TZOFFSETTO:+0100
TZNAME:BST
DTSTART:20290325T010000
END:DAYLIGHT
BEGIN:STANDARD
TZOFFSETFROM:+0100
TZOFFSETTO:+0000
TZNAME:GMT
DTSTART:20291028T010000
END:STANDARD
BEGIN:DAYLIGHT
TZOFFSETFROM:+0000
TZOFFSETTO:+0100
TZNAME:BST
DTSTART:20300331T010000
END:DAYLIGHT
BEGIN:STANDARD
TZOFFSETFROM:+0100
TZOFFSETTO:+0000
TZNAME:GMT
DTSTART:20301027T010000
END:STANDARD
BEGIN:DAYLIGHT
TZOFFSETFROM:+0000
TZOFFSETTO:+0100
TZNAME:BST
DTSTART:20310330T010000
END:DAYLIGHT
BEGIN:STANDARD
TZOFFSETFROM:+0100
TZOFFSETTO:+0000
TZNAME:GMT
DTSTART:20311026T010000
END:STANDARD
END:VTIMEZONE
BEGIN:VEVENT
DTSTART;TZID=Europe/London:20300401T134000
DTEND;TZID=Europe/London:20300401T143000
DTSTAMP:20260422T071038
CREATED:20260109T131018Z
LAST-MODIFIED:20260331T083408Z
UID:10050901-1901281200-1901284200@www.thetouchpoint.org
SUMMARY:Chair Boogie: Wimbish
DESCRIPTION:Chair Boogie at Wimbish Primary School\, every Monday\, arrive at 1.30pm for a 1.40pm start. \nFREE to attend: Seated activities to uplifting music. Suitable for all: improve your fitness and have fun at the same time! Our qualified instructor will guide you through the movements at a pace to suit you. Wear something comfy that you can stretch in. Stay afterwards for free refreshments! \nWhere: Wimbish Primary School\, Maple Lane\, Tye Green\, CB10 2XE \nFor more information please email active@thetouchpoint.org\, or phone 07572 114882
URL:https://www.thetouchpoint.org/event/chair-boogie-wimbish-2/2030-04-01/
LOCATION:Wimbish Primary School\, Maple Lane\, Tye Green\, CB10 2XE\, United Kingdom
CATEGORIES:Events
ATTACH;FMTTYPE=image/jpeg:https://www.thetouchpoint.org/app/uploads/2025/04/chair-dance-Wimbish.jpg
END:VEVENT
BEGIN:VEVENT
DTSTART;TZID=Europe/London:20300403T183000
DTEND;TZID=Europe/London:20300403T193000
DTSTAMP:20260422T071038
CREATED:20250506T162507Z
LAST-MODIFIED:20251124T153805Z
UID:10013659-1901471400-1901475000@www.thetouchpoint.org
SUMMARY:Women’s Stronger You Elsenham
DESCRIPTION:Elsenham Village Hall. Join us for this fun and focused class to improve both your strength and mobility. Our trained instructor will guide you at a pace to suit your abilities. \nPlease note that this class is for women only. It is operated on a ‘pay what you can’ basis\, to ensure it is accessible to all. \nFor further information please email active@thetouchpoint.org.
URL:https://www.thetouchpoint.org/event/womens-stronger-you-strength-mobility/2030-04-03/
LOCATION:Elsenham Village Hall\, High Street\, Elsenham\, Essex\, CM22 6DD
CATEGORIES:Events
ATTACH;FMTTYPE=image/png:https://www.thetouchpoint.org/app/uploads/2025/05/shes-ready-bodyblitz.png
END:VEVENT
BEGIN:VEVENT
DTSTART;TZID=Europe/London:20300408T134000
DTEND;TZID=Europe/London:20300408T143000
DTSTAMP:20260422T071038
CREATED:20260109T131018Z
LAST-MODIFIED:20260331T083408Z
UID:10050902-1901886000-1901889000@www.thetouchpoint.org
SUMMARY:Chair Boogie: Wimbish
DESCRIPTION:Chair Boogie at Wimbish Primary School\, every Monday\, arrive at 1.30pm for a 1.40pm start. \nFREE to attend: Seated activities to uplifting music. Suitable for all: improve your fitness and have fun at the same time! Our qualified instructor will guide you through the movements at a pace to suit you. Wear something comfy that you can stretch in. Stay afterwards for free refreshments! \nWhere: Wimbish Primary School\, Maple Lane\, Tye Green\, CB10 2XE \nFor more information please email active@thetouchpoint.org\, or phone 07572 114882
URL:https://www.thetouchpoint.org/event/chair-boogie-wimbish-2/2030-04-08/
LOCATION:Wimbish Primary School\, Maple Lane\, Tye Green\, CB10 2XE\, United Kingdom
CATEGORIES:Events
ATTACH;FMTTYPE=image/jpeg:https://www.thetouchpoint.org/app/uploads/2025/04/chair-dance-Wimbish.jpg
END:VEVENT
BEGIN:VEVENT
DTSTART;TZID=Europe/London:20300410T183000
DTEND;TZID=Europe/London:20300410T193000
DTSTAMP:20260422T071038
CREATED:20250506T162507Z
LAST-MODIFIED:20251124T153805Z
UID:10013660-1902076200-1902079800@www.thetouchpoint.org
SUMMARY:Women’s Stronger You Elsenham
DESCRIPTION:Elsenham Village Hall. Join us for this fun and focused class to improve both your strength and mobility. Our trained instructor will guide you at a pace to suit your abilities. \nPlease note that this class is for women only. It is operated on a ‘pay what you can’ basis\, to ensure it is accessible to all. \nFor further information please email active@thetouchpoint.org.
URL:https://www.thetouchpoint.org/event/womens-stronger-you-strength-mobility/2030-04-10/
LOCATION:Elsenham Village Hall\, High Street\, Elsenham\, Essex\, CM22 6DD
CATEGORIES:Events
ATTACH;FMTTYPE=image/png:https://www.thetouchpoint.org/app/uploads/2025/05/shes-ready-bodyblitz.png
END:VEVENT
BEGIN:VEVENT
DTSTART;TZID=Europe/London:20300415T134000
DTEND;TZID=Europe/London:20300415T143000
DTSTAMP:20260422T071038
CREATED:20260109T131018Z
LAST-MODIFIED:20260331T083408Z
UID:10050903-1902490800-1902493800@www.thetouchpoint.org
SUMMARY:Chair Boogie: Wimbish
DESCRIPTION:Chair Boogie at Wimbish Primary School\, every Monday\, arrive at 1.30pm for a 1.40pm start. \nFREE to attend: Seated activities to uplifting music. Suitable for all: improve your fitness and have fun at the same time! Our qualified instructor will guide you through the movements at a pace to suit you. Wear something comfy that you can stretch in. Stay afterwards for free refreshments! \nWhere: Wimbish Primary School\, Maple Lane\, Tye Green\, CB10 2XE \nFor more information please email active@thetouchpoint.org\, or phone 07572 114882
URL:https://www.thetouchpoint.org/event/chair-boogie-wimbish-2/2030-04-15/
LOCATION:Wimbish Primary School\, Maple Lane\, Tye Green\, CB10 2XE\, United Kingdom
CATEGORIES:Events
ATTACH;FMTTYPE=image/jpeg:https://www.thetouchpoint.org/app/uploads/2025/04/chair-dance-Wimbish.jpg
END:VEVENT
BEGIN:VEVENT
DTSTART;TZID=Europe/London:20300417T183000
DTEND;TZID=Europe/London:20300417T193000
DTSTAMP:20260422T071038
CREATED:20250506T162507Z
LAST-MODIFIED:20251124T153805Z
UID:10013661-1902681000-1902684600@www.thetouchpoint.org
SUMMARY:Women’s Stronger You Elsenham
DESCRIPTION:Elsenham Village Hall. Join us for this fun and focused class to improve both your strength and mobility. Our trained instructor will guide you at a pace to suit your abilities. \nPlease note that this class is for women only. It is operated on a ‘pay what you can’ basis\, to ensure it is accessible to all. \nFor further information please email active@thetouchpoint.org.
URL:https://www.thetouchpoint.org/event/womens-stronger-you-strength-mobility/2030-04-17/
LOCATION:Elsenham Village Hall\, High Street\, Elsenham\, Essex\, CM22 6DD
CATEGORIES:Events
ATTACH;FMTTYPE=image/png:https://www.thetouchpoint.org/app/uploads/2025/05/shes-ready-bodyblitz.png
END:VEVENT
BEGIN:VEVENT
DTSTART;TZID=Europe/London:20300422T134000
DTEND;TZID=Europe/London:20300422T143000
DTSTAMP:20260422T071038
CREATED:20260109T131018Z
LAST-MODIFIED:20260331T083408Z
UID:10050904-1903095600-1903098600@www.thetouchpoint.org
SUMMARY:Chair Boogie: Wimbish
DESCRIPTION:Chair Boogie at Wimbish Primary School\, every Monday\, arrive at 1.30pm for a 1.40pm start. \nFREE to attend: Seated activities to uplifting music. Suitable for all: improve your fitness and have fun at the same time! Our qualified instructor will guide you through the movements at a pace to suit you. Wear something comfy that you can stretch in. Stay afterwards for free refreshments! \nWhere: Wimbish Primary School\, Maple Lane\, Tye Green\, CB10 2XE \nFor more information please email active@thetouchpoint.org\, or phone 07572 114882
URL:https://www.thetouchpoint.org/event/chair-boogie-wimbish-2/2030-04-22/
LOCATION:Wimbish Primary School\, Maple Lane\, Tye Green\, CB10 2XE\, United Kingdom
CATEGORIES:Events
ATTACH;FMTTYPE=image/jpeg:https://www.thetouchpoint.org/app/uploads/2025/04/chair-dance-Wimbish.jpg
END:VEVENT
BEGIN:VEVENT
DTSTART;TZID=Europe/London:20300424T183000
DTEND;TZID=Europe/London:20300424T193000
DTSTAMP:20260422T071038
CREATED:20250506T162507Z
LAST-MODIFIED:20251124T153805Z
UID:10013662-1903285800-1903289400@www.thetouchpoint.org
SUMMARY:Women’s Stronger You Elsenham
DESCRIPTION:Elsenham Village Hall. Join us for this fun and focused class to improve both your strength and mobility. Our trained instructor will guide you at a pace to suit your abilities. \nPlease note that this class is for women only. It is operated on a ‘pay what you can’ basis\, to ensure it is accessible to all. \nFor further information please email active@thetouchpoint.org.
URL:https://www.thetouchpoint.org/event/womens-stronger-you-strength-mobility/2030-04-24/
LOCATION:Elsenham Village Hall\, High Street\, Elsenham\, Essex\, CM22 6DD
CATEGORIES:Events
ATTACH;FMTTYPE=image/png:https://www.thetouchpoint.org/app/uploads/2025/05/shes-ready-bodyblitz.png
END:VEVENT
BEGIN:VEVENT
DTSTART;TZID=Europe/London:20300429T134000
DTEND;TZID=Europe/London:20300429T143000
DTSTAMP:20260422T071038
CREATED:20260109T131018Z
LAST-MODIFIED:20260331T083408Z
UID:10050905-1903700400-1903703400@www.thetouchpoint.org
SUMMARY:Chair Boogie: Wimbish
DESCRIPTION:Chair Boogie at Wimbish Primary School\, every Monday\, arrive at 1.30pm for a 1.40pm start. \nFREE to attend: Seated activities to uplifting music. Suitable for all: improve your fitness and have fun at the same time! Our qualified instructor will guide you through the movements at a pace to suit you. Wear something comfy that you can stretch in. Stay afterwards for free refreshments! \nWhere: Wimbish Primary School\, Maple Lane\, Tye Green\, CB10 2XE \nFor more information please email active@thetouchpoint.org\, or phone 07572 114882
URL:https://www.thetouchpoint.org/event/chair-boogie-wimbish-2/2030-04-29/
LOCATION:Wimbish Primary School\, Maple Lane\, Tye Green\, CB10 2XE\, United Kingdom
CATEGORIES:Events
ATTACH;FMTTYPE=image/jpeg:https://www.thetouchpoint.org/app/uploads/2025/04/chair-dance-Wimbish.jpg
END:VEVENT
END:VCALENDAR