BEGIN:VCALENDAR
VERSION:2.0
PRODID:-//TouchPoint Stansted - ECPv6.15.20//NONSGML v1.0//EN
CALSCALE:GREGORIAN
METHOD:PUBLISH
X-WR-CALNAME:TouchPoint Stansted
X-ORIGINAL-URL:https://www.thetouchpoint.org
X-WR-CALDESC:Events for TouchPoint Stansted
REFRESH-INTERVAL;VALUE=DURATION:PT1H
X-Robots-Tag:noindex
X-PUBLISHED-TTL:PT1H
BEGIN:VTIMEZONE
TZID:Europe/London
BEGIN:DAYLIGHT
TZOFFSETFROM:+0000
TZOFFSETTO:+0100
TZNAME:BST
DTSTART:20290325T010000
END:DAYLIGHT
BEGIN:STANDARD
TZOFFSETFROM:+0100
TZOFFSETTO:+0000
TZNAME:GMT
DTSTART:20291028T010000
END:STANDARD
BEGIN:DAYLIGHT
TZOFFSETFROM:+0000
TZOFFSETTO:+0100
TZNAME:BST
DTSTART:20300331T010000
END:DAYLIGHT
BEGIN:STANDARD
TZOFFSETFROM:+0100
TZOFFSETTO:+0000
TZNAME:GMT
DTSTART:20301027T010000
END:STANDARD
BEGIN:DAYLIGHT
TZOFFSETFROM:+0000
TZOFFSETTO:+0100
TZNAME:BST
DTSTART:20310330T010000
END:DAYLIGHT
BEGIN:STANDARD
TZOFFSETFROM:+0100
TZOFFSETTO:+0000
TZNAME:GMT
DTSTART:20311026T010000
END:STANDARD
END:VTIMEZONE
BEGIN:VEVENT
DTSTART;TZID=Europe/London:20300304T134000
DTEND;TZID=Europe/London:20300304T143000
DTSTAMP:20260422T054437
CREATED:20260109T131018Z
LAST-MODIFIED:20260331T083408Z
UID:10050897-1898862000-1898865000@www.thetouchpoint.org
SUMMARY:Chair Boogie: Wimbish
DESCRIPTION:Chair Boogie at Wimbish Primary School\, every Monday\, arrive at 1.30pm for a 1.40pm start. \nFREE to attend: Seated activities to uplifting music. Suitable for all: improve your fitness and have fun at the same time! Our qualified instructor will guide you through the movements at a pace to suit you. Wear something comfy that you can stretch in. Stay afterwards for free refreshments! \nWhere: Wimbish Primary School\, Maple Lane\, Tye Green\, CB10 2XE \nFor more information please email active@thetouchpoint.org\, or phone 07572 114882
URL:https://www.thetouchpoint.org/event/chair-boogie-wimbish-2/2030-03-04/
LOCATION:Wimbish Primary School\, Maple Lane\, Tye Green\, CB10 2XE\, United Kingdom
CATEGORIES:Events
ATTACH;FMTTYPE=image/jpeg:https://www.thetouchpoint.org/app/uploads/2025/04/chair-dance-Wimbish.jpg
END:VEVENT
BEGIN:VEVENT
DTSTART;TZID=Europe/London:20300306T183000
DTEND;TZID=Europe/London:20300306T193000
DTSTAMP:20260422T054437
CREATED:20250506T162507Z
LAST-MODIFIED:20251124T153805Z
UID:10013655-1899052200-1899055800@www.thetouchpoint.org
SUMMARY:Women’s Stronger You Elsenham
DESCRIPTION:Elsenham Village Hall. Join us for this fun and focused class to improve both your strength and mobility. Our trained instructor will guide you at a pace to suit your abilities. \nPlease note that this class is for women only. It is operated on a ‘pay what you can’ basis\, to ensure it is accessible to all. \nFor further information please email active@thetouchpoint.org.
URL:https://www.thetouchpoint.org/event/womens-stronger-you-strength-mobility/2030-03-06/
LOCATION:Elsenham Village Hall\, High Street\, Elsenham\, Essex\, CM22 6DD
CATEGORIES:Events
ATTACH;FMTTYPE=image/png:https://www.thetouchpoint.org/app/uploads/2025/05/shes-ready-bodyblitz.png
END:VEVENT
BEGIN:VEVENT
DTSTART;TZID=Europe/London:20300311T134000
DTEND;TZID=Europe/London:20300311T143000
DTSTAMP:20260422T054437
CREATED:20260109T131018Z
LAST-MODIFIED:20260331T083408Z
UID:10050898-1899466800-1899469800@www.thetouchpoint.org
SUMMARY:Chair Boogie: Wimbish
DESCRIPTION:Chair Boogie at Wimbish Primary School\, every Monday\, arrive at 1.30pm for a 1.40pm start. \nFREE to attend: Seated activities to uplifting music. Suitable for all: improve your fitness and have fun at the same time! Our qualified instructor will guide you through the movements at a pace to suit you. Wear something comfy that you can stretch in. Stay afterwards for free refreshments! \nWhere: Wimbish Primary School\, Maple Lane\, Tye Green\, CB10 2XE \nFor more information please email active@thetouchpoint.org\, or phone 07572 114882
URL:https://www.thetouchpoint.org/event/chair-boogie-wimbish-2/2030-03-11/
LOCATION:Wimbish Primary School\, Maple Lane\, Tye Green\, CB10 2XE\, United Kingdom
CATEGORIES:Events
ATTACH;FMTTYPE=image/jpeg:https://www.thetouchpoint.org/app/uploads/2025/04/chair-dance-Wimbish.jpg
END:VEVENT
BEGIN:VEVENT
DTSTART;TZID=Europe/London:20300313T183000
DTEND;TZID=Europe/London:20300313T193000
DTSTAMP:20260422T054437
CREATED:20250506T162507Z
LAST-MODIFIED:20251124T153805Z
UID:10013656-1899657000-1899660600@www.thetouchpoint.org
SUMMARY:Women’s Stronger You Elsenham
DESCRIPTION:Elsenham Village Hall. Join us for this fun and focused class to improve both your strength and mobility. Our trained instructor will guide you at a pace to suit your abilities. \nPlease note that this class is for women only. It is operated on a ‘pay what you can’ basis\, to ensure it is accessible to all. \nFor further information please email active@thetouchpoint.org.
URL:https://www.thetouchpoint.org/event/womens-stronger-you-strength-mobility/2030-03-13/
LOCATION:Elsenham Village Hall\, High Street\, Elsenham\, Essex\, CM22 6DD
CATEGORIES:Events
ATTACH;FMTTYPE=image/png:https://www.thetouchpoint.org/app/uploads/2025/05/shes-ready-bodyblitz.png
END:VEVENT
BEGIN:VEVENT
DTSTART;TZID=Europe/London:20300318T134000
DTEND;TZID=Europe/London:20300318T143000
DTSTAMP:20260422T054437
CREATED:20260109T131018Z
LAST-MODIFIED:20260331T083408Z
UID:10050899-1900071600-1900074600@www.thetouchpoint.org
SUMMARY:Chair Boogie: Wimbish
DESCRIPTION:Chair Boogie at Wimbish Primary School\, every Monday\, arrive at 1.30pm for a 1.40pm start. \nFREE to attend: Seated activities to uplifting music. Suitable for all: improve your fitness and have fun at the same time! Our qualified instructor will guide you through the movements at a pace to suit you. Wear something comfy that you can stretch in. Stay afterwards for free refreshments! \nWhere: Wimbish Primary School\, Maple Lane\, Tye Green\, CB10 2XE \nFor more information please email active@thetouchpoint.org\, or phone 07572 114882
URL:https://www.thetouchpoint.org/event/chair-boogie-wimbish-2/2030-03-18/
LOCATION:Wimbish Primary School\, Maple Lane\, Tye Green\, CB10 2XE\, United Kingdom
CATEGORIES:Events
ATTACH;FMTTYPE=image/jpeg:https://www.thetouchpoint.org/app/uploads/2025/04/chair-dance-Wimbish.jpg
END:VEVENT
BEGIN:VEVENT
DTSTART;TZID=Europe/London:20300320T183000
DTEND;TZID=Europe/London:20300320T193000
DTSTAMP:20260422T054437
CREATED:20250506T162507Z
LAST-MODIFIED:20251124T153805Z
UID:10013657-1900261800-1900265400@www.thetouchpoint.org
SUMMARY:Women’s Stronger You Elsenham
DESCRIPTION:Elsenham Village Hall. Join us for this fun and focused class to improve both your strength and mobility. Our trained instructor will guide you at a pace to suit your abilities. \nPlease note that this class is for women only. It is operated on a ‘pay what you can’ basis\, to ensure it is accessible to all. \nFor further information please email active@thetouchpoint.org.
URL:https://www.thetouchpoint.org/event/womens-stronger-you-strength-mobility/2030-03-20/
LOCATION:Elsenham Village Hall\, High Street\, Elsenham\, Essex\, CM22 6DD
CATEGORIES:Events
ATTACH;FMTTYPE=image/png:https://www.thetouchpoint.org/app/uploads/2025/05/shes-ready-bodyblitz.png
END:VEVENT
BEGIN:VEVENT
DTSTART;TZID=Europe/London:20300325T134000
DTEND;TZID=Europe/London:20300325T143000
DTSTAMP:20260422T054437
CREATED:20260109T131018Z
LAST-MODIFIED:20260331T083408Z
UID:10050900-1900676400-1900679400@www.thetouchpoint.org
SUMMARY:Chair Boogie: Wimbish
DESCRIPTION:Chair Boogie at Wimbish Primary School\, every Monday\, arrive at 1.30pm for a 1.40pm start. \nFREE to attend: Seated activities to uplifting music. Suitable for all: improve your fitness and have fun at the same time! Our qualified instructor will guide you through the movements at a pace to suit you. Wear something comfy that you can stretch in. Stay afterwards for free refreshments! \nWhere: Wimbish Primary School\, Maple Lane\, Tye Green\, CB10 2XE \nFor more information please email active@thetouchpoint.org\, or phone 07572 114882
URL:https://www.thetouchpoint.org/event/chair-boogie-wimbish-2/2030-03-25/
LOCATION:Wimbish Primary School\, Maple Lane\, Tye Green\, CB10 2XE\, United Kingdom
CATEGORIES:Events
ATTACH;FMTTYPE=image/jpeg:https://www.thetouchpoint.org/app/uploads/2025/04/chair-dance-Wimbish.jpg
END:VEVENT
BEGIN:VEVENT
DTSTART;TZID=Europe/London:20300327T183000
DTEND;TZID=Europe/London:20300327T193000
DTSTAMP:20260422T054437
CREATED:20250506T162507Z
LAST-MODIFIED:20251124T153805Z
UID:10013658-1900866600-1900870200@www.thetouchpoint.org
SUMMARY:Women’s Stronger You Elsenham
DESCRIPTION:Elsenham Village Hall. Join us for this fun and focused class to improve both your strength and mobility. Our trained instructor will guide you at a pace to suit your abilities. \nPlease note that this class is for women only. It is operated on a ‘pay what you can’ basis\, to ensure it is accessible to all. \nFor further information please email active@thetouchpoint.org.
URL:https://www.thetouchpoint.org/event/womens-stronger-you-strength-mobility/2030-03-27/
LOCATION:Elsenham Village Hall\, High Street\, Elsenham\, Essex\, CM22 6DD
CATEGORIES:Events
ATTACH;FMTTYPE=image/png:https://www.thetouchpoint.org/app/uploads/2025/05/shes-ready-bodyblitz.png
END:VEVENT
END:VCALENDAR