BEGIN:VCALENDAR
VERSION:2.0
PRODID:-//TouchPoint Stansted - ECPv6.15.20//NONSGML v1.0//EN
CALSCALE:GREGORIAN
METHOD:PUBLISH
X-WR-CALNAME:TouchPoint Stansted
X-ORIGINAL-URL:https://www.thetouchpoint.org
X-WR-CALDESC:Events for TouchPoint Stansted
REFRESH-INTERVAL;VALUE=DURATION:PT1H
X-Robots-Tag:noindex
X-PUBLISHED-TTL:PT1H
BEGIN:VTIMEZONE
TZID:Europe/London
BEGIN:DAYLIGHT
TZOFFSETFROM:+0000
TZOFFSETTO:+0100
TZNAME:BST
DTSTART:20280326T010000
END:DAYLIGHT
BEGIN:STANDARD
TZOFFSETFROM:+0100
TZOFFSETTO:+0000
TZNAME:GMT
DTSTART:20281029T010000
END:STANDARD
BEGIN:DAYLIGHT
TZOFFSETFROM:+0000
TZOFFSETTO:+0100
TZNAME:BST
DTSTART:20290325T010000
END:DAYLIGHT
BEGIN:STANDARD
TZOFFSETFROM:+0100
TZOFFSETTO:+0000
TZNAME:GMT
DTSTART:20291028T010000
END:STANDARD
BEGIN:DAYLIGHT
TZOFFSETFROM:+0000
TZOFFSETTO:+0100
TZNAME:BST
DTSTART:20300331T010000
END:DAYLIGHT
BEGIN:STANDARD
TZOFFSETFROM:+0100
TZOFFSETTO:+0000
TZNAME:GMT
DTSTART:20301027T010000
END:STANDARD
END:VTIMEZONE
BEGIN:VEVENT
DTSTART;TZID=Europe/London:20290604T134000
DTEND;TZID=Europe/London:20290604T143000
DTSTAMP:20260421T162642
CREATED:20260109T131018Z
LAST-MODIFIED:20260331T083408Z
UID:10050858-1875274800-1875277800@www.thetouchpoint.org
SUMMARY:Chair Boogie: Wimbish
DESCRIPTION:Chair Boogie at Wimbish Primary School\, every Monday\, arrive at 1.30pm for a 1.40pm start. \nFREE to attend: Seated activities to uplifting music. Suitable for all: improve your fitness and have fun at the same time! Our qualified instructor will guide you through the movements at a pace to suit you. Wear something comfy that you can stretch in. Stay afterwards for free refreshments! \nWhere: Wimbish Primary School\, Maple Lane\, Tye Green\, CB10 2XE \nFor more information please email active@thetouchpoint.org\, or phone 07572 114882
URL:https://www.thetouchpoint.org/event/chair-boogie-wimbish-2/2029-06-04/
LOCATION:Wimbish Primary School\, Maple Lane\, Tye Green\, CB10 2XE\, United Kingdom
CATEGORIES:Events
ATTACH;FMTTYPE=image/jpeg:https://www.thetouchpoint.org/app/uploads/2025/04/chair-dance-Wimbish.jpg
END:VEVENT
BEGIN:VEVENT
DTSTART;TZID=Europe/London:20290606T183000
DTEND;TZID=Europe/London:20290606T193000
DTSTAMP:20260421T162642
CREATED:20250506T162507Z
LAST-MODIFIED:20251124T153805Z
UID:10013616-1875465000-1875468600@www.thetouchpoint.org
SUMMARY:Women’s Stronger You Elsenham
DESCRIPTION:Elsenham Village Hall. Join us for this fun and focused class to improve both your strength and mobility. Our trained instructor will guide you at a pace to suit your abilities. \nPlease note that this class is for women only. It is operated on a ‘pay what you can’ basis\, to ensure it is accessible to all. \nFor further information please email active@thetouchpoint.org.
URL:https://www.thetouchpoint.org/event/womens-stronger-you-strength-mobility/2029-06-06/
LOCATION:Elsenham Village Hall\, High Street\, Elsenham\, Essex\, CM22 6DD
CATEGORIES:Events
ATTACH;FMTTYPE=image/png:https://www.thetouchpoint.org/app/uploads/2025/05/shes-ready-bodyblitz.png
END:VEVENT
BEGIN:VEVENT
DTSTART;TZID=Europe/London:20290611T134000
DTEND;TZID=Europe/London:20290611T143000
DTSTAMP:20260421T162642
CREATED:20260109T131018Z
LAST-MODIFIED:20260331T083408Z
UID:10050859-1875879600-1875882600@www.thetouchpoint.org
SUMMARY:Chair Boogie: Wimbish
DESCRIPTION:Chair Boogie at Wimbish Primary School\, every Monday\, arrive at 1.30pm for a 1.40pm start. \nFREE to attend: Seated activities to uplifting music. Suitable for all: improve your fitness and have fun at the same time! Our qualified instructor will guide you through the movements at a pace to suit you. Wear something comfy that you can stretch in. Stay afterwards for free refreshments! \nWhere: Wimbish Primary School\, Maple Lane\, Tye Green\, CB10 2XE \nFor more information please email active@thetouchpoint.org\, or phone 07572 114882
URL:https://www.thetouchpoint.org/event/chair-boogie-wimbish-2/2029-06-11/
LOCATION:Wimbish Primary School\, Maple Lane\, Tye Green\, CB10 2XE\, United Kingdom
CATEGORIES:Events
ATTACH;FMTTYPE=image/jpeg:https://www.thetouchpoint.org/app/uploads/2025/04/chair-dance-Wimbish.jpg
END:VEVENT
BEGIN:VEVENT
DTSTART;TZID=Europe/London:20290613T183000
DTEND;TZID=Europe/London:20290613T193000
DTSTAMP:20260421T162642
CREATED:20250506T162507Z
LAST-MODIFIED:20251124T153805Z
UID:10013617-1876069800-1876073400@www.thetouchpoint.org
SUMMARY:Women’s Stronger You Elsenham
DESCRIPTION:Elsenham Village Hall. Join us for this fun and focused class to improve both your strength and mobility. Our trained instructor will guide you at a pace to suit your abilities. \nPlease note that this class is for women only. It is operated on a ‘pay what you can’ basis\, to ensure it is accessible to all. \nFor further information please email active@thetouchpoint.org.
URL:https://www.thetouchpoint.org/event/womens-stronger-you-strength-mobility/2029-06-13/
LOCATION:Elsenham Village Hall\, High Street\, Elsenham\, Essex\, CM22 6DD
CATEGORIES:Events
ATTACH;FMTTYPE=image/png:https://www.thetouchpoint.org/app/uploads/2025/05/shes-ready-bodyblitz.png
END:VEVENT
BEGIN:VEVENT
DTSTART;TZID=Europe/London:20290618T134000
DTEND;TZID=Europe/London:20290618T143000
DTSTAMP:20260421T162642
CREATED:20260109T131018Z
LAST-MODIFIED:20260331T083408Z
UID:10050860-1876484400-1876487400@www.thetouchpoint.org
SUMMARY:Chair Boogie: Wimbish
DESCRIPTION:Chair Boogie at Wimbish Primary School\, every Monday\, arrive at 1.30pm for a 1.40pm start. \nFREE to attend: Seated activities to uplifting music. Suitable for all: improve your fitness and have fun at the same time! Our qualified instructor will guide you through the movements at a pace to suit you. Wear something comfy that you can stretch in. Stay afterwards for free refreshments! \nWhere: Wimbish Primary School\, Maple Lane\, Tye Green\, CB10 2XE \nFor more information please email active@thetouchpoint.org\, or phone 07572 114882
URL:https://www.thetouchpoint.org/event/chair-boogie-wimbish-2/2029-06-18/
LOCATION:Wimbish Primary School\, Maple Lane\, Tye Green\, CB10 2XE\, United Kingdom
CATEGORIES:Events
ATTACH;FMTTYPE=image/jpeg:https://www.thetouchpoint.org/app/uploads/2025/04/chair-dance-Wimbish.jpg
END:VEVENT
BEGIN:VEVENT
DTSTART;TZID=Europe/London:20290620T183000
DTEND;TZID=Europe/London:20290620T193000
DTSTAMP:20260421T162642
CREATED:20250506T162507Z
LAST-MODIFIED:20251124T153805Z
UID:10013618-1876674600-1876678200@www.thetouchpoint.org
SUMMARY:Women’s Stronger You Elsenham
DESCRIPTION:Elsenham Village Hall. Join us for this fun and focused class to improve both your strength and mobility. Our trained instructor will guide you at a pace to suit your abilities. \nPlease note that this class is for women only. It is operated on a ‘pay what you can’ basis\, to ensure it is accessible to all. \nFor further information please email active@thetouchpoint.org.
URL:https://www.thetouchpoint.org/event/womens-stronger-you-strength-mobility/2029-06-20/
LOCATION:Elsenham Village Hall\, High Street\, Elsenham\, Essex\, CM22 6DD
CATEGORIES:Events
ATTACH;FMTTYPE=image/png:https://www.thetouchpoint.org/app/uploads/2025/05/shes-ready-bodyblitz.png
END:VEVENT
BEGIN:VEVENT
DTSTART;TZID=Europe/London:20290625T134000
DTEND;TZID=Europe/London:20290625T143000
DTSTAMP:20260421T162642
CREATED:20260109T131018Z
LAST-MODIFIED:20260331T083408Z
UID:10050861-1877089200-1877092200@www.thetouchpoint.org
SUMMARY:Chair Boogie: Wimbish
DESCRIPTION:Chair Boogie at Wimbish Primary School\, every Monday\, arrive at 1.30pm for a 1.40pm start. \nFREE to attend: Seated activities to uplifting music. Suitable for all: improve your fitness and have fun at the same time! Our qualified instructor will guide you through the movements at a pace to suit you. Wear something comfy that you can stretch in. Stay afterwards for free refreshments! \nWhere: Wimbish Primary School\, Maple Lane\, Tye Green\, CB10 2XE \nFor more information please email active@thetouchpoint.org\, or phone 07572 114882
URL:https://www.thetouchpoint.org/event/chair-boogie-wimbish-2/2029-06-25/
LOCATION:Wimbish Primary School\, Maple Lane\, Tye Green\, CB10 2XE\, United Kingdom
CATEGORIES:Events
ATTACH;FMTTYPE=image/jpeg:https://www.thetouchpoint.org/app/uploads/2025/04/chair-dance-Wimbish.jpg
END:VEVENT
BEGIN:VEVENT
DTSTART;TZID=Europe/London:20290627T183000
DTEND;TZID=Europe/London:20290627T193000
DTSTAMP:20260421T162642
CREATED:20250506T162507Z
LAST-MODIFIED:20251124T153805Z
UID:10013619-1877279400-1877283000@www.thetouchpoint.org
SUMMARY:Women’s Stronger You Elsenham
DESCRIPTION:Elsenham Village Hall. Join us for this fun and focused class to improve both your strength and mobility. Our trained instructor will guide you at a pace to suit your abilities. \nPlease note that this class is for women only. It is operated on a ‘pay what you can’ basis\, to ensure it is accessible to all. \nFor further information please email active@thetouchpoint.org.
URL:https://www.thetouchpoint.org/event/womens-stronger-you-strength-mobility/2029-06-27/
LOCATION:Elsenham Village Hall\, High Street\, Elsenham\, Essex\, CM22 6DD
CATEGORIES:Events
ATTACH;FMTTYPE=image/png:https://www.thetouchpoint.org/app/uploads/2025/05/shes-ready-bodyblitz.png
END:VEVENT
END:VCALENDAR