BEGIN:VCALENDAR
VERSION:2.0
PRODID:-//TouchPoint Stansted - ECPv6.15.20//NONSGML v1.0//EN
CALSCALE:GREGORIAN
METHOD:PUBLISH
X-ORIGINAL-URL:https://www.thetouchpoint.org
X-WR-CALDESC:Events for TouchPoint Stansted
REFRESH-INTERVAL;VALUE=DURATION:PT1H
X-Robots-Tag:noindex
X-PUBLISHED-TTL:PT1H
BEGIN:VTIMEZONE
TZID:Europe/London
BEGIN:DAYLIGHT
TZOFFSETFROM:+0000
TZOFFSETTO:+0100
TZNAME:BST
DTSTART:20270328T010000
END:DAYLIGHT
BEGIN:STANDARD
TZOFFSETFROM:+0100
TZOFFSETTO:+0000
TZNAME:GMT
DTSTART:20271031T010000
END:STANDARD
BEGIN:DAYLIGHT
TZOFFSETFROM:+0000
TZOFFSETTO:+0100
TZNAME:BST
DTSTART:20280326T010000
END:DAYLIGHT
BEGIN:STANDARD
TZOFFSETFROM:+0100
TZOFFSETTO:+0000
TZNAME:GMT
DTSTART:20281029T010000
END:STANDARD
BEGIN:DAYLIGHT
TZOFFSETFROM:+0000
TZOFFSETTO:+0100
TZNAME:BST
DTSTART:20290325T010000
END:DAYLIGHT
BEGIN:STANDARD
TZOFFSETFROM:+0100
TZOFFSETTO:+0000
TZNAME:GMT
DTSTART:20291028T010000
END:STANDARD
END:VTIMEZONE
BEGIN:VEVENT
DTSTART;TZID=Europe/London:20281002T134000
DTEND;TZID=Europe/London:20281002T143000
DTSTAMP:20260421T044941
CREATED:20260109T131018Z
LAST-MODIFIED:20260331T083408Z
UID:10050823-1854106800-1854109800@www.thetouchpoint.org
SUMMARY:Chair Boogie: Wimbish
DESCRIPTION:Chair Boogie at Wimbish Primary School\, every Monday\, arrive at 1.30pm for a 1.40pm start. \nFREE to attend: Seated activities to uplifting music. Suitable for all: improve your fitness and have fun at the same time! Our qualified instructor will guide you through the movements at a pace to suit you. Wear something comfy that you can stretch in. Stay afterwards for free refreshments! \nWhere: Wimbish Primary School\, Maple Lane\, Tye Green\, CB10 2XE \nFor more information please email active@thetouchpoint.org\, or phone 07572 114882
URL:https://www.thetouchpoint.org/event/chair-boogie-wimbish-2/2028-10-02/
LOCATION:Wimbish Primary School\, Maple Lane\, Tye Green\, CB10 2XE\, United Kingdom
CATEGORIES:Events
ATTACH;FMTTYPE=image/jpeg:https://www.thetouchpoint.org/app/uploads/2025/04/chair-dance-Wimbish.jpg
END:VEVENT
BEGIN:VEVENT
DTSTART;TZID=Europe/London:20281004T183000
DTEND;TZID=Europe/London:20281004T193000
DTSTAMP:20260421T044941
CREATED:20250506T162507Z
LAST-MODIFIED:20251124T153805Z
UID:10013581-1854297000-1854300600@www.thetouchpoint.org
SUMMARY:Women’s Stronger You Elsenham
DESCRIPTION:Elsenham Village Hall. Join us for this fun and focused class to improve both your strength and mobility. Our trained instructor will guide you at a pace to suit your abilities. \nPlease note that this class is for women only. It is operated on a ‘pay what you can’ basis\, to ensure it is accessible to all. \nFor further information please email active@thetouchpoint.org.
URL:https://www.thetouchpoint.org/event/womens-stronger-you-strength-mobility/2028-10-04/
LOCATION:Elsenham Village Hall\, High Street\, Elsenham\, Essex\, CM22 6DD
CATEGORIES:Events
ATTACH;FMTTYPE=image/png:https://www.thetouchpoint.org/app/uploads/2025/05/shes-ready-bodyblitz.png
END:VEVENT
BEGIN:VEVENT
DTSTART;TZID=Europe/London:20281009T134000
DTEND;TZID=Europe/London:20281009T143000
DTSTAMP:20260421T044941
CREATED:20260109T131018Z
LAST-MODIFIED:20260331T083408Z
UID:10050824-1854711600-1854714600@www.thetouchpoint.org
SUMMARY:Chair Boogie: Wimbish
DESCRIPTION:Chair Boogie at Wimbish Primary School\, every Monday\, arrive at 1.30pm for a 1.40pm start. \nFREE to attend: Seated activities to uplifting music. Suitable for all: improve your fitness and have fun at the same time! Our qualified instructor will guide you through the movements at a pace to suit you. Wear something comfy that you can stretch in. Stay afterwards for free refreshments! \nWhere: Wimbish Primary School\, Maple Lane\, Tye Green\, CB10 2XE \nFor more information please email active@thetouchpoint.org\, or phone 07572 114882
URL:https://www.thetouchpoint.org/event/chair-boogie-wimbish-2/2028-10-09/
LOCATION:Wimbish Primary School\, Maple Lane\, Tye Green\, CB10 2XE\, United Kingdom
CATEGORIES:Events
ATTACH;FMTTYPE=image/jpeg:https://www.thetouchpoint.org/app/uploads/2025/04/chair-dance-Wimbish.jpg
END:VEVENT
BEGIN:VEVENT
DTSTART;TZID=Europe/London:20281011T183000
DTEND;TZID=Europe/London:20281011T193000
DTSTAMP:20260421T044941
CREATED:20250506T162507Z
LAST-MODIFIED:20251124T153805Z
UID:10013582-1854901800-1854905400@www.thetouchpoint.org
SUMMARY:Women’s Stronger You Elsenham
DESCRIPTION:Elsenham Village Hall. Join us for this fun and focused class to improve both your strength and mobility. Our trained instructor will guide you at a pace to suit your abilities. \nPlease note that this class is for women only. It is operated on a ‘pay what you can’ basis\, to ensure it is accessible to all. \nFor further information please email active@thetouchpoint.org.
URL:https://www.thetouchpoint.org/event/womens-stronger-you-strength-mobility/2028-10-11/
LOCATION:Elsenham Village Hall\, High Street\, Elsenham\, Essex\, CM22 6DD
CATEGORIES:Events
ATTACH;FMTTYPE=image/png:https://www.thetouchpoint.org/app/uploads/2025/05/shes-ready-bodyblitz.png
END:VEVENT
BEGIN:VEVENT
DTSTART;TZID=Europe/London:20281016T134000
DTEND;TZID=Europe/London:20281016T143000
DTSTAMP:20260421T044941
CREATED:20260109T131018Z
LAST-MODIFIED:20260331T083408Z
UID:10050825-1855316400-1855319400@www.thetouchpoint.org
SUMMARY:Chair Boogie: Wimbish
DESCRIPTION:Chair Boogie at Wimbish Primary School\, every Monday\, arrive at 1.30pm for a 1.40pm start. \nFREE to attend: Seated activities to uplifting music. Suitable for all: improve your fitness and have fun at the same time! Our qualified instructor will guide you through the movements at a pace to suit you. Wear something comfy that you can stretch in. Stay afterwards for free refreshments! \nWhere: Wimbish Primary School\, Maple Lane\, Tye Green\, CB10 2XE \nFor more information please email active@thetouchpoint.org\, or phone 07572 114882
URL:https://www.thetouchpoint.org/event/chair-boogie-wimbish-2/2028-10-16/
LOCATION:Wimbish Primary School\, Maple Lane\, Tye Green\, CB10 2XE\, United Kingdom
CATEGORIES:Events
ATTACH;FMTTYPE=image/jpeg:https://www.thetouchpoint.org/app/uploads/2025/04/chair-dance-Wimbish.jpg
END:VEVENT
BEGIN:VEVENT
DTSTART;TZID=Europe/London:20281018T183000
DTEND;TZID=Europe/London:20281018T193000
DTSTAMP:20260421T044941
CREATED:20250506T162507Z
LAST-MODIFIED:20251124T153805Z
UID:10013583-1855506600-1855510200@www.thetouchpoint.org
SUMMARY:Women’s Stronger You Elsenham
DESCRIPTION:Elsenham Village Hall. Join us for this fun and focused class to improve both your strength and mobility. Our trained instructor will guide you at a pace to suit your abilities. \nPlease note that this class is for women only. It is operated on a ‘pay what you can’ basis\, to ensure it is accessible to all. \nFor further information please email active@thetouchpoint.org.
URL:https://www.thetouchpoint.org/event/womens-stronger-you-strength-mobility/2028-10-18/
LOCATION:Elsenham Village Hall\, High Street\, Elsenham\, Essex\, CM22 6DD
CATEGORIES:Events
ATTACH;FMTTYPE=image/png:https://www.thetouchpoint.org/app/uploads/2025/05/shes-ready-bodyblitz.png
END:VEVENT
BEGIN:VEVENT
DTSTART;TZID=Europe/London:20281023T134000
DTEND;TZID=Europe/London:20281023T143000
DTSTAMP:20260421T044941
CREATED:20260109T131018Z
LAST-MODIFIED:20260331T083408Z
UID:10050826-1855921200-1855924200@www.thetouchpoint.org
SUMMARY:Chair Boogie: Wimbish
DESCRIPTION:Chair Boogie at Wimbish Primary School\, every Monday\, arrive at 1.30pm for a 1.40pm start. \nFREE to attend: Seated activities to uplifting music. Suitable for all: improve your fitness and have fun at the same time! Our qualified instructor will guide you through the movements at a pace to suit you. Wear something comfy that you can stretch in. Stay afterwards for free refreshments! \nWhere: Wimbish Primary School\, Maple Lane\, Tye Green\, CB10 2XE \nFor more information please email active@thetouchpoint.org\, or phone 07572 114882
URL:https://www.thetouchpoint.org/event/chair-boogie-wimbish-2/2028-10-23/
LOCATION:Wimbish Primary School\, Maple Lane\, Tye Green\, CB10 2XE\, United Kingdom
CATEGORIES:Events
ATTACH;FMTTYPE=image/jpeg:https://www.thetouchpoint.org/app/uploads/2025/04/chair-dance-Wimbish.jpg
END:VEVENT
BEGIN:VEVENT
DTSTART;TZID=Europe/London:20281025T183000
DTEND;TZID=Europe/London:20281025T193000
DTSTAMP:20260421T044941
CREATED:20250506T162507Z
LAST-MODIFIED:20251124T153805Z
UID:10013584-1856111400-1856115000@www.thetouchpoint.org
SUMMARY:Women’s Stronger You Elsenham
DESCRIPTION:Elsenham Village Hall. Join us for this fun and focused class to improve both your strength and mobility. Our trained instructor will guide you at a pace to suit your abilities. \nPlease note that this class is for women only. It is operated on a ‘pay what you can’ basis\, to ensure it is accessible to all. \nFor further information please email active@thetouchpoint.org.
URL:https://www.thetouchpoint.org/event/womens-stronger-you-strength-mobility/2028-10-25/
LOCATION:Elsenham Village Hall\, High Street\, Elsenham\, Essex\, CM22 6DD
CATEGORIES:Events
ATTACH;FMTTYPE=image/png:https://www.thetouchpoint.org/app/uploads/2025/05/shes-ready-bodyblitz.png
END:VEVENT
BEGIN:VEVENT
DTSTART;TZID=Europe/London:20281030T134000
DTEND;TZID=Europe/London:20281030T143000
DTSTAMP:20260421T044941
CREATED:20260109T131018Z
LAST-MODIFIED:20260331T083408Z
UID:10050827-1856526000-1856529000@www.thetouchpoint.org
SUMMARY:Chair Boogie: Wimbish
DESCRIPTION:Chair Boogie at Wimbish Primary School\, every Monday\, arrive at 1.30pm for a 1.40pm start. \nFREE to attend: Seated activities to uplifting music. Suitable for all: improve your fitness and have fun at the same time! Our qualified instructor will guide you through the movements at a pace to suit you. Wear something comfy that you can stretch in. Stay afterwards for free refreshments! \nWhere: Wimbish Primary School\, Maple Lane\, Tye Green\, CB10 2XE \nFor more information please email active@thetouchpoint.org\, or phone 07572 114882
URL:https://www.thetouchpoint.org/event/chair-boogie-wimbish-2/2028-10-30/
LOCATION:Wimbish Primary School\, Maple Lane\, Tye Green\, CB10 2XE\, United Kingdom
CATEGORIES:Events
ATTACH;FMTTYPE=image/jpeg:https://www.thetouchpoint.org/app/uploads/2025/04/chair-dance-Wimbish.jpg
END:VEVENT
END:VCALENDAR