BEGIN:VCALENDAR
VERSION:2.0
PRODID:-//TouchPoint Stansted - ECPv6.15.20//NONSGML v1.0//EN
CALSCALE:GREGORIAN
METHOD:PUBLISH
X-WR-CALNAME:TouchPoint Stansted
X-ORIGINAL-URL:https://www.thetouchpoint.org
X-WR-CALDESC:Events for TouchPoint Stansted
REFRESH-INTERVAL;VALUE=DURATION:PT1H
X-Robots-Tag:noindex
X-PUBLISHED-TTL:PT1H
BEGIN:VTIMEZONE
TZID:Europe/London
BEGIN:DAYLIGHT
TZOFFSETFROM:+0000
TZOFFSETTO:+0100
TZNAME:BST
DTSTART:20270328T010000
END:DAYLIGHT
BEGIN:STANDARD
TZOFFSETFROM:+0100
TZOFFSETTO:+0000
TZNAME:GMT
DTSTART:20271031T010000
END:STANDARD
BEGIN:DAYLIGHT
TZOFFSETFROM:+0000
TZOFFSETTO:+0100
TZNAME:BST
DTSTART:20280326T010000
END:DAYLIGHT
BEGIN:STANDARD
TZOFFSETFROM:+0100
TZOFFSETTO:+0000
TZNAME:GMT
DTSTART:20281029T010000
END:STANDARD
BEGIN:DAYLIGHT
TZOFFSETFROM:+0000
TZOFFSETTO:+0100
TZNAME:BST
DTSTART:20290325T010000
END:DAYLIGHT
BEGIN:STANDARD
TZOFFSETFROM:+0100
TZOFFSETTO:+0000
TZNAME:GMT
DTSTART:20291028T010000
END:STANDARD
END:VTIMEZONE
BEGIN:VEVENT
DTSTART;TZID=Europe/London:20280703T134000
DTEND;TZID=Europe/London:20280703T143000
DTSTAMP:20260421T002319
CREATED:20260109T131018Z
LAST-MODIFIED:20260331T083408Z
UID:10050810-1846244400-1846247400@www.thetouchpoint.org
SUMMARY:Chair Boogie: Wimbish
DESCRIPTION:Chair Boogie at Wimbish Primary School\, every Monday\, arrive at 1.30pm for a 1.40pm start. \nFREE to attend: Seated activities to uplifting music. Suitable for all: improve your fitness and have fun at the same time! Our qualified instructor will guide you through the movements at a pace to suit you. Wear something comfy that you can stretch in. Stay afterwards for free refreshments! \nWhere: Wimbish Primary School\, Maple Lane\, Tye Green\, CB10 2XE \nFor more information please email active@thetouchpoint.org\, or phone 07572 114882
URL:https://www.thetouchpoint.org/event/chair-boogie-wimbish-2/2028-07-03/
LOCATION:Wimbish Primary School\, Maple Lane\, Tye Green\, CB10 2XE\, United Kingdom
CATEGORIES:Events
ATTACH;FMTTYPE=image/jpeg:https://www.thetouchpoint.org/app/uploads/2025/04/chair-dance-Wimbish.jpg
END:VEVENT
BEGIN:VEVENT
DTSTART;TZID=Europe/London:20280705T183000
DTEND;TZID=Europe/London:20280705T193000
DTSTAMP:20260421T002319
CREATED:20250506T162507Z
LAST-MODIFIED:20251124T153805Z
UID:10013568-1846434600-1846438200@www.thetouchpoint.org
SUMMARY:Women’s Stronger You Elsenham
DESCRIPTION:Elsenham Village Hall. Join us for this fun and focused class to improve both your strength and mobility. Our trained instructor will guide you at a pace to suit your abilities. \nPlease note that this class is for women only. It is operated on a ‘pay what you can’ basis\, to ensure it is accessible to all. \nFor further information please email active@thetouchpoint.org.
URL:https://www.thetouchpoint.org/event/womens-stronger-you-strength-mobility/2028-07-05/
LOCATION:Elsenham Village Hall\, High Street\, Elsenham\, Essex\, CM22 6DD
CATEGORIES:Events
ATTACH;FMTTYPE=image/png:https://www.thetouchpoint.org/app/uploads/2025/05/shes-ready-bodyblitz.png
END:VEVENT
BEGIN:VEVENT
DTSTART;TZID=Europe/London:20280710T134000
DTEND;TZID=Europe/London:20280710T143000
DTSTAMP:20260421T002319
CREATED:20260109T131018Z
LAST-MODIFIED:20260331T083408Z
UID:10050811-1846849200-1846852200@www.thetouchpoint.org
SUMMARY:Chair Boogie: Wimbish
DESCRIPTION:Chair Boogie at Wimbish Primary School\, every Monday\, arrive at 1.30pm for a 1.40pm start. \nFREE to attend: Seated activities to uplifting music. Suitable for all: improve your fitness and have fun at the same time! Our qualified instructor will guide you through the movements at a pace to suit you. Wear something comfy that you can stretch in. Stay afterwards for free refreshments! \nWhere: Wimbish Primary School\, Maple Lane\, Tye Green\, CB10 2XE \nFor more information please email active@thetouchpoint.org\, or phone 07572 114882
URL:https://www.thetouchpoint.org/event/chair-boogie-wimbish-2/2028-07-10/
LOCATION:Wimbish Primary School\, Maple Lane\, Tye Green\, CB10 2XE\, United Kingdom
CATEGORIES:Events
ATTACH;FMTTYPE=image/jpeg:https://www.thetouchpoint.org/app/uploads/2025/04/chair-dance-Wimbish.jpg
END:VEVENT
BEGIN:VEVENT
DTSTART;TZID=Europe/London:20280712T183000
DTEND;TZID=Europe/London:20280712T193000
DTSTAMP:20260421T002319
CREATED:20250506T162507Z
LAST-MODIFIED:20251124T153805Z
UID:10013569-1847039400-1847043000@www.thetouchpoint.org
SUMMARY:Women’s Stronger You Elsenham
DESCRIPTION:Elsenham Village Hall. Join us for this fun and focused class to improve both your strength and mobility. Our trained instructor will guide you at a pace to suit your abilities. \nPlease note that this class is for women only. It is operated on a ‘pay what you can’ basis\, to ensure it is accessible to all. \nFor further information please email active@thetouchpoint.org.
URL:https://www.thetouchpoint.org/event/womens-stronger-you-strength-mobility/2028-07-12/
LOCATION:Elsenham Village Hall\, High Street\, Elsenham\, Essex\, CM22 6DD
CATEGORIES:Events
ATTACH;FMTTYPE=image/png:https://www.thetouchpoint.org/app/uploads/2025/05/shes-ready-bodyblitz.png
END:VEVENT
BEGIN:VEVENT
DTSTART;TZID=Europe/London:20280717T134000
DTEND;TZID=Europe/London:20280717T143000
DTSTAMP:20260421T002319
CREATED:20260109T131018Z
LAST-MODIFIED:20260331T083408Z
UID:10050812-1847454000-1847457000@www.thetouchpoint.org
SUMMARY:Chair Boogie: Wimbish
DESCRIPTION:Chair Boogie at Wimbish Primary School\, every Monday\, arrive at 1.30pm for a 1.40pm start. \nFREE to attend: Seated activities to uplifting music. Suitable for all: improve your fitness and have fun at the same time! Our qualified instructor will guide you through the movements at a pace to suit you. Wear something comfy that you can stretch in. Stay afterwards for free refreshments! \nWhere: Wimbish Primary School\, Maple Lane\, Tye Green\, CB10 2XE \nFor more information please email active@thetouchpoint.org\, or phone 07572 114882
URL:https://www.thetouchpoint.org/event/chair-boogie-wimbish-2/2028-07-17/
LOCATION:Wimbish Primary School\, Maple Lane\, Tye Green\, CB10 2XE\, United Kingdom
CATEGORIES:Events
ATTACH;FMTTYPE=image/jpeg:https://www.thetouchpoint.org/app/uploads/2025/04/chair-dance-Wimbish.jpg
END:VEVENT
BEGIN:VEVENT
DTSTART;TZID=Europe/London:20280719T183000
DTEND;TZID=Europe/London:20280719T193000
DTSTAMP:20260421T002319
CREATED:20250506T162507Z
LAST-MODIFIED:20251124T153805Z
UID:10013570-1847644200-1847647800@www.thetouchpoint.org
SUMMARY:Women’s Stronger You Elsenham
DESCRIPTION:Elsenham Village Hall. Join us for this fun and focused class to improve both your strength and mobility. Our trained instructor will guide you at a pace to suit your abilities. \nPlease note that this class is for women only. It is operated on a ‘pay what you can’ basis\, to ensure it is accessible to all. \nFor further information please email active@thetouchpoint.org.
URL:https://www.thetouchpoint.org/event/womens-stronger-you-strength-mobility/2028-07-19/
LOCATION:Elsenham Village Hall\, High Street\, Elsenham\, Essex\, CM22 6DD
CATEGORIES:Events
ATTACH;FMTTYPE=image/png:https://www.thetouchpoint.org/app/uploads/2025/05/shes-ready-bodyblitz.png
END:VEVENT
BEGIN:VEVENT
DTSTART;TZID=Europe/London:20280724T134000
DTEND;TZID=Europe/London:20280724T143000
DTSTAMP:20260421T002319
CREATED:20260109T131018Z
LAST-MODIFIED:20260331T083408Z
UID:10050813-1848058800-1848061800@www.thetouchpoint.org
SUMMARY:Chair Boogie: Wimbish
DESCRIPTION:Chair Boogie at Wimbish Primary School\, every Monday\, arrive at 1.30pm for a 1.40pm start. \nFREE to attend: Seated activities to uplifting music. Suitable for all: improve your fitness and have fun at the same time! Our qualified instructor will guide you through the movements at a pace to suit you. Wear something comfy that you can stretch in. Stay afterwards for free refreshments! \nWhere: Wimbish Primary School\, Maple Lane\, Tye Green\, CB10 2XE \nFor more information please email active@thetouchpoint.org\, or phone 07572 114882
URL:https://www.thetouchpoint.org/event/chair-boogie-wimbish-2/2028-07-24/
LOCATION:Wimbish Primary School\, Maple Lane\, Tye Green\, CB10 2XE\, United Kingdom
CATEGORIES:Events
ATTACH;FMTTYPE=image/jpeg:https://www.thetouchpoint.org/app/uploads/2025/04/chair-dance-Wimbish.jpg
END:VEVENT
BEGIN:VEVENT
DTSTART;TZID=Europe/London:20280726T183000
DTEND;TZID=Europe/London:20280726T193000
DTSTAMP:20260421T002319
CREATED:20250506T162507Z
LAST-MODIFIED:20251124T153805Z
UID:10013571-1848249000-1848252600@www.thetouchpoint.org
SUMMARY:Women’s Stronger You Elsenham
DESCRIPTION:Elsenham Village Hall. Join us for this fun and focused class to improve both your strength and mobility. Our trained instructor will guide you at a pace to suit your abilities. \nPlease note that this class is for women only. It is operated on a ‘pay what you can’ basis\, to ensure it is accessible to all. \nFor further information please email active@thetouchpoint.org.
URL:https://www.thetouchpoint.org/event/womens-stronger-you-strength-mobility/2028-07-26/
LOCATION:Elsenham Village Hall\, High Street\, Elsenham\, Essex\, CM22 6DD
CATEGORIES:Events
ATTACH;FMTTYPE=image/png:https://www.thetouchpoint.org/app/uploads/2025/05/shes-ready-bodyblitz.png
END:VEVENT
BEGIN:VEVENT
DTSTART;TZID=Europe/London:20280731T134000
DTEND;TZID=Europe/London:20280731T143000
DTSTAMP:20260421T002319
CREATED:20260109T131018Z
LAST-MODIFIED:20260331T083408Z
UID:10050814-1848663600-1848666600@www.thetouchpoint.org
SUMMARY:Chair Boogie: Wimbish
DESCRIPTION:Chair Boogie at Wimbish Primary School\, every Monday\, arrive at 1.30pm for a 1.40pm start. \nFREE to attend: Seated activities to uplifting music. Suitable for all: improve your fitness and have fun at the same time! Our qualified instructor will guide you through the movements at a pace to suit you. Wear something comfy that you can stretch in. Stay afterwards for free refreshments! \nWhere: Wimbish Primary School\, Maple Lane\, Tye Green\, CB10 2XE \nFor more information please email active@thetouchpoint.org\, or phone 07572 114882
URL:https://www.thetouchpoint.org/event/chair-boogie-wimbish-2/2028-07-31/
LOCATION:Wimbish Primary School\, Maple Lane\, Tye Green\, CB10 2XE\, United Kingdom
CATEGORIES:Events
ATTACH;FMTTYPE=image/jpeg:https://www.thetouchpoint.org/app/uploads/2025/04/chair-dance-Wimbish.jpg
END:VEVENT
END:VCALENDAR