BEGIN:VCALENDAR
VERSION:2.0
PRODID:-//TouchPoint Stansted - ECPv6.15.20//NONSGML v1.0//EN
CALSCALE:GREGORIAN
METHOD:PUBLISH
X-ORIGINAL-URL:https://www.thetouchpoint.org
X-WR-CALDESC:Events for TouchPoint Stansted
REFRESH-INTERVAL;VALUE=DURATION:PT1H
X-Robots-Tag:noindex
X-PUBLISHED-TTL:PT1H
BEGIN:VTIMEZONE
TZID:Europe/London
BEGIN:DAYLIGHT
TZOFFSETFROM:+0000
TZOFFSETTO:+0100
TZNAME:BST
DTSTART:20290325T010000
END:DAYLIGHT
BEGIN:STANDARD
TZOFFSETFROM:+0100
TZOFFSETTO:+0000
TZNAME:GMT
DTSTART:20291028T010000
END:STANDARD
BEGIN:DAYLIGHT
TZOFFSETFROM:+0000
TZOFFSETTO:+0100
TZNAME:BST
DTSTART:20300331T010000
END:DAYLIGHT
BEGIN:STANDARD
TZOFFSETFROM:+0100
TZOFFSETTO:+0000
TZNAME:GMT
DTSTART:20301027T010000
END:STANDARD
BEGIN:DAYLIGHT
TZOFFSETFROM:+0000
TZOFFSETTO:+0100
TZNAME:BST
DTSTART:20310330T010000
END:DAYLIGHT
BEGIN:STANDARD
TZOFFSETFROM:+0100
TZOFFSETTO:+0000
TZNAME:GMT
DTSTART:20311026T010000
END:STANDARD
END:VTIMEZONE
BEGIN:VEVENT
DTSTART;TZID=Europe/London:20300618T090000
DTEND;TZID=Europe/London:20300618T093000
DTSTAMP:20260422T233511
CREATED:20250617T142900Z
LAST-MODIFIED:20250618T081021Z
UID:10048021-1908003600-1908005400@www.thetouchpoint.org
SUMMARY:Around & About (MIDWEEK) - 9am
DESCRIPTION:Around & About\, your daily guide to concerts\, events and activities taking place across the region. Richard & Edward connect you to the heart of local events and stories—a comprehensive tour of your community. Grab your calendar and tune in for all the details of what’s coming up in your area.
URL:https://www.thetouchpoint.org/event/around-about-midweek-9am/2030-06-18/
CATEGORIES:TouchPoint Radio
END:VEVENT
BEGIN:VEVENT
DTSTART;TZID=Europe/London:20300622T173000
DTEND;TZID=Europe/London:20300622T190000
DTSTAMP:20260422T233511
CREATED:20250617T154134Z
LAST-MODIFIED:20250708T144119Z
UID:10048037-1908379800-1908385200@www.thetouchpoint.org
SUMMARY:The Singalong
DESCRIPTION:Join Kat Fuller for ‘The Singalong’. From classic karaoke hits to your favourite showtunes\, curated to get you singing at the top of your lungs. \nBACK TO LIST
URL:https://www.thetouchpoint.org/event/the-singalong-2/2030-06-22/
CATEGORIES:TouchPoint Radio
END:VEVENT
BEGIN:VEVENT
DTSTART;TZID=Europe/London:20300629T173000
DTEND;TZID=Europe/London:20300629T190000
DTSTAMP:20260422T233511
CREATED:20250617T154134Z
LAST-MODIFIED:20250708T144119Z
UID:10048038-1908984600-1908990000@www.thetouchpoint.org
SUMMARY:The Singalong
DESCRIPTION:Join Kat Fuller for ‘The Singalong’. From classic karaoke hits to your favourite showtunes\, curated to get you singing at the top of your lungs. \nBACK TO LIST
URL:https://www.thetouchpoint.org/event/the-singalong-2/2030-06-29/
CATEGORIES:TouchPoint Radio
END:VEVENT
BEGIN:VEVENT
DTSTART;TZID=Europe/London:20300706T173000
DTEND;TZID=Europe/London:20300706T190000
DTSTAMP:20260422T233511
CREATED:20250617T154134Z
LAST-MODIFIED:20250708T144119Z
UID:10048039-1909589400-1909594800@www.thetouchpoint.org
SUMMARY:The Singalong
DESCRIPTION:Join Kat Fuller for ‘The Singalong’. From classic karaoke hits to your favourite showtunes\, curated to get you singing at the top of your lungs. \nBACK TO LIST
URL:https://www.thetouchpoint.org/event/the-singalong-2/2030-07-06/
CATEGORIES:TouchPoint Radio
END:VEVENT
END:VCALENDAR