BEGIN:VCALENDAR
VERSION:2.0
PRODID:-//TouchPoint Stansted - ECPv6.15.20//NONSGML v1.0//EN
CALSCALE:GREGORIAN
METHOD:PUBLISH
X-ORIGINAL-URL:https://www.thetouchpoint.org
X-WR-CALDESC:Events for TouchPoint Stansted
REFRESH-INTERVAL;VALUE=DURATION:PT1H
X-Robots-Tag:noindex
X-PUBLISHED-TTL:PT1H
BEGIN:VTIMEZONE
TZID:Europe/London
BEGIN:DAYLIGHT
TZOFFSETFROM:+0000
TZOFFSETTO:+0100
TZNAME:BST
DTSTART:20250330T010000
END:DAYLIGHT
BEGIN:STANDARD
TZOFFSETFROM:+0100
TZOFFSETTO:+0000
TZNAME:GMT
DTSTART:20251026T010000
END:STANDARD
BEGIN:DAYLIGHT
TZOFFSETFROM:+0000
TZOFFSETTO:+0100
TZNAME:BST
DTSTART:20260329T010000
END:DAYLIGHT
BEGIN:STANDARD
TZOFFSETFROM:+0100
TZOFFSETTO:+0000
TZNAME:GMT
DTSTART:20261025T010000
END:STANDARD
BEGIN:DAYLIGHT
TZOFFSETFROM:+0000
TZOFFSETTO:+0100
TZNAME:BST
DTSTART:20270328T010000
END:DAYLIGHT
BEGIN:STANDARD
TZOFFSETFROM:+0100
TZOFFSETTO:+0000
TZNAME:GMT
DTSTART:20271031T010000
END:STANDARD
END:VTIMEZONE
BEGIN:VEVENT
DTSTART;TZID=Europe/London:20260120T070000
DTEND;TZID=Europe/London:20260120T090000
DTSTAMP:20260419T215834
CREATED:20250616T093929Z
LAST-MODIFIED:20250617T135754Z
UID:10020142-1768892400-1768899600@www.thetouchpoint.org
SUMMARY:The Morning Brew (LIVE)
DESCRIPTION:Wake up with TouchPoint Radio. Breakfast starts at 7am with Richard Haywood’s ‘Morning Brew’. Up-to-the-minute traffic and travel news\, weather reports and great music throughout the morning whether you’re heading to work\, getting the kids ready for school\, or just enjoying a leisurely morning. If you have a request or birthday or anniversary shout out send us a message on 07956 888 115.
URL:https://www.thetouchpoint.org/event/the-morning-brew/2026-01-20/
CATEGORIES:TouchPoint Radio
END:VEVENT
BEGIN:VEVENT
DTSTART;TZID=Europe/London:20260120T090000
DTEND;TZID=Europe/London:20260120T093000
DTSTAMP:20260419T215834
CREATED:20250617T142900Z
LAST-MODIFIED:20250618T081021Z
UID:10039560-1768899600-1768901400@www.thetouchpoint.org
SUMMARY:Around & About (MIDWEEK) - 9am
DESCRIPTION:Around & About\, your daily guide to concerts\, events and activities taking place across the region. Richard & Edward connect you to the heart of local events and stories—a comprehensive tour of your community. Grab your calendar and tune in for all the details of what’s coming up in your area.
URL:https://www.thetouchpoint.org/event/around-about-midweek-9am/2026-01-20/
CATEGORIES:TouchPoint Radio
END:VEVENT
BEGIN:VEVENT
DTSTART;TZID=Europe/London:20260120T100000
DTEND;TZID=Europe/London:20260120T110000
DTSTAMP:20260419T215834
CREATED:20250616T104654Z
LAST-MODIFIED:20250617T135952Z
UID:10036684-1768903200-1768906800@www.thetouchpoint.org
SUMMARY:Community Roundup
DESCRIPTION:From 10AM onwards our Community RoundUp broadcasts great community shows from around the region featuring interviews with local groups\, services and individuals.
URL:https://www.thetouchpoint.org/event/community-roundup-10am/2026-01-20/
CATEGORIES:TouchPoint Radio
END:VEVENT
BEGIN:VEVENT
DTSTART;TZID=Europe/London:20260120T120000
DTEND;TZID=Europe/London:20260120T130000
DTSTAMP:20260419T215834
CREATED:20250616T103752Z
LAST-MODIFIED:20250617T135731Z
UID:10035776-1768910400-1768914000@www.thetouchpoint.org
SUMMARY:Listen Between The Lines (RPT)
DESCRIPTION:Juliet Richards shares books\, film and television at midday\, along with a run down of local cultural shows and events. That’s ‘Listen Between The Lines’ with Juliet at 12. This is a repeat of  last Thursday’s show.
URL:https://www.thetouchpoint.org/event/listen-between-the-lines-tuesday/2026-01-20/
CATEGORIES:TouchPoint Radio
END:VEVENT
BEGIN:VEVENT
DTSTART;TZID=Europe/London:20260120T130000
DTEND;TZID=Europe/London:20260120T133000
DTSTAMP:20260419T215834
CREATED:20250616T095054Z
LAST-MODIFIED:20250617T142925Z
UID:10028851-1768914000-1768915800@www.thetouchpoint.org
SUMMARY:Around & About (MIDWEEK) - 1pm
DESCRIPTION:Richard & Edward connect you to the heart of local events and stories—a comprehensive tour of your community.
URL:https://www.thetouchpoint.org/event/around-about-3-2/2026-01-20/
CATEGORIES:TouchPoint Radio
END:VEVENT
BEGIN:VEVENT
DTSTART;TZID=Europe/London:20260120T140000
DTEND;TZID=Europe/London:20260120T153000
DTSTAMP:20260419T215834
CREATED:20250616T103955Z
LAST-MODIFIED:20250617T135612Z
UID:10036037-1768917600-1768923000@www.thetouchpoint.org
SUMMARY:The Singalong (RPT)
DESCRIPTION:And at 2pm\, join Kat Fuller for ‘The Singalong’. From classic karaoke hits to your favourite showtunes\, curated to get you singing at the top of your lungs.
URL:https://www.thetouchpoint.org/event/the-singalong/2026-01-20/
CATEGORIES:TouchPoint Radio
END:VEVENT
BEGIN:VEVENT
DTSTART;TZID=Europe/London:20260120T190000
DTEND;TZID=Europe/London:20260120T203000
DTSTAMP:20260419T215834
CREATED:20250616T104147Z
LAST-MODIFIED:20250617T135550Z
UID:10036298-1768935600-1768941000@www.thetouchpoint.org
SUMMARY:The Ayub Khan Show (RPT)
DESCRIPTION:Tuesday evenings are dedicated to lovers of soul\, blues\, jazz and funk. At 7PM listen again to ‘The Ayub Khan Show’ as Ayub offers the best of smooth jazz\, blues and soul\, both classics and modern\, along with guests sharing community advice and wisdom.
URL:https://www.thetouchpoint.org/event/the-ayub-khan-show/2026-01-20/
CATEGORIES:TouchPoint Radio
END:VEVENT
BEGIN:VEVENT
DTSTART;TZID=Europe/London:20260120T203000
DTEND;TZID=Europe/London:20260120T223000
DTSTAMP:20260419T215834
CREATED:20250617T141411Z
LAST-MODIFIED:20250617T141411Z
UID:10037870-1768941000-1768948200@www.thetouchpoint.org
SUMMARY:Funky Blues
DESCRIPTION:Our Tuesday night music show is hosted by Steve Jenkins with his Funky Blues podcast: traditional blues\, funk and soul from 8:30PM.
URL:https://www.thetouchpoint.org/event/funky-blues/2026-01-20/
CATEGORIES:TouchPoint Radio
END:VEVENT
BEGIN:VEVENT
DTSTART;TZID=Europe/London:20260121T070000
DTEND;TZID=Europe/London:20260121T090000
DTSTAMP:20260419T215834
CREATED:20250616T085313Z
LAST-MODIFIED:20250617T140209Z
UID:10018605-1768978800-1768986000@www.thetouchpoint.org
SUMMARY:The Morning Show (LIVE)
DESCRIPTION:Wake up with TouchPoint Radio. Breakfast starts at 7am with John Searle’s “Morning Show”. Up-to-the-minute traffic and travel news\, weather reports great music throughout the morning whether you’re heading to work\, getting the kids ready for school\, or just enjoying a leisurely morning. If you have a birthday or anniversary shout out for yourself or a someone else\, send us a message on 07956 888 115.
URL:https://www.thetouchpoint.org/event/the-morning-show/2026-01-21/
CATEGORIES:TouchPoint Radio
END:VEVENT
BEGIN:VEVENT
DTSTART;TZID=Europe/London:20260121T090000
DTEND;TZID=Europe/London:20260121T093000
DTSTAMP:20260419T215834
CREATED:20250617T142900Z
LAST-MODIFIED:20250618T081021Z
UID:10039561-1768986000-1768987800@www.thetouchpoint.org
SUMMARY:Around & About (MIDWEEK) - 9am
DESCRIPTION:Around & About\, your daily guide to concerts\, events and activities taking place across the region. Richard & Edward connect you to the heart of local events and stories—a comprehensive tour of your community. Grab your calendar and tune in for all the details of what’s coming up in your area.
URL:https://www.thetouchpoint.org/event/around-about-midweek-9am/2026-01-21/
CATEGORIES:TouchPoint Radio
END:VEVENT
BEGIN:VEVENT
DTSTART;TZID=Europe/London:20260121T100000
DTEND;TZID=Europe/London:20260121T110000
DTSTAMP:20260419T215834
CREATED:20250616T104654Z
LAST-MODIFIED:20250617T135952Z
UID:10036685-1768989600-1768993200@www.thetouchpoint.org
SUMMARY:Community Roundup
DESCRIPTION:From 10AM onwards our Community RoundUp broadcasts great community shows from around the region featuring interviews with local groups\, services and individuals.
URL:https://www.thetouchpoint.org/event/community-roundup-10am/2026-01-21/
CATEGORIES:TouchPoint Radio
END:VEVENT
BEGIN:VEVENT
DTSTART;TZID=Europe/London:20260121T130000
DTEND;TZID=Europe/London:20260121T133000
DTSTAMP:20260419T215834
CREATED:20250616T095054Z
LAST-MODIFIED:20250617T142925Z
UID:10028852-1769000400-1769002200@www.thetouchpoint.org
SUMMARY:Around & About (MIDWEEK) - 1pm
DESCRIPTION:Richard & Edward connect you to the heart of local events and stories—a comprehensive tour of your community.
URL:https://www.thetouchpoint.org/event/around-about-3-2/2026-01-21/
CATEGORIES:TouchPoint Radio
END:VEVENT
BEGIN:VEVENT
DTSTART;TZID=Europe/London:20260121T140000
DTEND;TZID=Europe/London:20260121T150000
DTSTAMP:20260419T215834
CREATED:20250617T143640Z
LAST-MODIFIED:20250617T143640Z
UID:10040741-1769004000-1769007600@www.thetouchpoint.org
SUMMARY:Afternoon Concert
DESCRIPTION:Tune in for our weekly ‘Afternoon Concert’ at 2PM. We record local orchestral\, choral and chamber performances from around the region\, along with youth groups and local musicians\, showcasing talent from the rich tapestry of local music.
URL:https://www.thetouchpoint.org/event/afternoon-concert/2026-01-21/
CATEGORIES:TouchPoint Radio
END:VEVENT
BEGIN:VEVENT
DTSTART;TZID=Europe/London:20260121T200000
DTEND;TZID=Europe/London:20260121T223000
DTSTAMP:20260419T215835
CREATED:20250617T143842Z
LAST-MODIFIED:20250617T143842Z
UID:10041002-1769025600-1769034600@www.thetouchpoint.org
SUMMARY:Indie Spotlight
DESCRIPTION:Wednesday evenings is for lovers of independent and alternative music. From Britpop to Lo-Fi\, Garage to Electro\, Ells Richardson is spinning the tunes on his ‘Indie Spotlight’ from 8 till 10PM. Plus guests\, pub quiz challenges and chat.
URL:https://www.thetouchpoint.org/event/indie-spotlight/2026-01-21/
CATEGORIES:TouchPoint Radio
END:VEVENT
BEGIN:VEVENT
DTSTART;TZID=Europe/London:20260122T070000
DTEND;TZID=Europe/London:20260122T090000
DTSTAMP:20260419T215835
CREATED:20250616T093929Z
LAST-MODIFIED:20250617T135754Z
UID:10020143-1769065200-1769072400@www.thetouchpoint.org
SUMMARY:The Morning Brew (LIVE)
DESCRIPTION:Wake up with TouchPoint Radio. Breakfast starts at 7am with Richard Haywood’s ‘Morning Brew’. Up-to-the-minute traffic and travel news\, weather reports and great music throughout the morning whether you’re heading to work\, getting the kids ready for school\, or just enjoying a leisurely morning. If you have a request or birthday or anniversary shout out send us a message on 07956 888 115.
URL:https://www.thetouchpoint.org/event/the-morning-brew/2026-01-22/
CATEGORIES:TouchPoint Radio
END:VEVENT
BEGIN:VEVENT
DTSTART;TZID=Europe/London:20260122T090000
DTEND;TZID=Europe/London:20260122T093000
DTSTAMP:20260419T215835
CREATED:20250617T142900Z
LAST-MODIFIED:20250618T081021Z
UID:10039562-1769072400-1769074200@www.thetouchpoint.org
SUMMARY:Around & About (MIDWEEK) - 9am
DESCRIPTION:Around & About\, your daily guide to concerts\, events and activities taking place across the region. Richard & Edward connect you to the heart of local events and stories—a comprehensive tour of your community. Grab your calendar and tune in for all the details of what’s coming up in your area.
URL:https://www.thetouchpoint.org/event/around-about-midweek-9am/2026-01-22/
CATEGORIES:TouchPoint Radio
END:VEVENT
BEGIN:VEVENT
DTSTART;TZID=Europe/London:20260122T100000
DTEND;TZID=Europe/London:20260122T110000
DTSTAMP:20260419T215835
CREATED:20250616T104654Z
LAST-MODIFIED:20250617T135952Z
UID:10036686-1769076000-1769079600@www.thetouchpoint.org
SUMMARY:Community Roundup
DESCRIPTION:From 10AM onwards our Community RoundUp broadcasts great community shows from around the region featuring interviews with local groups\, services and individuals.
URL:https://www.thetouchpoint.org/event/community-roundup-10am/2026-01-22/
CATEGORIES:TouchPoint Radio
END:VEVENT
BEGIN:VEVENT
DTSTART;TZID=Europe/London:20260122T130000
DTEND;TZID=Europe/London:20260122T133000
DTSTAMP:20260419T215835
CREATED:20250616T095054Z
LAST-MODIFIED:20250617T142925Z
UID:10028853-1769086800-1769088600@www.thetouchpoint.org
SUMMARY:Around & About (MIDWEEK) - 1pm
DESCRIPTION:Richard & Edward connect you to the heart of local events and stories—a comprehensive tour of your community.
URL:https://www.thetouchpoint.org/event/around-about-3-2/2026-01-22/
CATEGORIES:TouchPoint Radio
END:VEVENT
BEGIN:VEVENT
DTSTART;TZID=Europe/London:20260122T190000
DTEND;TZID=Europe/London:20260122T210000
DTSTAMP:20260419T215835
CREATED:20250617T144016Z
LAST-MODIFIED:20250617T144016Z
UID:10041525-1769108400-1769115600@www.thetouchpoint.org
SUMMARY:Backstage Pass (LIVE)
DESCRIPTION:Join Kat Fuller and Juliet Richards at 7PM for ‘Backstage Pass’\, discussing theatre\, musicals and drama from around the region as well as the latest news from touring shows and the West End.
URL:https://www.thetouchpoint.org/event/backstage-pass-live/2026-01-22/
CATEGORIES:TouchPoint Radio
END:VEVENT
BEGIN:VEVENT
DTSTART;TZID=Europe/London:20260122T210000
DTEND;TZID=Europe/London:20260122T220000
DTSTAMP:20260419T215835
CREATED:20250617T144156Z
LAST-MODIFIED:20250617T144156Z
UID:10042047-1769115600-1769119200@www.thetouchpoint.org
SUMMARY:Listen Between The Lines
DESCRIPTION:Juliet Richards shares books\, film and television at midday\, along with a run down of local cultural shows and events. That’s ‘Listen Between The Lines’ with Juliet at 9pm.
URL:https://www.thetouchpoint.org/event/listen-between-the-lines/2026-01-22/
CATEGORIES:TouchPoint Radio
END:VEVENT
BEGIN:VEVENT
DTSTART;TZID=Europe/London:20260122T220000
DTEND;TZID=Europe/London:20260122T230000
DTSTAMP:20260419T215835
CREATED:20250617T144451Z
LAST-MODIFIED:20250617T144451Z
UID:10042308-1769119200-1769122800@www.thetouchpoint.org
SUMMARY:Musical Medley
DESCRIPTION:Complete your evening with our Musical Medley of the best music\, songs and tunes from our week on TouchPoint Radio\, along with friendly voices and community stories.
URL:https://www.thetouchpoint.org/event/musical-medley/2026-01-22/
CATEGORIES:TouchPoint Radio
END:VEVENT
BEGIN:VEVENT
DTSTART;TZID=Europe/London:20260123T070000
DTEND;TZID=Europe/London:20260123T090000
DTSTAMP:20260419T215835
CREATED:20250616T085313Z
LAST-MODIFIED:20250617T140209Z
UID:10018606-1769151600-1769158800@www.thetouchpoint.org
SUMMARY:The Morning Show (LIVE)
DESCRIPTION:Wake up with TouchPoint Radio. Breakfast starts at 7am with John Searle’s “Morning Show”. Up-to-the-minute traffic and travel news\, weather reports great music throughout the morning whether you’re heading to work\, getting the kids ready for school\, or just enjoying a leisurely morning. If you have a birthday or anniversary shout out for yourself or a someone else\, send us a message on 07956 888 115.
URL:https://www.thetouchpoint.org/event/the-morning-show/2026-01-23/
CATEGORIES:TouchPoint Radio
END:VEVENT
BEGIN:VEVENT
DTSTART;TZID=Europe/London:20260123T090000
DTEND;TZID=Europe/London:20260123T093000
DTSTAMP:20260419T215835
CREATED:20250617T142900Z
LAST-MODIFIED:20250618T081021Z
UID:10039563-1769158800-1769160600@www.thetouchpoint.org
SUMMARY:Around & About (MIDWEEK) - 9am
DESCRIPTION:Around & About\, your daily guide to concerts\, events and activities taking place across the region. Richard & Edward connect you to the heart of local events and stories—a comprehensive tour of your community. Grab your calendar and tune in for all the details of what’s coming up in your area.
URL:https://www.thetouchpoint.org/event/around-about-midweek-9am/2026-01-23/
CATEGORIES:TouchPoint Radio
END:VEVENT
BEGIN:VEVENT
DTSTART;TZID=Europe/London:20260123T100000
DTEND;TZID=Europe/London:20260123T110000
DTSTAMP:20260419T215835
CREATED:20250616T104654Z
LAST-MODIFIED:20250617T135952Z
UID:10036687-1769162400-1769166000@www.thetouchpoint.org
SUMMARY:Community Roundup
DESCRIPTION:From 10AM onwards our Community RoundUp broadcasts great community shows from around the region featuring interviews with local groups\, services and individuals.
URL:https://www.thetouchpoint.org/event/community-roundup-10am/2026-01-23/
CATEGORIES:TouchPoint Radio
END:VEVENT
BEGIN:VEVENT
DTSTART;TZID=Europe/London:20260123T110000
DTEND;TZID=Europe/London:20260123T123000
DTSTAMP:20260419T215835
CREATED:20250617T151025Z
LAST-MODIFIED:20250617T151025Z
UID:10042830-1769166000-1769171400@www.thetouchpoint.org
SUMMARY:The Ayub Khan Show (LIVE)
DESCRIPTION:Tuesday evenings are dedicated to lovers of soul\, blues\, jazz and funk. At 7PM listen again to ‘The Ayub Khan Show’ as Ayub offers the best of smooth jazz\, blues and soul\, both classics and modern\, along with guests sharing community advice and wisdom.
URL:https://www.thetouchpoint.org/event/the-ayub-khan-show-live/2026-01-23/
CATEGORIES:TouchPoint Radio
END:VEVENT
BEGIN:VEVENT
DTSTART;TZID=Europe/London:20260123T130000
DTEND;TZID=Europe/London:20260123T133000
DTSTAMP:20260419T215835
CREATED:20250616T095054Z
LAST-MODIFIED:20250617T142925Z
UID:10028854-1769173200-1769175000@www.thetouchpoint.org
SUMMARY:Around & About (MIDWEEK) - 1pm
DESCRIPTION:Richard & Edward connect you to the heart of local events and stories—a comprehensive tour of your community.
URL:https://www.thetouchpoint.org/event/around-about-3-2/2026-01-23/
CATEGORIES:TouchPoint Radio
END:VEVENT
BEGIN:VEVENT
DTSTART;TZID=Europe/London:20260123T150000
DTEND;TZID=Europe/London:20260123T170000
DTSTAMP:20260419T215835
CREATED:20250617T151241Z
LAST-MODIFIED:20250617T151241Z
UID:10043091-1769180400-1769187600@www.thetouchpoint.org
SUMMARY:Back in Time
DESCRIPTION:At 3 o’clock\, Andy Piggott is on air with ‘Back in Time’\, a blast-from-the-past collection of classic tracks from decades past\, with a different period each week from the 50s to the naughties. Plus fascinating facts\, memories and personal stories from times gone by.
URL:https://www.thetouchpoint.org/event/back-in-time/2026-01-23/
CATEGORIES:TouchPoint Radio
END:VEVENT
BEGIN:VEVENT
DTSTART;TZID=Europe/London:20260123T170000
DTEND;TZID=Europe/London:20260123T190000
DTSTAMP:20260419T215835
CREATED:20250616T100111Z
LAST-MODIFIED:20250617T151405Z
UID:10031337-1769187600-1769194800@www.thetouchpoint.org
SUMMARY:Homeward Bound (LIVE)
DESCRIPTION:Friday’s drivetime show is ‘Homeward Bound with Rob Furber’. Live at five from the studio\, with traffic updates\, the latest local news and an eclectic mix of rock and roll\, classic pop and fun music to get you home and ready for the evening. 5PM through till 7PM every Friday.
URL:https://www.thetouchpoint.org/event/homeward-bound-2/2026-01-23/
CATEGORIES:TouchPoint Radio
END:VEVENT
BEGIN:VEVENT
DTSTART;TZID=Europe/London:20260123T200000
DTEND;TZID=Europe/London:20260123T210000
DTSTAMP:20260419T215835
CREATED:20250617T151523Z
LAST-MODIFIED:20250617T151523Z
UID:10043614-1769198400-1769202000@www.thetouchpoint.org
SUMMARY:The Spin Show (RPT)
DESCRIPTION:At 8PM enjoy some great music from Tommy G on his ‘Spin Show’. Tommy lives with autism but that hasn’t stopped him doing what he loves\, which is mixing great pop and dance tracks on TouchPoint Radio.
URL:https://www.thetouchpoint.org/event/the-spin-show-rpt/2026-01-23/
CATEGORIES:TouchPoint Radio
END:VEVENT
BEGIN:VEVENT
DTSTART;TZID=Europe/London:20260124T080000
DTEND;TZID=Europe/London:20260124T100000
DTSTAMP:20260419T215835
CREATED:20250617T151801Z
LAST-MODIFIED:20250617T151801Z
UID:10043875-1769241600-1769248800@www.thetouchpoint.org
SUMMARY:Best of Breakfast
DESCRIPTION:Start your weekend with TouchPoint Radio. The weekend begins with the ‘Best of Breakfast’. Join John Searle & Richard Haywood with all the best bits from their weekday breakfast shows from 8AM.
URL:https://www.thetouchpoint.org/event/best-of-breakfast/2026-01-24/
CATEGORIES:TouchPoint Radio
END:VEVENT
END:VCALENDAR