BEGIN:VCALENDAR
VERSION:2.0
PRODID:-//TouchPoint Stansted - ECPv6.15.20//NONSGML v1.0//EN
CALSCALE:GREGORIAN
METHOD:PUBLISH
X-WR-CALNAME:TouchPoint Stansted
X-ORIGINAL-URL:https://www.thetouchpoint.org
X-WR-CALDESC:Events for TouchPoint Stansted
REFRESH-INTERVAL;VALUE=DURATION:PT1H
X-Robots-Tag:noindex
X-PUBLISHED-TTL:PT1H
BEGIN:VTIMEZONE
TZID:Europe/London
BEGIN:DAYLIGHT
TZOFFSETFROM:+0000
TZOFFSETTO:+0100
TZNAME:BST
DTSTART:20240331T010000
END:DAYLIGHT
BEGIN:STANDARD
TZOFFSETFROM:+0100
TZOFFSETTO:+0000
TZNAME:GMT
DTSTART:20241027T010000
END:STANDARD
BEGIN:DAYLIGHT
TZOFFSETFROM:+0000
TZOFFSETTO:+0100
TZNAME:BST
DTSTART:20250330T010000
END:DAYLIGHT
BEGIN:STANDARD
TZOFFSETFROM:+0100
TZOFFSETTO:+0000
TZNAME:GMT
DTSTART:20251026T010000
END:STANDARD
BEGIN:DAYLIGHT
TZOFFSETFROM:+0000
TZOFFSETTO:+0100
TZNAME:BST
DTSTART:20260329T010000
END:DAYLIGHT
BEGIN:STANDARD
TZOFFSETFROM:+0100
TZOFFSETTO:+0000
TZNAME:GMT
DTSTART:20261025T010000
END:STANDARD
END:VTIMEZONE
BEGIN:VEVENT
DTSTART;TZID=Europe/London:20251201T090000
DTEND;TZID=Europe/London:20251201T093000
DTSTAMP:20260420T005813
CREATED:20250617T142900Z
LAST-MODIFIED:20250618T081021Z
UID:10039524-1764579600-1764581400@www.thetouchpoint.org
SUMMARY:Around & About (MIDWEEK) - 9am
DESCRIPTION:Around & About\, your daily guide to concerts\, events and activities taking place across the region. Richard & Edward connect you to the heart of local events and stories—a comprehensive tour of your community. Grab your calendar and tune in for all the details of what’s coming up in your area.
URL:https://www.thetouchpoint.org/event/around-about-midweek-9am/2025-12-01/
CATEGORIES:TouchPoint Radio
END:VEVENT
BEGIN:VEVENT
DTSTART;TZID=Europe/London:20251201T100000
DTEND;TZID=Europe/London:20251201T110000
DTSTAMP:20260420T005813
CREATED:20250616T104654Z
LAST-MODIFIED:20250617T135952Z
UID:10036648-1764583200-1764586800@www.thetouchpoint.org
SUMMARY:Community Roundup
DESCRIPTION:From 10AM onwards our Community RoundUp broadcasts great community shows from around the region featuring interviews with local groups\, services and individuals.
URL:https://www.thetouchpoint.org/event/community-roundup-10am/2025-12-01/
CATEGORIES:TouchPoint Radio
END:VEVENT
BEGIN:VEVENT
DTSTART;TZID=Europe/London:20251201T110000
DTEND;TZID=Europe/London:20251201T130000
DTSTAMP:20260420T005813
CREATED:20250616T095522Z
LAST-MODIFIED:20250617T135859Z
UID:10030286-1764586800-1764594000@www.thetouchpoint.org
SUMMARY:Backstage Pass (RPT)
DESCRIPTION:Join Kat Fuller and Juliet Richards at 11AM for ‘Backstage Pass’\, discussing theatre\, musicals and drama from around the region as well as the latest news from touring shows and the West End.
URL:https://www.thetouchpoint.org/event/backstage-pass-2/2025-12-01/
CATEGORIES:TouchPoint Radio
END:VEVENT
BEGIN:VEVENT
DTSTART;TZID=Europe/London:20251201T130000
DTEND;TZID=Europe/London:20251201T133000
DTSTAMP:20260420T005813
CREATED:20250616T095054Z
LAST-MODIFIED:20250617T142925Z
UID:10028815-1764594000-1764595800@www.thetouchpoint.org
SUMMARY:Around & About (MIDWEEK) - 1pm
DESCRIPTION:Richard & Edward connect you to the heart of local events and stories—a comprehensive tour of your community.
URL:https://www.thetouchpoint.org/event/around-about-3-2/2025-12-01/
CATEGORIES:TouchPoint Radio
END:VEVENT
BEGIN:VEVENT
DTSTART;TZID=Europe/London:20251201T151500
DTEND;TZID=Europe/London:20251201T161500
DTSTAMP:20260420T005813
CREATED:20250616T095409Z
LAST-MODIFIED:20250617T135504Z
UID:10030025-1764602100-1764605700@www.thetouchpoint.org
SUMMARY:The Spin Show (LIVE)
DESCRIPTION:At 3:15 enjoy some great music from Tommy G on his ‘Spin Show’. Tommy lives with autism but that hasn’t stopped him doing what he loves\, which is mixing great pop and dance tracks on TouchPoint Radio.
URL:https://www.thetouchpoint.org/event/the-spin-show/2025-12-01/
CATEGORIES:TouchPoint Radio
END:VEVENT
BEGIN:VEVENT
DTSTART;TZID=Europe/London:20251201T170000
DTEND;TZID=Europe/London:20251201T190000
DTSTAMP:20260420T005813
CREATED:20250616T095911Z
LAST-MODIFIED:20250617T150109Z
UID:10030808-1764608400-1764615600@www.thetouchpoint.org
SUMMARY:Homeward Bound (LIVE)
DESCRIPTION:Monday’s drivetime show is ‘Homeward Bound with Rob Furber’. Live at five from the studio\, with traffic updates\, the latest local news and an eclectic mix of rock and roll\, classic pop and fun music to get you home and ready for the evening. 5PM through till 7PM every Monday.
URL:https://www.thetouchpoint.org/event/homeward-bound/2025-12-01/
CATEGORIES:TouchPoint Radio
END:VEVENT
BEGIN:VEVENT
DTSTART;TZID=Europe/London:20251201T200000
DTEND;TZID=Europe/London:20251201T220000
DTSTAMP:20260420T005813
CREATED:20250616T100229Z
LAST-MODIFIED:20250617T135345Z
UID:10031592-1764619200-1764626400@www.thetouchpoint.org
SUMMARY:Amped & Loaded
DESCRIPTION:Monday evenings is for rock enthusiasts. Join Nick Charleston at 8pm for ‘Amped & Loaded’ – 2 hours of classic and prog rock\, followed by something a little heavier for metal fans.
URL:https://www.thetouchpoint.org/event/amped-loaded/2025-12-01/
CATEGORIES:TouchPoint Radio
END:VEVENT
BEGIN:VEVENT
DTSTART;TZID=Europe/London:20251202T070000
DTEND;TZID=Europe/London:20251202T090000
DTSTAMP:20260420T005813
CREATED:20250616T093929Z
LAST-MODIFIED:20250617T135754Z
UID:10020128-1764658800-1764666000@www.thetouchpoint.org
SUMMARY:The Morning Brew (LIVE)
DESCRIPTION:Wake up with TouchPoint Radio. Breakfast starts at 7am with Richard Haywood’s ‘Morning Brew’. Up-to-the-minute traffic and travel news\, weather reports and great music throughout the morning whether you’re heading to work\, getting the kids ready for school\, or just enjoying a leisurely morning. If you have a request or birthday or anniversary shout out send us a message on 07956 888 115.
URL:https://www.thetouchpoint.org/event/the-morning-brew/2025-12-02/
CATEGORIES:TouchPoint Radio
END:VEVENT
BEGIN:VEVENT
DTSTART;TZID=Europe/London:20251202T090000
DTEND;TZID=Europe/London:20251202T093000
DTSTAMP:20260420T005813
CREATED:20250617T142900Z
LAST-MODIFIED:20250618T081021Z
UID:10039525-1764666000-1764667800@www.thetouchpoint.org
SUMMARY:Around & About (MIDWEEK) - 9am
DESCRIPTION:Around & About\, your daily guide to concerts\, events and activities taking place across the region. Richard & Edward connect you to the heart of local events and stories—a comprehensive tour of your community. Grab your calendar and tune in for all the details of what’s coming up in your area.
URL:https://www.thetouchpoint.org/event/around-about-midweek-9am/2025-12-02/
CATEGORIES:TouchPoint Radio
END:VEVENT
BEGIN:VEVENT
DTSTART;TZID=Europe/London:20251202T100000
DTEND;TZID=Europe/London:20251202T110000
DTSTAMP:20260420T005813
CREATED:20250616T104654Z
LAST-MODIFIED:20250617T135952Z
UID:10036649-1764669600-1764673200@www.thetouchpoint.org
SUMMARY:Community Roundup
DESCRIPTION:From 10AM onwards our Community RoundUp broadcasts great community shows from around the region featuring interviews with local groups\, services and individuals.
URL:https://www.thetouchpoint.org/event/community-roundup-10am/2025-12-02/
CATEGORIES:TouchPoint Radio
END:VEVENT
BEGIN:VEVENT
DTSTART;TZID=Europe/London:20251202T120000
DTEND;TZID=Europe/London:20251202T130000
DTSTAMP:20260420T005813
CREATED:20250616T103752Z
LAST-MODIFIED:20250617T135731Z
UID:10035769-1764676800-1764680400@www.thetouchpoint.org
SUMMARY:Listen Between The Lines (RPT)
DESCRIPTION:Juliet Richards shares books\, film and television at midday\, along with a run down of local cultural shows and events. That’s ‘Listen Between The Lines’ with Juliet at 12. This is a repeat of  last Thursday’s show.
URL:https://www.thetouchpoint.org/event/listen-between-the-lines-tuesday/2025-12-02/
CATEGORIES:TouchPoint Radio
END:VEVENT
BEGIN:VEVENT
DTSTART;TZID=Europe/London:20251202T130000
DTEND;TZID=Europe/London:20251202T133000
DTSTAMP:20260420T005813
CREATED:20250616T095054Z
LAST-MODIFIED:20250617T142925Z
UID:10028816-1764680400-1764682200@www.thetouchpoint.org
SUMMARY:Around & About (MIDWEEK) - 1pm
DESCRIPTION:Richard & Edward connect you to the heart of local events and stories—a comprehensive tour of your community.
URL:https://www.thetouchpoint.org/event/around-about-3-2/2025-12-02/
CATEGORIES:TouchPoint Radio
END:VEVENT
BEGIN:VEVENT
DTSTART;TZID=Europe/London:20251202T140000
DTEND;TZID=Europe/London:20251202T153000
DTSTAMP:20260420T005813
CREATED:20250616T103955Z
LAST-MODIFIED:20250617T135612Z
UID:10036030-1764684000-1764689400@www.thetouchpoint.org
SUMMARY:The Singalong (RPT)
DESCRIPTION:And at 2pm\, join Kat Fuller for ‘The Singalong’. From classic karaoke hits to your favourite showtunes\, curated to get you singing at the top of your lungs.
URL:https://www.thetouchpoint.org/event/the-singalong/2025-12-02/
CATEGORIES:TouchPoint Radio
END:VEVENT
BEGIN:VEVENT
DTSTART;TZID=Europe/London:20251202T190000
DTEND;TZID=Europe/London:20251202T203000
DTSTAMP:20260420T005813
CREATED:20250616T104147Z
LAST-MODIFIED:20250617T135550Z
UID:10036291-1764702000-1764707400@www.thetouchpoint.org
SUMMARY:The Ayub Khan Show (RPT)
DESCRIPTION:Tuesday evenings are dedicated to lovers of soul\, blues\, jazz and funk. At 7PM listen again to ‘The Ayub Khan Show’ as Ayub offers the best of smooth jazz\, blues and soul\, both classics and modern\, along with guests sharing community advice and wisdom.
URL:https://www.thetouchpoint.org/event/the-ayub-khan-show/2025-12-02/
CATEGORIES:TouchPoint Radio
END:VEVENT
BEGIN:VEVENT
DTSTART;TZID=Europe/London:20251202T203000
DTEND;TZID=Europe/London:20251202T223000
DTSTAMP:20260420T005813
CREATED:20250617T141411Z
LAST-MODIFIED:20250617T141411Z
UID:10037863-1764707400-1764714600@www.thetouchpoint.org
SUMMARY:Funky Blues
DESCRIPTION:Our Tuesday night music show is hosted by Steve Jenkins with his Funky Blues podcast: traditional blues\, funk and soul from 8:30PM.
URL:https://www.thetouchpoint.org/event/funky-blues/2025-12-02/
CATEGORIES:TouchPoint Radio
END:VEVENT
BEGIN:VEVENT
DTSTART;TZID=Europe/London:20251203T070000
DTEND;TZID=Europe/London:20251203T090000
DTSTAMP:20260420T005813
CREATED:20250616T085313Z
LAST-MODIFIED:20250617T140209Z
UID:10018584-1764745200-1764752400@www.thetouchpoint.org
SUMMARY:The Morning Show (LIVE)
DESCRIPTION:Wake up with TouchPoint Radio. Breakfast starts at 7am with John Searle’s “Morning Show”. Up-to-the-minute traffic and travel news\, weather reports great music throughout the morning whether you’re heading to work\, getting the kids ready for school\, or just enjoying a leisurely morning. If you have a birthday or anniversary shout out for yourself or a someone else\, send us a message on 07956 888 115.
URL:https://www.thetouchpoint.org/event/the-morning-show/2025-12-03/
CATEGORIES:TouchPoint Radio
END:VEVENT
BEGIN:VEVENT
DTSTART;TZID=Europe/London:20251203T090000
DTEND;TZID=Europe/London:20251203T093000
DTSTAMP:20260420T005813
CREATED:20250617T142900Z
LAST-MODIFIED:20250618T081021Z
UID:10039526-1764752400-1764754200@www.thetouchpoint.org
SUMMARY:Around & About (MIDWEEK) - 9am
DESCRIPTION:Around & About\, your daily guide to concerts\, events and activities taking place across the region. Richard & Edward connect you to the heart of local events and stories—a comprehensive tour of your community. Grab your calendar and tune in for all the details of what’s coming up in your area.
URL:https://www.thetouchpoint.org/event/around-about-midweek-9am/2025-12-03/
CATEGORIES:TouchPoint Radio
END:VEVENT
BEGIN:VEVENT
DTSTART;TZID=Europe/London:20251203T100000
DTEND;TZID=Europe/London:20251203T110000
DTSTAMP:20260420T005813
CREATED:20250616T104654Z
LAST-MODIFIED:20250617T135952Z
UID:10036650-1764756000-1764759600@www.thetouchpoint.org
SUMMARY:Community Roundup
DESCRIPTION:From 10AM onwards our Community RoundUp broadcasts great community shows from around the region featuring interviews with local groups\, services and individuals.
URL:https://www.thetouchpoint.org/event/community-roundup-10am/2025-12-03/
CATEGORIES:TouchPoint Radio
END:VEVENT
BEGIN:VEVENT
DTSTART;TZID=Europe/London:20251203T130000
DTEND;TZID=Europe/London:20251203T133000
DTSTAMP:20260420T005813
CREATED:20250616T095054Z
LAST-MODIFIED:20250617T142925Z
UID:10028817-1764766800-1764768600@www.thetouchpoint.org
SUMMARY:Around & About (MIDWEEK) - 1pm
DESCRIPTION:Richard & Edward connect you to the heart of local events and stories—a comprehensive tour of your community.
URL:https://www.thetouchpoint.org/event/around-about-3-2/2025-12-03/
CATEGORIES:TouchPoint Radio
END:VEVENT
BEGIN:VEVENT
DTSTART;TZID=Europe/London:20251203T140000
DTEND;TZID=Europe/London:20251203T150000
DTSTAMP:20260420T005813
CREATED:20250617T143640Z
LAST-MODIFIED:20250617T143640Z
UID:10040734-1764770400-1764774000@www.thetouchpoint.org
SUMMARY:Afternoon Concert
DESCRIPTION:Tune in for our weekly ‘Afternoon Concert’ at 2PM. We record local orchestral\, choral and chamber performances from around the region\, along with youth groups and local musicians\, showcasing talent from the rich tapestry of local music.
URL:https://www.thetouchpoint.org/event/afternoon-concert/2025-12-03/
CATEGORIES:TouchPoint Radio
END:VEVENT
BEGIN:VEVENT
DTSTART;TZID=Europe/London:20251203T200000
DTEND;TZID=Europe/London:20251203T223000
DTSTAMP:20260420T005813
CREATED:20250617T143842Z
LAST-MODIFIED:20250617T143842Z
UID:10040995-1764792000-1764801000@www.thetouchpoint.org
SUMMARY:Indie Spotlight
DESCRIPTION:Wednesday evenings is for lovers of independent and alternative music. From Britpop to Lo-Fi\, Garage to Electro\, Ells Richardson is spinning the tunes on his ‘Indie Spotlight’ from 8 till 10PM. Plus guests\, pub quiz challenges and chat.
URL:https://www.thetouchpoint.org/event/indie-spotlight/2025-12-03/
CATEGORIES:TouchPoint Radio
END:VEVENT
BEGIN:VEVENT
DTSTART;TZID=Europe/London:20251204T070000
DTEND;TZID=Europe/London:20251204T090000
DTSTAMP:20260420T005813
CREATED:20250616T093929Z
LAST-MODIFIED:20250617T135754Z
UID:10020129-1764831600-1764838800@www.thetouchpoint.org
SUMMARY:The Morning Brew (LIVE)
DESCRIPTION:Wake up with TouchPoint Radio. Breakfast starts at 7am with Richard Haywood’s ‘Morning Brew’. Up-to-the-minute traffic and travel news\, weather reports and great music throughout the morning whether you’re heading to work\, getting the kids ready for school\, or just enjoying a leisurely morning. If you have a request or birthday or anniversary shout out send us a message on 07956 888 115.
URL:https://www.thetouchpoint.org/event/the-morning-brew/2025-12-04/
CATEGORIES:TouchPoint Radio
END:VEVENT
BEGIN:VEVENT
DTSTART;TZID=Europe/London:20251204T090000
DTEND;TZID=Europe/London:20251204T093000
DTSTAMP:20260420T005813
CREATED:20250617T142900Z
LAST-MODIFIED:20250618T081021Z
UID:10039527-1764838800-1764840600@www.thetouchpoint.org
SUMMARY:Around & About (MIDWEEK) - 9am
DESCRIPTION:Around & About\, your daily guide to concerts\, events and activities taking place across the region. Richard & Edward connect you to the heart of local events and stories—a comprehensive tour of your community. Grab your calendar and tune in for all the details of what’s coming up in your area.
URL:https://www.thetouchpoint.org/event/around-about-midweek-9am/2025-12-04/
CATEGORIES:TouchPoint Radio
END:VEVENT
BEGIN:VEVENT
DTSTART;TZID=Europe/London:20251204T100000
DTEND;TZID=Europe/London:20251204T110000
DTSTAMP:20260420T005813
CREATED:20250616T104654Z
LAST-MODIFIED:20250617T135952Z
UID:10036651-1764842400-1764846000@www.thetouchpoint.org
SUMMARY:Community Roundup
DESCRIPTION:From 10AM onwards our Community RoundUp broadcasts great community shows from around the region featuring interviews with local groups\, services and individuals.
URL:https://www.thetouchpoint.org/event/community-roundup-10am/2025-12-04/
CATEGORIES:TouchPoint Radio
END:VEVENT
BEGIN:VEVENT
DTSTART;TZID=Europe/London:20251204T130000
DTEND;TZID=Europe/London:20251204T133000
DTSTAMP:20260420T005813
CREATED:20250616T095054Z
LAST-MODIFIED:20250617T142925Z
UID:10028818-1764853200-1764855000@www.thetouchpoint.org
SUMMARY:Around & About (MIDWEEK) - 1pm
DESCRIPTION:Richard & Edward connect you to the heart of local events and stories—a comprehensive tour of your community.
URL:https://www.thetouchpoint.org/event/around-about-3-2/2025-12-04/
CATEGORIES:TouchPoint Radio
END:VEVENT
BEGIN:VEVENT
DTSTART;TZID=Europe/London:20251204T190000
DTEND;TZID=Europe/London:20251204T210000
DTSTAMP:20260420T005813
CREATED:20250617T144016Z
LAST-MODIFIED:20250617T144016Z
UID:10041518-1764874800-1764882000@www.thetouchpoint.org
SUMMARY:Backstage Pass (LIVE)
DESCRIPTION:Join Kat Fuller and Juliet Richards at 7PM for ‘Backstage Pass’\, discussing theatre\, musicals and drama from around the region as well as the latest news from touring shows and the West End.
URL:https://www.thetouchpoint.org/event/backstage-pass-live/2025-12-04/
CATEGORIES:TouchPoint Radio
END:VEVENT
BEGIN:VEVENT
DTSTART;TZID=Europe/London:20251204T210000
DTEND;TZID=Europe/London:20251204T220000
DTSTAMP:20260420T005813
CREATED:20250617T144156Z
LAST-MODIFIED:20250617T144156Z
UID:10042040-1764882000-1764885600@www.thetouchpoint.org
SUMMARY:Listen Between The Lines
DESCRIPTION:Juliet Richards shares books\, film and television at midday\, along with a run down of local cultural shows and events. That’s ‘Listen Between The Lines’ with Juliet at 9pm.
URL:https://www.thetouchpoint.org/event/listen-between-the-lines/2025-12-04/
CATEGORIES:TouchPoint Radio
END:VEVENT
BEGIN:VEVENT
DTSTART;TZID=Europe/London:20251204T220000
DTEND;TZID=Europe/London:20251204T230000
DTSTAMP:20260420T005813
CREATED:20250617T144451Z
LAST-MODIFIED:20250617T144451Z
UID:10042301-1764885600-1764889200@www.thetouchpoint.org
SUMMARY:Musical Medley
DESCRIPTION:Complete your evening with our Musical Medley of the best music\, songs and tunes from our week on TouchPoint Radio\, along with friendly voices and community stories.
URL:https://www.thetouchpoint.org/event/musical-medley/2025-12-04/
CATEGORIES:TouchPoint Radio
END:VEVENT
BEGIN:VEVENT
DTSTART;TZID=Europe/London:20251205T070000
DTEND;TZID=Europe/London:20251205T090000
DTSTAMP:20260420T005813
CREATED:20250616T085313Z
LAST-MODIFIED:20250617T140209Z
UID:10018585-1764918000-1764925200@www.thetouchpoint.org
SUMMARY:The Morning Show (LIVE)
DESCRIPTION:Wake up with TouchPoint Radio. Breakfast starts at 7am with John Searle’s “Morning Show”. Up-to-the-minute traffic and travel news\, weather reports great music throughout the morning whether you’re heading to work\, getting the kids ready for school\, or just enjoying a leisurely morning. If you have a birthday or anniversary shout out for yourself or a someone else\, send us a message on 07956 888 115.
URL:https://www.thetouchpoint.org/event/the-morning-show/2025-12-05/
CATEGORIES:TouchPoint Radio
END:VEVENT
BEGIN:VEVENT
DTSTART;TZID=Europe/London:20251205T090000
DTEND;TZID=Europe/London:20251205T093000
DTSTAMP:20260420T005813
CREATED:20250617T142900Z
LAST-MODIFIED:20250618T081021Z
UID:10039528-1764925200-1764927000@www.thetouchpoint.org
SUMMARY:Around & About (MIDWEEK) - 9am
DESCRIPTION:Around & About\, your daily guide to concerts\, events and activities taking place across the region. Richard & Edward connect you to the heart of local events and stories—a comprehensive tour of your community. Grab your calendar and tune in for all the details of what’s coming up in your area.
URL:https://www.thetouchpoint.org/event/around-about-midweek-9am/2025-12-05/
CATEGORIES:TouchPoint Radio
END:VEVENT
END:VCALENDAR