BEGIN:VCALENDAR
VERSION:2.0
PRODID:-//TouchPoint Stansted - ECPv6.15.20//NONSGML v1.0//EN
CALSCALE:GREGORIAN
METHOD:PUBLISH
X-WR-CALNAME:TouchPoint Stansted
X-ORIGINAL-URL:https://www.thetouchpoint.org
X-WR-CALDESC:Events for TouchPoint Stansted
REFRESH-INTERVAL;VALUE=DURATION:PT1H
X-Robots-Tag:noindex
X-PUBLISHED-TTL:PT1H
BEGIN:VTIMEZONE
TZID:Europe/London
BEGIN:DAYLIGHT
TZOFFSETFROM:+0000
TZOFFSETTO:+0100
TZNAME:BST
DTSTART:20240331T010000
END:DAYLIGHT
BEGIN:STANDARD
TZOFFSETFROM:+0100
TZOFFSETTO:+0000
TZNAME:GMT
DTSTART:20241027T010000
END:STANDARD
BEGIN:DAYLIGHT
TZOFFSETFROM:+0000
TZOFFSETTO:+0100
TZNAME:BST
DTSTART:20250330T010000
END:DAYLIGHT
BEGIN:STANDARD
TZOFFSETFROM:+0100
TZOFFSETTO:+0000
TZNAME:GMT
DTSTART:20251026T010000
END:STANDARD
BEGIN:DAYLIGHT
TZOFFSETFROM:+0000
TZOFFSETTO:+0100
TZNAME:BST
DTSTART:20260329T010000
END:DAYLIGHT
BEGIN:STANDARD
TZOFFSETFROM:+0100
TZOFFSETTO:+0000
TZNAME:GMT
DTSTART:20261025T010000
END:STANDARD
END:VTIMEZONE
BEGIN:VEVENT
DTSTART;TZID=Europe/London:20251029T140000
DTEND;TZID=Europe/London:20251029T150000
DTSTAMP:20260420T023419
CREATED:20250617T143640Z
LAST-MODIFIED:20250617T143640Z
UID:10040729-1761746400-1761750000@www.thetouchpoint.org
SUMMARY:Afternoon Concert
DESCRIPTION:Tune in for our weekly ‘Afternoon Concert’ at 2PM. We record local orchestral\, choral and chamber performances from around the region\, along with youth groups and local musicians\, showcasing talent from the rich tapestry of local music.
URL:https://www.thetouchpoint.org/event/afternoon-concert/2025-10-29/
CATEGORIES:TouchPoint Radio
END:VEVENT
BEGIN:VEVENT
DTSTART;TZID=Europe/London:20251029T200000
DTEND;TZID=Europe/London:20251029T223000
DTSTAMP:20260420T023419
CREATED:20250617T143842Z
LAST-MODIFIED:20250617T143842Z
UID:10040990-1761768000-1761777000@www.thetouchpoint.org
SUMMARY:Indie Spotlight
DESCRIPTION:Wednesday evenings is for lovers of independent and alternative music. From Britpop to Lo-Fi\, Garage to Electro\, Ells Richardson is spinning the tunes on his ‘Indie Spotlight’ from 8 till 10PM. Plus guests\, pub quiz challenges and chat.
URL:https://www.thetouchpoint.org/event/indie-spotlight/2025-10-29/
CATEGORIES:TouchPoint Radio
END:VEVENT
BEGIN:VEVENT
DTSTART;TZID=Europe/London:20251030T070000
DTEND;TZID=Europe/London:20251030T090000
DTSTAMP:20260420T023419
CREATED:20250616T093929Z
LAST-MODIFIED:20250617T135754Z
UID:10020119-1761807600-1761814800@www.thetouchpoint.org
SUMMARY:The Morning Brew (LIVE)
DESCRIPTION:Wake up with TouchPoint Radio. Breakfast starts at 7am with Richard Haywood’s ‘Morning Brew’. Up-to-the-minute traffic and travel news\, weather reports and great music throughout the morning whether you’re heading to work\, getting the kids ready for school\, or just enjoying a leisurely morning. If you have a request or birthday or anniversary shout out send us a message on 07956 888 115.
URL:https://www.thetouchpoint.org/event/the-morning-brew/2025-10-30/
CATEGORIES:TouchPoint Radio
END:VEVENT
BEGIN:VEVENT
DTSTART;TZID=Europe/London:20251030T090000
DTEND;TZID=Europe/London:20251030T093000
DTSTAMP:20260420T023419
CREATED:20250617T142900Z
LAST-MODIFIED:20250618T081021Z
UID:10039502-1761814800-1761816600@www.thetouchpoint.org
SUMMARY:Around & About (MIDWEEK) - 9am
DESCRIPTION:Around & About\, your daily guide to concerts\, events and activities taking place across the region. Richard & Edward connect you to the heart of local events and stories—a comprehensive tour of your community. Grab your calendar and tune in for all the details of what’s coming up in your area.
URL:https://www.thetouchpoint.org/event/around-about-midweek-9am/2025-10-30/
CATEGORIES:TouchPoint Radio
END:VEVENT
BEGIN:VEVENT
DTSTART;TZID=Europe/London:20251030T100000
DTEND;TZID=Europe/London:20251030T110000
DTSTAMP:20260420T023419
CREATED:20250616T104654Z
LAST-MODIFIED:20250617T135952Z
UID:10036626-1761818400-1761822000@www.thetouchpoint.org
SUMMARY:Community Roundup
DESCRIPTION:From 10AM onwards our Community RoundUp broadcasts great community shows from around the region featuring interviews with local groups\, services and individuals.
URL:https://www.thetouchpoint.org/event/community-roundup-10am/2025-10-30/
CATEGORIES:TouchPoint Radio
END:VEVENT
BEGIN:VEVENT
DTSTART;TZID=Europe/London:20251030T130000
DTEND;TZID=Europe/London:20251030T133000
DTSTAMP:20260420T023419
CREATED:20250616T095054Z
LAST-MODIFIED:20250617T142925Z
UID:10028793-1761829200-1761831000@www.thetouchpoint.org
SUMMARY:Around & About (MIDWEEK) - 1pm
DESCRIPTION:Richard & Edward connect you to the heart of local events and stories—a comprehensive tour of your community.
URL:https://www.thetouchpoint.org/event/around-about-3-2/2025-10-30/
CATEGORIES:TouchPoint Radio
END:VEVENT
BEGIN:VEVENT
DTSTART;TZID=Europe/London:20251030T190000
DTEND;TZID=Europe/London:20251030T210000
DTSTAMP:20260420T023419
CREATED:20250617T144016Z
LAST-MODIFIED:20250617T144016Z
UID:10041513-1761850800-1761858000@www.thetouchpoint.org
SUMMARY:Backstage Pass (LIVE)
DESCRIPTION:Join Kat Fuller and Juliet Richards at 7PM for ‘Backstage Pass’\, discussing theatre\, musicals and drama from around the region as well as the latest news from touring shows and the West End.
URL:https://www.thetouchpoint.org/event/backstage-pass-live/2025-10-30/
CATEGORIES:TouchPoint Radio
END:VEVENT
BEGIN:VEVENT
DTSTART;TZID=Europe/London:20251030T210000
DTEND;TZID=Europe/London:20251030T220000
DTSTAMP:20260420T023419
CREATED:20250617T144156Z
LAST-MODIFIED:20250617T144156Z
UID:10042035-1761858000-1761861600@www.thetouchpoint.org
SUMMARY:Listen Between The Lines
DESCRIPTION:Juliet Richards shares books\, film and television at midday\, along with a run down of local cultural shows and events. That’s ‘Listen Between The Lines’ with Juliet at 9pm.
URL:https://www.thetouchpoint.org/event/listen-between-the-lines/2025-10-30/
CATEGORIES:TouchPoint Radio
END:VEVENT
BEGIN:VEVENT
DTSTART;TZID=Europe/London:20251030T220000
DTEND;TZID=Europe/London:20251030T230000
DTSTAMP:20260420T023419
CREATED:20250617T144451Z
LAST-MODIFIED:20250617T144451Z
UID:10042296-1761861600-1761865200@www.thetouchpoint.org
SUMMARY:Musical Medley
DESCRIPTION:Complete your evening with our Musical Medley of the best music\, songs and tunes from our week on TouchPoint Radio\, along with friendly voices and community stories.
URL:https://www.thetouchpoint.org/event/musical-medley/2025-10-30/
CATEGORIES:TouchPoint Radio
END:VEVENT
BEGIN:VEVENT
DTSTART;TZID=Europe/London:20251031T070000
DTEND;TZID=Europe/London:20251031T090000
DTSTAMP:20260420T023419
CREATED:20250616T085313Z
LAST-MODIFIED:20250617T140209Z
UID:10018570-1761894000-1761901200@www.thetouchpoint.org
SUMMARY:The Morning Show (LIVE)
DESCRIPTION:Wake up with TouchPoint Radio. Breakfast starts at 7am with John Searle’s “Morning Show”. Up-to-the-minute traffic and travel news\, weather reports great music throughout the morning whether you’re heading to work\, getting the kids ready for school\, or just enjoying a leisurely morning. If you have a birthday or anniversary shout out for yourself or a someone else\, send us a message on 07956 888 115.
URL:https://www.thetouchpoint.org/event/the-morning-show/2025-10-31/
CATEGORIES:TouchPoint Radio
END:VEVENT
BEGIN:VEVENT
DTSTART;TZID=Europe/London:20251031T090000
DTEND;TZID=Europe/London:20251031T093000
DTSTAMP:20260420T023419
CREATED:20250617T142900Z
LAST-MODIFIED:20250618T081021Z
UID:10039503-1761901200-1761903000@www.thetouchpoint.org
SUMMARY:Around & About (MIDWEEK) - 9am
DESCRIPTION:Around & About\, your daily guide to concerts\, events and activities taking place across the region. Richard & Edward connect you to the heart of local events and stories—a comprehensive tour of your community. Grab your calendar and tune in for all the details of what’s coming up in your area.
URL:https://www.thetouchpoint.org/event/around-about-midweek-9am/2025-10-31/
CATEGORIES:TouchPoint Radio
END:VEVENT
BEGIN:VEVENT
DTSTART;TZID=Europe/London:20251031T100000
DTEND;TZID=Europe/London:20251031T110000
DTSTAMP:20260420T023419
CREATED:20250616T104654Z
LAST-MODIFIED:20250617T135952Z
UID:10036627-1761904800-1761908400@www.thetouchpoint.org
SUMMARY:Community Roundup
DESCRIPTION:From 10AM onwards our Community RoundUp broadcasts great community shows from around the region featuring interviews with local groups\, services and individuals.
URL:https://www.thetouchpoint.org/event/community-roundup-10am/2025-10-31/
CATEGORIES:TouchPoint Radio
END:VEVENT
BEGIN:VEVENT
DTSTART;TZID=Europe/London:20251031T110000
DTEND;TZID=Europe/London:20251031T123000
DTSTAMP:20260420T023419
CREATED:20250617T151025Z
LAST-MODIFIED:20250617T151025Z
UID:10042818-1761908400-1761913800@www.thetouchpoint.org
SUMMARY:The Ayub Khan Show (LIVE)
DESCRIPTION:Tuesday evenings are dedicated to lovers of soul\, blues\, jazz and funk. At 7PM listen again to ‘The Ayub Khan Show’ as Ayub offers the best of smooth jazz\, blues and soul\, both classics and modern\, along with guests sharing community advice and wisdom.
URL:https://www.thetouchpoint.org/event/the-ayub-khan-show-live/2025-10-31/
CATEGORIES:TouchPoint Radio
END:VEVENT
BEGIN:VEVENT
DTSTART;TZID=Europe/London:20251031T130000
DTEND;TZID=Europe/London:20251031T133000
DTSTAMP:20260420T023419
CREATED:20250616T095054Z
LAST-MODIFIED:20250617T142925Z
UID:10028794-1761915600-1761917400@www.thetouchpoint.org
SUMMARY:Around & About (MIDWEEK) - 1pm
DESCRIPTION:Richard & Edward connect you to the heart of local events and stories—a comprehensive tour of your community.
URL:https://www.thetouchpoint.org/event/around-about-3-2/2025-10-31/
CATEGORIES:TouchPoint Radio
END:VEVENT
BEGIN:VEVENT
DTSTART;TZID=Europe/London:20251031T150000
DTEND;TZID=Europe/London:20251031T170000
DTSTAMP:20260420T023419
CREATED:20250617T151241Z
LAST-MODIFIED:20250617T151241Z
UID:10043079-1761922800-1761930000@www.thetouchpoint.org
SUMMARY:Back in Time
DESCRIPTION:At 3 o’clock\, Andy Piggott is on air with ‘Back in Time’\, a blast-from-the-past collection of classic tracks from decades past\, with a different period each week from the 50s to the naughties. Plus fascinating facts\, memories and personal stories from times gone by.
URL:https://www.thetouchpoint.org/event/back-in-time/2025-10-31/
CATEGORIES:TouchPoint Radio
END:VEVENT
BEGIN:VEVENT
DTSTART;TZID=Europe/London:20251031T170000
DTEND;TZID=Europe/London:20251031T190000
DTSTAMP:20260420T023419
CREATED:20250616T100111Z
LAST-MODIFIED:20250617T151405Z
UID:10031325-1761930000-1761937200@www.thetouchpoint.org
SUMMARY:Homeward Bound (LIVE)
DESCRIPTION:Friday’s drivetime show is ‘Homeward Bound with Rob Furber’. Live at five from the studio\, with traffic updates\, the latest local news and an eclectic mix of rock and roll\, classic pop and fun music to get you home and ready for the evening. 5PM through till 7PM every Friday.
URL:https://www.thetouchpoint.org/event/homeward-bound-2/2025-10-31/
CATEGORIES:TouchPoint Radio
END:VEVENT
BEGIN:VEVENT
DTSTART;TZID=Europe/London:20251031T200000
DTEND;TZID=Europe/London:20251031T210000
DTSTAMP:20260420T023419
CREATED:20250617T151523Z
LAST-MODIFIED:20250617T151523Z
UID:10043602-1761940800-1761944400@www.thetouchpoint.org
SUMMARY:The Spin Show (RPT)
DESCRIPTION:At 8PM enjoy some great music from Tommy G on his ‘Spin Show’. Tommy lives with autism but that hasn’t stopped him doing what he loves\, which is mixing great pop and dance tracks on TouchPoint Radio.
URL:https://www.thetouchpoint.org/event/the-spin-show-rpt/2025-10-31/
CATEGORIES:TouchPoint Radio
END:VEVENT
BEGIN:VEVENT
DTSTART;TZID=Europe/London:20251101T080000
DTEND;TZID=Europe/London:20251101T100000
DTSTAMP:20260420T023419
CREATED:20250617T151801Z
LAST-MODIFIED:20250617T151801Z
UID:10043863-1761984000-1761991200@www.thetouchpoint.org
SUMMARY:Best of Breakfast
DESCRIPTION:Start your weekend with TouchPoint Radio. The weekend begins with the ‘Best of Breakfast’. Join John Searle & Richard Haywood with all the best bits from their weekday breakfast shows from 8AM.
URL:https://www.thetouchpoint.org/event/best-of-breakfast/2025-11-01/
CATEGORIES:TouchPoint Radio
END:VEVENT
BEGIN:VEVENT
DTSTART;TZID=Europe/London:20251101T100000
DTEND;TZID=Europe/London:20251101T103000
DTSTAMP:20260420T023419
CREATED:20250617T153525Z
LAST-MODIFIED:20250617T153525Z
UID:10045429-1761991200-1761993000@www.thetouchpoint.org
SUMMARY:Around & About (WEEKEND) - 10am
DESCRIPTION:At 10AM it’s Around & About\, your weekend guide to concerts\, events and activities taking place across the region. Grab your calendar and tune in for all the details of what’s coming up in your area.
URL:https://www.thetouchpoint.org/event/around-about-weekend-10am/2025-11-01/
CATEGORIES:TouchPoint Radio
END:VEVENT
BEGIN:VEVENT
DTSTART;TZID=Europe/London:20251101T110000
DTEND;TZID=Europe/London:20251101T120000
DTSTAMP:20260420T023419
CREATED:20250617T153758Z
LAST-MODIFIED:20250617T153837Z
UID:10046996-1761994800-1761998400@www.thetouchpoint.org
SUMMARY:Weekend Community Roundup
DESCRIPTION:From 11AM onwards our Community RoundUp broadcasts great community shows from around the region featuring interviews with local groups\, services and individuals.
URL:https://www.thetouchpoint.org/event/weekend-community-roundup/2025-11-01/
CATEGORIES:TouchPoint Radio
END:VEVENT
BEGIN:VEVENT
DTSTART;TZID=Europe/London:20251101T173000
DTEND;TZID=Europe/London:20251101T190000
DTSTAMP:20260420T023419
CREATED:20250617T154134Z
LAST-MODIFIED:20250708T144119Z
UID:10047779-1762018200-1762023600@www.thetouchpoint.org
SUMMARY:The Singalong
DESCRIPTION:Join Kat Fuller for ‘The Singalong’. From classic karaoke hits to your favourite showtunes\, curated to get you singing at the top of your lungs. \nBACK TO LIST
URL:https://www.thetouchpoint.org/event/the-singalong-2/2025-11-01/
CATEGORIES:TouchPoint Radio
END:VEVENT
BEGIN:VEVENT
DTSTART;TZID=Europe/London:20251103T070000
DTEND;TZID=Europe/London:20251103T090000
DTSTAMP:20260420T023419
CREATED:20250616T085313Z
LAST-MODIFIED:20250617T140209Z
UID:10018571-1762153200-1762160400@www.thetouchpoint.org
SUMMARY:The Morning Show (LIVE)
DESCRIPTION:Wake up with TouchPoint Radio. Breakfast starts at 7am with John Searle’s “Morning Show”. Up-to-the-minute traffic and travel news\, weather reports great music throughout the morning whether you’re heading to work\, getting the kids ready for school\, or just enjoying a leisurely morning. If you have a birthday or anniversary shout out for yourself or a someone else\, send us a message on 07956 888 115.
URL:https://www.thetouchpoint.org/event/the-morning-show/2025-11-03/
CATEGORIES:TouchPoint Radio
END:VEVENT
BEGIN:VEVENT
DTSTART;TZID=Europe/London:20251103T090000
DTEND;TZID=Europe/London:20251103T093000
DTSTAMP:20260420T023419
CREATED:20250617T142900Z
LAST-MODIFIED:20250618T081021Z
UID:10039504-1762160400-1762162200@www.thetouchpoint.org
SUMMARY:Around & About (MIDWEEK) - 9am
DESCRIPTION:Around & About\, your daily guide to concerts\, events and activities taking place across the region. Richard & Edward connect you to the heart of local events and stories—a comprehensive tour of your community. Grab your calendar and tune in for all the details of what’s coming up in your area.
URL:https://www.thetouchpoint.org/event/around-about-midweek-9am/2025-11-03/
CATEGORIES:TouchPoint Radio
END:VEVENT
BEGIN:VEVENT
DTSTART;TZID=Europe/London:20251103T100000
DTEND;TZID=Europe/London:20251103T110000
DTSTAMP:20260420T023419
CREATED:20250616T104654Z
LAST-MODIFIED:20250617T135952Z
UID:10036628-1762164000-1762167600@www.thetouchpoint.org
SUMMARY:Community Roundup
DESCRIPTION:From 10AM onwards our Community RoundUp broadcasts great community shows from around the region featuring interviews with local groups\, services and individuals.
URL:https://www.thetouchpoint.org/event/community-roundup-10am/2025-11-03/
CATEGORIES:TouchPoint Radio
END:VEVENT
BEGIN:VEVENT
DTSTART;TZID=Europe/London:20251103T110000
DTEND;TZID=Europe/London:20251103T130000
DTSTAMP:20260420T023419
CREATED:20250616T095522Z
LAST-MODIFIED:20250617T135859Z
UID:10030282-1762167600-1762174800@www.thetouchpoint.org
SUMMARY:Backstage Pass (RPT)
DESCRIPTION:Join Kat Fuller and Juliet Richards at 11AM for ‘Backstage Pass’\, discussing theatre\, musicals and drama from around the region as well as the latest news from touring shows and the West End.
URL:https://www.thetouchpoint.org/event/backstage-pass-2/2025-11-03/
CATEGORIES:TouchPoint Radio
END:VEVENT
BEGIN:VEVENT
DTSTART;TZID=Europe/London:20251103T130000
DTEND;TZID=Europe/London:20251103T133000
DTSTAMP:20260420T023419
CREATED:20250616T095054Z
LAST-MODIFIED:20250617T142925Z
UID:10028795-1762174800-1762176600@www.thetouchpoint.org
SUMMARY:Around & About (MIDWEEK) - 1pm
DESCRIPTION:Richard & Edward connect you to the heart of local events and stories—a comprehensive tour of your community.
URL:https://www.thetouchpoint.org/event/around-about-3-2/2025-11-03/
CATEGORIES:TouchPoint Radio
END:VEVENT
BEGIN:VEVENT
DTSTART;TZID=Europe/London:20251103T151500
DTEND;TZID=Europe/London:20251103T161500
DTSTAMP:20260420T023419
CREATED:20250616T095409Z
LAST-MODIFIED:20250617T135504Z
UID:10030021-1762182900-1762186500@www.thetouchpoint.org
SUMMARY:The Spin Show (LIVE)
DESCRIPTION:At 3:15 enjoy some great music from Tommy G on his ‘Spin Show’. Tommy lives with autism but that hasn’t stopped him doing what he loves\, which is mixing great pop and dance tracks on TouchPoint Radio.
URL:https://www.thetouchpoint.org/event/the-spin-show/2025-11-03/
CATEGORIES:TouchPoint Radio
END:VEVENT
BEGIN:VEVENT
DTSTART;TZID=Europe/London:20251103T170000
DTEND;TZID=Europe/London:20251103T190000
DTSTAMP:20260420T023419
CREATED:20250616T095911Z
LAST-MODIFIED:20250617T150109Z
UID:10030804-1762189200-1762196400@www.thetouchpoint.org
SUMMARY:Homeward Bound (LIVE)
DESCRIPTION:Monday’s drivetime show is ‘Homeward Bound with Rob Furber’. Live at five from the studio\, with traffic updates\, the latest local news and an eclectic mix of rock and roll\, classic pop and fun music to get you home and ready for the evening. 5PM through till 7PM every Monday.
URL:https://www.thetouchpoint.org/event/homeward-bound/2025-11-03/
CATEGORIES:TouchPoint Radio
END:VEVENT
BEGIN:VEVENT
DTSTART;TZID=Europe/London:20251103T200000
DTEND;TZID=Europe/London:20251103T220000
DTSTAMP:20260420T023419
CREATED:20250616T100229Z
LAST-MODIFIED:20250617T135345Z
UID:10031588-1762200000-1762207200@www.thetouchpoint.org
SUMMARY:Amped & Loaded
DESCRIPTION:Monday evenings is for rock enthusiasts. Join Nick Charleston at 8pm for ‘Amped & Loaded’ – 2 hours of classic and prog rock\, followed by something a little heavier for metal fans.
URL:https://www.thetouchpoint.org/event/amped-loaded/2025-11-03/
CATEGORIES:TouchPoint Radio
END:VEVENT
BEGIN:VEVENT
DTSTART;TZID=Europe/London:20251104T070000
DTEND;TZID=Europe/London:20251104T090000
DTSTAMP:20260420T023419
CREATED:20250616T093929Z
LAST-MODIFIED:20250617T135754Z
UID:10020120-1762239600-1762246800@www.thetouchpoint.org
SUMMARY:The Morning Brew (LIVE)
DESCRIPTION:Wake up with TouchPoint Radio. Breakfast starts at 7am with Richard Haywood’s ‘Morning Brew’. Up-to-the-minute traffic and travel news\, weather reports and great music throughout the morning whether you’re heading to work\, getting the kids ready for school\, or just enjoying a leisurely morning. If you have a request or birthday or anniversary shout out send us a message on 07956 888 115.
URL:https://www.thetouchpoint.org/event/the-morning-brew/2025-11-04/
CATEGORIES:TouchPoint Radio
END:VEVENT
END:VCALENDAR