BEGIN:VCALENDAR
VERSION:2.0
PRODID:-//TouchPoint Stansted - ECPv6.15.20//NONSGML v1.0//EN
CALSCALE:GREGORIAN
METHOD:PUBLISH
X-ORIGINAL-URL:https://www.thetouchpoint.org
X-WR-CALDESC:Events for TouchPoint Stansted
REFRESH-INTERVAL;VALUE=DURATION:PT1H
X-Robots-Tag:noindex
X-PUBLISHED-TTL:PT1H
BEGIN:VTIMEZONE
TZID:Europe/London
BEGIN:DAYLIGHT
TZOFFSETFROM:+0000
TZOFFSETTO:+0100
TZNAME:BST
DTSTART:20260329T010000
END:DAYLIGHT
BEGIN:STANDARD
TZOFFSETFROM:+0100
TZOFFSETTO:+0000
TZNAME:GMT
DTSTART:20261025T010000
END:STANDARD
BEGIN:DAYLIGHT
TZOFFSETFROM:+0000
TZOFFSETTO:+0100
TZNAME:BST
DTSTART:20270328T010000
END:DAYLIGHT
BEGIN:STANDARD
TZOFFSETFROM:+0100
TZOFFSETTO:+0000
TZNAME:GMT
DTSTART:20271031T010000
END:STANDARD
BEGIN:DAYLIGHT
TZOFFSETFROM:+0000
TZOFFSETTO:+0100
TZNAME:BST
DTSTART:20280326T010000
END:DAYLIGHT
BEGIN:STANDARD
TZOFFSETFROM:+0100
TZOFFSETTO:+0000
TZNAME:GMT
DTSTART:20281029T010000
END:STANDARD
END:VTIMEZONE
BEGIN:VEVENT
DTSTART;TZID=Europe/London:20270419T070000
DTEND;TZID=Europe/London:20270419T090000
DTSTAMP:20260420T083335
CREATED:20250616T085313Z
LAST-MODIFIED:20250617T140209Z
UID:10018799-1808118000-1808125200@www.thetouchpoint.org
SUMMARY:The Morning Show (LIVE)
DESCRIPTION:Wake up with TouchPoint Radio. Breakfast starts at 7am with John Searle’s “Morning Show”. Up-to-the-minute traffic and travel news\, weather reports great music throughout the morning whether you’re heading to work\, getting the kids ready for school\, or just enjoying a leisurely morning. If you have a birthday or anniversary shout out for yourself or a someone else\, send us a message on 07956 888 115.
URL:https://www.thetouchpoint.org/event/the-morning-show/2027-04-19/
CATEGORIES:TouchPoint Radio
END:VEVENT
BEGIN:VEVENT
DTSTART;TZID=Europe/London:20270419T090000
DTEND;TZID=Europe/London:20270419T093000
DTSTAMP:20260420T083335
CREATED:20250617T142900Z
LAST-MODIFIED:20250618T081021Z
UID:10039884-1808125200-1808127000@www.thetouchpoint.org
SUMMARY:Around & About (MIDWEEK) - 9am
DESCRIPTION:Around & About\, your daily guide to concerts\, events and activities taking place across the region. Richard & Edward connect you to the heart of local events and stories—a comprehensive tour of your community. Grab your calendar and tune in for all the details of what’s coming up in your area.
URL:https://www.thetouchpoint.org/event/around-about-midweek-9am/2027-04-19/
CATEGORIES:TouchPoint Radio
END:VEVENT
BEGIN:VEVENT
DTSTART;TZID=Europe/London:20270419T100000
DTEND;TZID=Europe/London:20270419T110000
DTSTAMP:20260420T083335
CREATED:20250616T104654Z
LAST-MODIFIED:20250617T135952Z
UID:10037008-1808128800-1808132400@www.thetouchpoint.org
SUMMARY:Community Roundup
DESCRIPTION:From 10AM onwards our Community RoundUp broadcasts great community shows from around the region featuring interviews with local groups\, services and individuals.
URL:https://www.thetouchpoint.org/event/community-roundup-10am/2027-04-19/
CATEGORIES:TouchPoint Radio
END:VEVENT
BEGIN:VEVENT
DTSTART;TZID=Europe/London:20270419T110000
DTEND;TZID=Europe/London:20270419T130000
DTSTAMP:20260420T083335
CREATED:20250616T095522Z
LAST-MODIFIED:20250617T135859Z
UID:10030358-1808132400-1808139600@www.thetouchpoint.org
SUMMARY:Backstage Pass (RPT)
DESCRIPTION:Join Kat Fuller and Juliet Richards at 11AM for ‘Backstage Pass’\, discussing theatre\, musicals and drama from around the region as well as the latest news from touring shows and the West End.
URL:https://www.thetouchpoint.org/event/backstage-pass-2/2027-04-19/
CATEGORIES:TouchPoint Radio
END:VEVENT
BEGIN:VEVENT
DTSTART;TZID=Europe/London:20270419T130000
DTEND;TZID=Europe/London:20270419T133000
DTSTAMP:20260420T083335
CREATED:20250616T095054Z
LAST-MODIFIED:20250617T142925Z
UID:10029175-1808139600-1808141400@www.thetouchpoint.org
SUMMARY:Around & About (MIDWEEK) - 1pm
DESCRIPTION:Richard & Edward connect you to the heart of local events and stories—a comprehensive tour of your community.
URL:https://www.thetouchpoint.org/event/around-about-3-2/2027-04-19/
CATEGORIES:TouchPoint Radio
END:VEVENT
BEGIN:VEVENT
DTSTART;TZID=Europe/London:20270419T151500
DTEND;TZID=Europe/London:20270419T161500
DTSTAMP:20260420T083335
CREATED:20250616T095409Z
LAST-MODIFIED:20250617T135504Z
UID:10030097-1808147700-1808151300@www.thetouchpoint.org
SUMMARY:The Spin Show (LIVE)
DESCRIPTION:At 3:15 enjoy some great music from Tommy G on his ‘Spin Show’. Tommy lives with autism but that hasn’t stopped him doing what he loves\, which is mixing great pop and dance tracks on TouchPoint Radio.
URL:https://www.thetouchpoint.org/event/the-spin-show/2027-04-19/
CATEGORIES:TouchPoint Radio
END:VEVENT
BEGIN:VEVENT
DTSTART;TZID=Europe/London:20270419T170000
DTEND;TZID=Europe/London:20270419T190000
DTSTAMP:20260420T083335
CREATED:20250616T095911Z
LAST-MODIFIED:20250617T150109Z
UID:10030880-1808154000-1808161200@www.thetouchpoint.org
SUMMARY:Homeward Bound (LIVE)
DESCRIPTION:Monday’s drivetime show is ‘Homeward Bound with Rob Furber’. Live at five from the studio\, with traffic updates\, the latest local news and an eclectic mix of rock and roll\, classic pop and fun music to get you home and ready for the evening. 5PM through till 7PM every Monday.
URL:https://www.thetouchpoint.org/event/homeward-bound/2027-04-19/
CATEGORIES:TouchPoint Radio
END:VEVENT
BEGIN:VEVENT
DTSTART;TZID=Europe/London:20270419T200000
DTEND;TZID=Europe/London:20270419T220000
DTSTAMP:20260420T083335
CREATED:20250616T100229Z
LAST-MODIFIED:20250617T135345Z
UID:10031664-1808164800-1808172000@www.thetouchpoint.org
SUMMARY:Amped & Loaded
DESCRIPTION:Monday evenings is for rock enthusiasts. Join Nick Charleston at 8pm for ‘Amped & Loaded’ – 2 hours of classic and prog rock\, followed by something a little heavier for metal fans.
URL:https://www.thetouchpoint.org/event/amped-loaded/2027-04-19/
CATEGORIES:TouchPoint Radio
END:VEVENT
END:VCALENDAR